BEGIN:VCALENDAR
VERSION:2.0
PRODID:-//https://techplay.jp//JP
CALSCALE:GREGORIAN
METHOD:PUBLISH
X-WR-CALDESC:【最新事例あり】SNS運用とSNS広告でブランデ
 ィングから獲得を可能にするマーケティング戦略
X-WR-CALNAME:【最新事例あり】SNS運用とSNS広告でブランデ
 ィングから獲得を可能にするマーケティング戦略
X-WR-TIMEZONE:Asia/Tokyo
BEGIN:VTIMEZONE
TZID:Asia/Tokyo
BEGIN:STANDARD
DTSTART:19700101T000000
TZOFFSETFROM:+0900
TZOFFSETTO:+0900
TZNAME:JST
END:STANDARD
END:VTIMEZONE
BEGIN:VEVENT
UID:838795@techplay.jp
SUMMARY:【最新事例あり】SNS運用とSNS広告でブランディン
 グから獲得を可能にするマーケティング戦略
DTSTART;TZID=Asia/Tokyo:20211207T140000
DTEND;TZID=Asia/Tokyo:20211207T153000
DTSTAMP:20260420T012544Z
CREATED:20211116T123910Z
DESCRIPTION:イベント詳細はこちら\nhttps://techplay.jp/event/83879
 5?utm_medium=referral&utm_source=ics&utm_campaign=ics\n\n【最新事例
 あり】SNS運用とSNS広告でブランディングから獲得を可
 能にするマーケティング戦略\n▼このような方にオス
 スメです\n\n自社でSNSマーケティングが出来ていない集
 客担当者\nまだSNSマーケティングに対しての必要性が
 理解できていない経営層の方\n部下にSNS運用を一任し
 てしまっているマネージメント層の方\nSNS広告で新規
 獲得やブランディングを始めたい方\nリスティング広
 告と合わせてSNS広告も取り組みたい方\nSNS広告運用事
 例を知りたい方\n\n▼このウェビナーで学べること\n\nSN
 Sマーケティングの重要性\nSNSの運用戦略の立て方\nSNS
 を活用したキャンペーン施策について\nSNS広告の種類
 や最新動向\nSNS広告集客のポイントなど\n\n▼当日のプ
 ログラム\n＜第一部＞14:00-14:40：株式会社BES\n企業とし
 てなるべく早く取り組むべきSNSマーケティングとは– 
 効率化を図る社内体制から実際の運用テクニックまで 
 –\n今後BtoB、BtoCに関わらず必須になってくるであろう
 SNSマーケティング。社内でSNS運用をしつつも、誰かが
 メイン業務の片手間でやっている、部署の誰かに一任
 して何も戦略なく運用している、そんな企業が非常に
 多いです。\nプライベートで利用するのとビジネス活
 用するのでは全く違います。マネージメント層も実務
 者もしっかりこのことを理解する必要があります。ま
 だ多くの会社がSNSマーケティングをフル活用できてい
 ない今、競合よりも早く始めることで中長期的に一歩
 も二歩もリードする可能性が見えてきます。\n中長期
 的に考えるSNS自社運用と短期的にブーストしたい場合
 の方法を解説いたします。\n\n ＜第二部＞14:40-15:20： 
 株式会社ギャプライズ\n2ヵ月で3\,000件以上のコンバー
 ジョンを獲得したSNS広告事例\n年々消費者のSNS活用が
 進む中で、SNS広告は獲得やブランディング施策に効果
 的です。\n今回は、2ヵ月で3\,000件以上のコンバージョ
 ンを獲得した事例を含め、SNS広告事例や各広告媒体を
 運用するメリットなどをご紹介いたします。\n \n▼登
 壇者\n \n田中 千晶（Tanaka Chiaki）\n株式会社BES　代表取
 締役社長2009年、大学在学中に会社を設立し、1年半で
 大手企業、中小企業50社と取引をする。Webプロモーシ
 ョン支援を得意とし、特にSNS活用支援で多くの実績を
 もつ。2012年から全国各地でセミナーを精力的に実施。
 シリコンバレーのFacebook本社やTwitter本社へ毎年出向い
 て直接SNSの最先端情報を仕入れてきている。角川出版
 社、マイナビ社、技術評論社、翔泳社、インプレス社
 でマーケティング支援の書籍を6冊出版。連載も7社で
 行う。自身のラジオ番組、パーソナリティとしても活
 動し、SNSの最新情報を届けている。\n- 株式会社BES【SN
 S SCHOOL】のご紹介 -企業様ごとにカリキュラムをカスタ
 マイズし、運用・コンサル・研修 を一気通貫で行うプ
 ログラムです。\n今までのSNS運用代行で個別にかかっ
 ていたコストを大幅に削減し、企業にとって一生モノ
 の財産になる、人材のスキルアップを実現します。受
 講者数総勢10\,000人以上! 200社以上の研修実績があり、
 すでに数十社の企業に成果を実感頂いています。\n\nさ
 らに！以下の条件を満たすとSNS SCHOOLを実質無料で受講
 することができます！・採用5年以内・35歳未満の正規
 労働者が5名以上いらっしゃる企業様→人材開発支援助
 成金が利用できます！・常時使用する従業員の数5人以
 下の商業・サービス業の企業様・常時使用する従業員
 の数20人以下の宿泊業・娯楽業・製造業・その他の企
 業様→小規模事業者持続化補助金が利用できます！\n
 詳しくはセミナー内でご説明いたします。\n\n\n \n高瀬
  裕理（Takase Yusuke）\n株式会社ギャプライズ デジタル
 広告事業部 部長外資系企業や日系大手IT企業を経て2015
 年ギャプライズ入社。海外ソリューションのセールス
 やカスタマーサクセス、新規パートナー開拓など様々
 な業務を経験し、2019年より現職。現在は広告運用業務
 やアドテクノロジー販売を手掛けるデジタル広告事業
 部の責任者として活動。広告運用取扱高は前年比30％
 以上の成長を続けるなど事業が拡大中。特にSNS運用が
 急拡大しており、Facebook広告の取扱高は前年比170％と
 なるなど急成長を続けている。\n株式会社ギャプライ
 ズについて\n弊社はデジタルマーケティング支援会社
 です。イスラエルを中心とした世界中のマーケティン
 グツールを取り扱うほか、Web広告運用やコンサルティ
 ング、Webサイト最適化など全てのプロセスをカバーし
 、企業様の課題解決のご支援をしています。500社以上
 の国内企業の広告運用やLP制作を支援してきた経験と
 世界中のツールを提供しているギャプライズだからこ
 そ提案出来るWeb広告戦略があります。\n▼Web広告運用
 サービスの特徴・リスティング広告(Google広告/Yahoo!広
 告)、SNS広告(Facebook広告/Twitter広告/LINE広告/TikTok広告/Lin
 kedIn広告)、各種DSP広告など多様な媒体の運用をサポー
 ト。認知から獲得まで課題や目的に応じた全てのチャ
 ネルに対応します。・ボトルネックの早期発見から改
 善を行うことで、リプレイス後の改善率が90％を超え
 ています。\n▼セミナー詳細\n\n【日程】 12月7日（火
 ）14:00～15:30\n【タイムスケジュール】14:00-14:40　株式
 会社BES14:40-15:20　株式会社ギャプライズ15:20-15:30　質疑
 応答など\n【定員】100名\n\n【注意事項】\nWEBのみの開
 催となりますので、ご了承ください。。エントリーい
 ただいた方に、\n前日までにWEBセミナー開催のURLをお
 送りします。※WEBツール：Zoom\n競合、同業社様（求人
 広告代理店、ウェブ広告代理店等）のご参加はお断り
 いたします。\nお申し込み後にやむを得ずご欠席され
 る場合は、\nお手数ですが前日までに（info@bes-japan.jp　
 担当:須沢）宛にご連絡ください。\n
LOCATION:オンライン
URL:https://techplay.jp/event/838795?utm_medium=referral&utm_source=ics&utm
 _campaign=ics
END:VEVENT
END:VCALENDAR
