BEGIN:VCALENDAR
VERSION:2.0
PRODID:-//https://techplay.jp//JP
CALSCALE:GREGORIAN
METHOD:PUBLISH
X-WR-CALDESC:LayerX CTO 松本氏 x Souzoh CTO 名村が語る「エンジ
 ニアのこれから」
X-WR-CALNAME:LayerX CTO 松本氏 x Souzoh CTO 名村が語る「エンジ
 ニアのこれから」
X-WR-TIMEZONE:Asia/Tokyo
BEGIN:VTIMEZONE
TZID:Asia/Tokyo
BEGIN:STANDARD
DTSTART:19700101T000000
TZOFFSETFROM:+0900
TZOFFSETTO:+0900
TZNAME:JST
END:STANDARD
END:VTIMEZONE
BEGIN:VEVENT
UID:838820@techplay.jp
SUMMARY:LayerX CTO 松本氏 x Souzoh CTO 名村が語る「エンジニ
 アのこれから」
DTSTART;TZID=Asia/Tokyo:20211129T193000
DTEND;TZID=Asia/Tokyo:20211129T203000
DTSTAMP:20260420T214321Z
CREATED:20211116T141336Z
DESCRIPTION:イベント詳細はこちら\nhttps://techplay.jp/event/83882
 0?utm_medium=referral&utm_source=ics&utm_campaign=ics\n\nイベント概
 要\n本イベントは株式会社LayerX 代表取締役CTOの松本勇
 気氏と株式会社ソウゾウ 取締役CTOの名村卓が、エンジ
 ニアを取り巻く環境、エンジニアの市場価値や評価、
 エンジニアの教育、など幅広いテーマで「エンジニア
 のこれから」についてディスカッションするイベント
 です。\n複数プロダクト・組織の立ち上げ、拡大に携
 わってきた二人に、エンジニアのこれからについてあ
 れこれトークしていただきます。\nQ&Aも随時受け付け
 る予定です。皆さまのご参加をお待ちしております！\
 nこんな方におすすめ\n\n現在エンジニアとして働いて
 いる方\n現在EMやCTOとして働いている方\nこれからのエ
 ンジニア市場について気になる方\n中長期的なキャリ
 アについてお悩みの方\n\n申込方法\nイベントの視聴を
 ご希望の方は、当connpassイベントページにて申し込み
 してください。\n※当イベントの配信URLは、イベント
 開催日に connpass 経由でご連絡いたします。\n当日の流
 れ\n\n\n\n時間\nコンテンツ\nテーマ\n\n\n\n\n19:20 - 19:30\n開
 場（オンライン）\n\n\n\n19:30 - 20:30\nパネルディスカッ
 ション「エンジニアのこれから」\nエンジニアを取り
 巻く環境、エンジニアの市場価値や評価、エンジニア
 の教育。これからの変化について2人はどう考えている
 のか、など\n\n\n\n※進行状況によっては延長の可能性
 もございます。予めご了承ください。\n登壇者\n松本 
 勇気\n株式会社LayerX 代表取締役 CTO\nLayerXではCTO業と三
 井物産デジタルアセットマネジメント、LayerX Labsを担
 当、コードも書いてます。LayerXが10年後も技術を強み
 にできているよう組織・技術・事業それぞれの観点か
 ら組織を引っ張っていきたい所存。コロナ禍で変わろ
 うとする日本の企業や行政を支えていきたい思いからL
 ayeXに来ました。最近の趣味は筋トレとサウナと料理。
 好きな行動指針は「Be Animal」、全員が自分の意思と力
 を発揮できるチームが好き。\nhttps://twitter.com/y_matsuwitte
 r\n名村 卓\n株式会社ソウゾウ 取締役CTO\n受託開発経験
 を経て、2004年株式会社サイバーエージェント入社。各
 種メディアやゲームなどの新規事業立ち上げの開発を
 担当。2016年に株式会社メルカリ入社。USに出向し、US
 のサービス開発を担当。2017年4月CTO就任。2021年1月より
 現職。\nhttps://twitter.com/snamura\nLayerXについて\n「すべて
 の経済活動を、デジタル化する。」をミッションに、
 業務や生産をはじめとした経済活動の摩擦を解消し、
 この国の課題である生産性向上を実現するべく、様々
 な産業のDX（デジタルトランスフォーメーション）を
 推進しています。2021年1月には、請求書の受け取りか
 ら経理の会計処理・支払処理を一気通貫で自動化する
 「LayerX インボイス」をリリースし、経理DXを支援して
 います。。\nLayerX 採用情報\nLayerX Company Deck\nLayerX エン
 ジニアブログ\nlayerX Podcast LayerXNOW\nSouzohとは\n株式会社
 ソウゾウは、株式会社メルカリにおける新規事業の企
 画・開発・運営を担うグループ会社です。2021年1月28日
 に設立し、現在はEコマースプラットフォームである「
 メルカリShops」を手がけています。\n株式会社ソウゾウ
  コーポレートサイト\n株式会社ソウゾウ Twitter\nSouzoh.fm
 \n連載：「メルカリShops」プレオープンまでの開発の裏
 側 | メルカリエンジニアリング\n行動規範・プライバ
 シーポリシー\n当イベントは、参加者と情報を共有す
 るための場です。そのため、主催者を含む全ての参加
 者は下記ページに記載される行動規範に同意していた
 だく必要があります。ご理解ご協力をお願いいたしま
 す。\n何か困ったことなどありましたら、当イベント
 ページの「イベントへのお問い合わせ」からご連絡く
 ださい。\nメルカリグループ 行動規範\nメルカリグル
 ープ 採用活動におけるプライバシーポリシー\n株式会
 社LayerX プライバシーポリシー\n※ご提供いただいた個
 人情報は、イベントの運営・管理、イベントの改善又
 は新規企画のための分析、当社の採用情報等のご案内
 で利用いたします。
LOCATION:オンライン オンライン
URL:https://techplay.jp/event/838820?utm_medium=referral&utm_source=ics&utm
 _campaign=ics
END:VEVENT
END:VCALENDAR
