BEGIN:VCALENDAR
VERSION:2.0
PRODID:-//https://techplay.jp//JP
CALSCALE:GREGORIAN
METHOD:PUBLISH
X-WR-CALDESC:RPAを導入したらどんなふうに動かせるの？ ～R
 oboTANGOの活用事例をご紹介～【実用編】
X-WR-CALNAME:RPAを導入したらどんなふうに動かせるの？ ～R
 oboTANGOの活用事例をご紹介～【実用編】
X-WR-TIMEZONE:Asia/Tokyo
BEGIN:VTIMEZONE
TZID:Asia/Tokyo
BEGIN:STANDARD
DTSTART:19700101T000000
TZOFFSETFROM:+0900
TZOFFSETTO:+0900
TZNAME:JST
END:STANDARD
END:VTIMEZONE
BEGIN:VEVENT
UID:838992@techplay.jp
SUMMARY:RPAを導入したらどんなふうに動かせるの？ ～RoboTA
 NGOの活用事例をご紹介～【実用編】
DTSTART;TZID=Asia/Tokyo:20211209T140000
DTEND;TZID=Asia/Tokyo:20211209T150000
DTSTAMP:20260425T022056Z
CREATED:20211118T021317Z
DESCRIPTION:イベント詳細はこちら\nhttps://techplay.jp/event/83899
 2?utm_medium=referral&utm_source=ics&utm_campaign=ics\n\nこんな方に
 オススメ\n\nRPAの活用イメージがまだ持てない方\n実務
 で使えるRPAが動くところを見たい方\nRPAの作成を見て
 みたい方\n既にRPAは導入しているが、活用の幅を広げ
 たい方\n\nこのセミナーでわかること\n\nRPA(RoboTANGO)が実
 務でどういう動きをするのか\nロボットが作業を行っ
 てくれるスピード感\nRPAの活用方法や作成の仕方\nRoboTA
 NGOの概要\n\nセミナー概要\n「実際のRPAはどうやって動
 くの？」「ロボットが動くスピードはどのくらい？」R
 PAツールの検討を進めると、これまで疑問に思わなか
 ったことが疑問に思うことがあります。より具体的な
 導入後のイメージを持つため、実際のRPAの動きを知る
 ことはとても大切です。\n本セミナーでは、RPAツール
 「RoboTANGO(ロボタンゴ)」のサポートを担当している者
 が、RPAを動かして実務で使えるロボットを紹介します
 。導入後の利用イメージを持っていただくことが本ウ
 ェビナーのゴールです。\n講師紹介\nスターティアレイ
 ズ株式会社　業務自動化ソリューション部　テクニカ
 ルコンサルティンググループ中澤 栄一■経歴RoboTANGOの
 テクニカルエンジニアとして、営業支援や顧客へのテ
 クニカルサポート、ヘルプセンターのコンテンツ追加
 などをメイン業務とし、その他、システム担当者とRobo
 TANGOの新機能追加提案や推進、検証等の作業にも携わ
 る。前職では医薬部外品を取り扱う通販企業にて、Web
 アクセス解析やコンバージョンを上げる施策の考案や
 推進、ツール導入等を担当。普段からグリーンスムー
 ジーやスピルリナサプリメント、乳酸菌飲料を愛飲し
 ており、健康オタクな面有り。\nセミナー詳細\n\n\n\n\n\
 n\n\n\n\nタイトル\nRPAを導入したらどんなふうに動かせ
 るの？ ～RoboTANGOの活用事例をご紹介～【実用編】\n\n\n
 日時\n2021年12月9日(木)14:00～15:00\n\n\n受講料\n無料\n\n\n
 主催\nスターティアレイズ株式会社\n\n\n\n・お申込みい
 ただいた際に、Zoom登録用URLをご登録いただいたメール
 アドレスに送付致します。・セミナー当日のご参加も
 可能です。・プログラムは、都合により予告無く変更
 する場合がございます。・ユーザー企業様向けのセミ
 ナーの為、同業者様のご参加はお断りさせていただく
 場合がございます。\nセミナープログラム\n\n\n\n\n\n\n\n\
 n\n14:00\n開始\n\n\n14:00~14:50\nRPAを導入したらどんなふう
 に動かせるの？～RoboTANGOの活用事例をご紹介～【実用
 編】\n\n\n14:50~14:55　\nアンケート\n\n\n14:55~15:00\n質疑応
 答\n\n\n15:00\n終了\n\n\n
LOCATION:オンライン
URL:https://techplay.jp/event/838992?utm_medium=referral&utm_source=ics&utm
 _campaign=ics
END:VEVENT
END:VCALENDAR
