BEGIN:VCALENDAR
VERSION:2.0
PRODID:-//https://techplay.jp//JP
CALSCALE:GREGORIAN
METHOD:PUBLISH
X-WR-CALDESC:Kubernetes Casual Talk 〜Ubie、CA、メルペイ各社のCI/
 CD事情〜
X-WR-CALNAME:Kubernetes Casual Talk 〜Ubie、CA、メルペイ各社のCI/
 CD事情〜
X-WR-TIMEZONE:Asia/Tokyo
BEGIN:VTIMEZONE
TZID:Asia/Tokyo
BEGIN:STANDARD
DTSTART:19700101T000000
TZOFFSETFROM:+0900
TZOFFSETTO:+0900
TZNAME:JST
END:STANDARD
END:VTIMEZONE
BEGIN:VEVENT
UID:839036@techplay.jp
SUMMARY:Kubernetes Casual Talk 〜Ubie、CA、メルペイ各社のCI/CD事
 情〜
DTSTART;TZID=Asia/Tokyo:20211207T193000
DTEND;TZID=Asia/Tokyo:20211207T203000
DTSTAMP:20260421T160316Z
CREATED:20211118T061657Z
DESCRIPTION:イベント詳細はこちら\nhttps://techplay.jp/event/83903
 6?utm_medium=referral&utm_source=ics&utm_campaign=ics\n\nYouTube配信URL
 \nhttps://youtu.be/tWYPCk-IZgs\n※SNS等でURLをシェアしていた
 だいてOKです！\n視聴後アンケート\nhttps://forms.gle/VWgEchi
 jursPS2gMA\n概要\n今回のイベントでは、Kubernetesを活用し
 開発している企業（Ubie、サイバーエージェント、メル
 カリグループ）のエンジニアたちが集まり、CI/CDをテ
 ーマに各社の取り組みをプレゼンテーションで簡単に
 紹介し、さらにパネルディスカッションで深堀りして
 いきます。\n対象者\n\nKubernetes を使っている / これか
 ら使おうとしている方 \nKubernetesを活用したCI/CDについ
 て興味がある方、すでに取り組みをしている方 \nKuberne
 tes にまつわる話を聞きたい方\n各社の開発体制に興味
 がある方 \n\n申込方法\nイベントの視聴をご希望の方は
 、当connpassイベントページにて申し込みしてください
 。\n※ 当イベントの配信URLは、イベント開催日に connpa
 ss 経由でご連絡いたします。\nコンテンツ\n\n\n\n内容\n
 補足\n\n\n\n\nオープニング\n\n\n\n各社プレゼン（各5分）
 \nby 坂田\, 漆田\, 伊藤\n\n\nディスカッション&トークタ
 イム\nby deeeet\, 坂田\, 漆田\, 長谷川\, 伊藤\n\n\nエンデ
 ィング\n\n\n\n\n※内容は当日変更する可能性がございま
 す。予めご了承ください。\n出演者\n坂田 純/ 株式会社
 Ubie Software Engineer\, Site Reliability\nUbieでSREと一部Security兼
 任しています。KubernetesとIstioを中心にサービスをセキ
 ュアなプラットフォームの構築と運用をしています。G
 oogle Developers ExpertもやっていてGoogle Cloud全般比較的詳
 しいです。\n\nhttps://twitter.com/sakajunquality\n\n漆田 瑞樹/ 
 株式会社サイバーエージェント CIU Dev Division ML 基盤チ
 ーム\nCIU Dev Division インフラ＆ソフトウェアエンジニア
 \n2018 年新卒入社。社内の横断インフラ組織でプライベ
 ートクラウドの開発・運用を経験。現在はそのクラウ
 ドを生かしたサービスとして Kubernetes + Kubeflow を用い
 た機械学習・推論基盤や、Kubernetes as a Service の開発に
 従事。\n\nhttps://twitter.com/zuiurs\nhttps://github.com/zuiurs\n\n長
 谷川 誠/ 株式会社サイバーエージェント CIU\n株式会社
 サイバーエージェントでプライベートクラウドの運用
 や Kubernetes as a Service の開発・運用を担当。趣味は楽器
 。コロナのせいであまり音楽活動できていないのが最
 近の悩み。\n\nhttps://twitter.com/makocchi\nhttps://github.com/makoc
 chi-git\nhttps://speakerdeck.com/makocchi/\nhttps://makocchi.dev\n\n伊
 藤 雄貴/ 株式会社メルペイ Architectチーム Backend Engineer\
 n事業立ち上げ時期の 2018年3月にメルペイに参画し、テ
 ックリードとしてマイクロサービスの開発に携わる。
 その後、2019年3月に現在所属している Architect チームに
 ジョインし、組織横断的な課題を解決するために Kubern
 etes や Istio、Envoy などの技術動向を追っている。また
 、Microservices Platform チームの一員としてCI/CD環境の整備
 にも携わっている。\n\nhttps://twitter.com/mrno110\n開発ライ
 ブ実況 #1 Vim編 (メルペイ Architectチーム Backendエンジニ
 ア): https://youtu.be/cWvAhmfZJZg\n\nモデレーター\n@deeeet / Merca
 ri\, Inc. Engineering head of Developer productivity engineering\nTaichi 
 Nakashima (@deeeet) is an engineering head of Developer productivity engi
 neering\, engineering manager for Platform Developer Experience (DX) and 
 Microservices SRE team at Mercari. Prior to Mercari\, he was a software e
 ngineer at Rakuten\, working on building and operating the internal Platf
 orm-as-a-Service (PaaS).\n行動規範について\n当イベントは、
 参加者と情報を共有するための場です。そのため、主
 催者を含む全ての参加者は下記ページに記載される行
 動規範に同意していただく必要があります。ご理解ご
 協力をお願いいたします。\nhttps://about.mercari.com/event-cod
 e-of-conduct/\n何か困ったことなどありましたら、当イベ
 ントページの「イベントへのお問い合わせ」からご連
 絡ください。\n主催企業\nUbie株式会社\n「テクノロジー
 で人々を適切な医療に案内する」をミッションに掲げ
 、医師とエンジニアが2017年5月に創業したヘルステッ
 クスタートアップです。AIをコア技術とし、医療現場
 の業務効率化を図る「AI問診ユビー」と、症状から適
 切な医療へと案内する「AI受診相談ユビー」を開発・
 提供。誰もが自分にあった医療にアクセスできる社会
 づくりを進めています。\n株式会社サイバーエージェ
 ント\nサイバーエージェントは「21世紀を代表する会社
 を創る」をビジョンに掲げ、新しい未来のテレビ「ABEM
 A」の運営や国内トップシェアを誇るインターネット広
 告事業を展開しています。インターネット産業の変化
 に合わせ新規事業を生み出しながら事業拡大を続けて
 います。\n株式会社メルペイ\nいらないものを売って、
 新しいお金をつくるメルカリ。\nそのお金で、新しい
 ものを買う、新しい体験をするメルペイ。\n二つが揃
 うことで生まれるのは、何もしなければ、そこになか
 ったはずのお金で暮らしが豊かになる、夢が実現する
 世界です。\nそのために、わたしたちメルペイは、決
 済サービスを皮切りにさまざまな金融サービスへとフ
 ィールドを広げていきます。\nリンク集\nUbie\n\n採用サ
 イト・会社紹介資料：UbieDiscovery Recruitページ\nエンジ
 ニアブログまとめ：Ubie Engineers' Blogs\n\n\nサイバーエー
 ジェント\n\n株式会社サイバーエージェント\nCyberAgent De
 velopers Blog\n採用ページ\n【CIU】インフラエンジニア(KaaS
  / CloudNative関連 基盤開発)\n【CIU】スタジオネットワー
 クスペシャリスト\n【CIU】ネットワークエンジニア\n【
 CIU】クラウドプラットフォームエンジニア（サーバ・
 ストレージ）\n【CIU】ソフトウェアエンジニア（クラ
 ウドプラットフォーム）\n\n\nメルペイ\n\n株式会社メル
 ペイ\nエンジニアリングブログ\nエンジニア向けTwitter
 アカウント\nエンジニア向けYouTube\nソフトウェアエン
 ジニア (Site Reliability) [Mercari]\nソフトウェアエンジニア
  (Architect) [Merpay]\nソフトウェアエンジニア (Backend) [Merpa
 y]\nソフトウェアエンジニア (Backend) [Mercoin]\nソフトウ
 ェアエンジニア (Site Reliability) [Mercoin / Merpay]\n
LOCATION:オンライン オンライン
URL:https://techplay.jp/event/839036?utm_medium=referral&utm_source=ics&utm
 _campaign=ics
END:VEVENT
END:VCALENDAR
