BEGIN:VCALENDAR
VERSION:2.0
PRODID:-//https://techplay.jp//JP
CALSCALE:GREGORIAN
METHOD:PUBLISH
X-WR-CALDESC:CV率13.7ptアップの事例あり！ Google Analyticsでは
 見えないデータドリブンなフォーム改善術　＜サイト
 改善ウェビナーシリーズ #3＞
X-WR-CALNAME:CV率13.7ptアップの事例あり！ Google Analyticsでは
 見えないデータドリブンなフォーム改善術　＜サイト
 改善ウェビナーシリーズ #3＞
X-WR-TIMEZONE:Asia/Tokyo
BEGIN:VTIMEZONE
TZID:Asia/Tokyo
BEGIN:STANDARD
DTSTART:19700101T000000
TZOFFSETFROM:+0900
TZOFFSETTO:+0900
TZNAME:JST
END:STANDARD
END:VTIMEZONE
BEGIN:VEVENT
UID:839045@techplay.jp
SUMMARY:CV率13.7ptアップの事例あり！ Google Analyticsでは見え
 ないデータドリブンなフォーム改善術　＜サイト改善
 ウェビナーシリーズ #3＞
DTSTART;TZID=Asia/Tokyo:20211215T180000
DTEND;TZID=Asia/Tokyo:20211215T190000
DTSTAMP:20260425T125922Z
CREATED:20211118T062303Z
DESCRIPTION:イベント詳細はこちら\nhttps://techplay.jp/event/83904
 5?utm_medium=referral&utm_source=ics&utm_campaign=ics\n\n無料申込は
 こちら\n概要\nサイト内で一番コンバージョンに近い「
 入力フォーム」の数値、把握していますか？CV率が13.7p
 t改善した、分析術と事例を公開いたします！ご好評に
 つき、継続開催が決定いたしました！\n※本ウェビナ
 ーは過去開催したウェビナーの見逃し配信でございま
 す。\nこんな方におすすめ\n\nGoogleAnalyticsの数値を見て
 も、改善ポイントがわからない\nエントリーフォーム
 最適化に興味はあるが、実際に何をすればいいのかわ
 からない\n具体的な分析方法と、エントリーフォーム
 最適化の事例を知りたい\n\nご参加いただいたお客様の
 声\n「EFOとGoogle Analyticsとの数値の比較が明確でわかり
 やすかったです」「入力離脱原因の実例・AB比較を見
 て納得した」「フォーム改善のヒントを得られました
 」\nプログラム\n\nGoogle Analytics × EFO分析術とは\nフォー
 ムにおける分析手法について\n今すぐ使える改善事例
 のご紹介\nQ&A\n\nタイムリーなチャット形式でのご質問
 が可能でございますので、ぜひみなさまの課題の解決
 へ近づくお時間にしていただければと思います。※内
 容は状況により変更となる可能性がございます。※本
 ウェビナーは録画配信でございます。\nメインスピー
 カー\n株式会社ショーケースSaaS事業部　カスタマーサ
 クセスグループ樫木　厚二\nウェブ解析士。株式会社
 ショーケースにてコンサルタントとして約4年間顧客へ
 のウェブ全般課題へのソリューション提供に従事。大
 手金融クライアントへの提案施策でCV率改善に大きく
 貢献。EFOツール「フォームアシスト」のプロダクトリ
 ーダー。-------------------------------------------------------------
 ----------------株式会社ショーケースSaaS事業部　営業部
 村田　涼\n株式会社ショーケースにてアカウントプラ
 ンナーとして顧客へのウェブ全般課題へのソリューシ
 ョン提供に従事。同期の誰よりも早く受注をした期待
 の新人。\n株式会社ショーケース\n\nEFO（エントリーフ
 ォーム最適化）で金融業界シェア率NO.1\nFinTech分野では
 「日経×TECH EXPO AWARD 2019 準グランプリ セキュリティ賞
 」 を受賞\nオンライン本人確認サービスや免許証OCRサ
 ービスなどSaaS型で複数展開\n\n注意事項\n\nWi-Fi環境な
 ど通信環境が安定している場所でご視聴ください。\n
 お申込み希望の方は「チケットを申し込む」ボタンか
 らではなく、以下の「無料申込はこちら」よりお進み
 ください。\n\n\nサイト改善ウェビナーシリーズ\n\n無料
 申込はこちら
LOCATION:オンライン
URL:https://techplay.jp/event/839045?utm_medium=referral&utm_source=ics&utm
 _campaign=ics
END:VEVENT
END:VCALENDAR
