BEGIN:VCALENDAR
VERSION:2.0
PRODID:-//https://techplay.jp//JP
CALSCALE:GREGORIAN
METHOD:PUBLISH
X-WR-CALDESC:データ分析入門編！Pythonを使って基本的な分
 析をしてみよう
X-WR-CALNAME:データ分析入門編！Pythonを使って基本的な分
 析をしてみよう
X-WR-TIMEZONE:Asia/Tokyo
BEGIN:VTIMEZONE
TZID:Asia/Tokyo
BEGIN:STANDARD
DTSTART:19700101T000000
TZOFFSETFROM:+0900
TZOFFSETTO:+0900
TZNAME:JST
END:STANDARD
END:VTIMEZONE
BEGIN:VEVENT
UID:839123@techplay.jp
SUMMARY:データ分析入門編！Pythonを使って基本的な分析を
 してみよう
DTSTART;TZID=Asia/Tokyo:20211217T120000
DTEND;TZID=Asia/Tokyo:20211217T130000
DTSTAMP:20260421T203747Z
CREATED:20211119T011105Z
DESCRIPTION:イベント詳細はこちら\nhttps://techplay.jp/event/83912
 3?utm_medium=referral&utm_source=ics&utm_campaign=ics\n\nセミナー概
 要\n8月27日に開催した同タイトルのセミナーと同じ内
 容です。\nPythonはRと並んでデータ分析でよく使われる
 言語です。簡単なコードで必要なデータを抽出したり
 モデルを作成したりグラフィカルに可視化したりと様
 々なことができます。今回はそんなPythonを使って基本
 的なデータ分析にトライしてみましょう。データの準
 備方法から基本統計量や簡単なグラフをPythonで出力さ
 せる方法までご紹介していきます。また、Jupyternotebook
 を使って実際にコードの解説も行います。\n\nPythonでデ
 ータ分析をする前に知っておくべきこと\n\nデータ分析
 でよく使うライブラリ\nデータ分析の流れ\n\n\n分析す
 る前に必要な準備\n\n分析するデータを入手\nPythonで読
 み込みやすいファイルの形式\n\n\nデータを見るときに
 まず確認すること\n\nデータの形や欠損値を確認する\n
 データの特徴を基本統計量でつかむ\nグラフからデー
 タ全体の分布や傾向を読み取る\n\n\nオススメの学習法\
 n\nタイムスケジュール\n\n\n\n時間\n内容\n\n\n\n\n12:00\n開
 場\n\n\n12:15〜12:20\n開演のご挨拶弊社のご紹介、講師の
 ご紹介\n\n\n12:20〜12:55\nデータ分析入門編！Pythonを使っ
 て基本的な分析をしてみよう（データビズラボ株式会
 社 アシスタント 酒井隆成）\n\n\n12:55〜13:00ごろ予定\n
 データビズラボからのお知らせ\n\n\n\n※ 当日予告なく
 時間配分・内容が変更になる可能性がございます。\n
 登壇者\n\n酒井　隆成データビズラボ株式会社　アシス
 タントhttps://data-viz-lab.com\n（登壇者 略歴）\n東海高等
 学校卒業後、明治大学商学部商学科に進学。大学のゼ
 ミではマーケティングを用いた実践的なクライアント
 ワークを経験。\nSNSを用いた調査やアンケート作成・
 分析を行っていた際にデータの重要性を痛感し、デー
 タ分析の学習をスタート。Pythonを使った重回帰分析、
 決定木などの分析手法を用いてさまざまなモデルを作
 成・可視化を行うなど、データを用いた各種分析・研
 究に励む。\n大学ではマーケティングを専攻しており
 、マーケティングとデータ分析という2つの武器を合わ
 せもったコンサルタントを目指し、現在データビズラ
 ボ株式会社でアシスタントとして活躍中。\n\n参加対象
 \n\nデータ分析について学び始めた方\nPythonに少しでも
 興味のある方\nBIツールなどでデータ分析をしていてPyt
 honに興味がある方\nPythonの学習における方向性を知り
 たい方\nPythonの学習を始めたけど挫折しそうな方\nPython
 初級者の方\n\n参加費\n無料\n注意事項\n\n欠席される場
 合は、お手数ですが速やかにキャンセル処理をお願い
 致します。\n無断キャンセルや欠席が続く場合、次回
 以降の参加をお断りさせていただく場合がございます
 。\n\nその他\n私たちは、「人がデータを見て理解する
 」ことをミッションとした、データ分析・視覚化（ビ
 ジュアライゼーション）関するコンサルティングファ
 ームです。表面的な実装にとどまらず、戦略設計から
 お客様と伴走し、圧倒的なクオリティを追求していま
 す。\n▼当社サイトはこちらから　　https://data-viz-lab.co
 m/\nただいま当社のコンサルティング事例をこちらでご
 紹介しております。ぜひご参考にされてください。\n
 ▼当社コンサルティング事例のご紹介　　https://data-viz
 -lab.com/case\n当社では「会社概要」資料はもちろん、そ
 のほか「データ視覚化/ダッシュボードデザインを成功
 させる95のチェックリスト」「Tableau Certified Associate」
 合格へ向けたオリジナル問題集」などお得な資料を公
 開しています。どれも無料でダウンロードできますの
 で、ご活用ください。\n▼各種資料のダウンロードは
 こちらから（無料）　　https://data-viz-lab.com/useful-resource
 \nまた、当社ではオウンドメディアを実施しており、BI
 ツール、データ分析、DXなどをテーマに質の高いコン
 テンツを発信中です。ぜひこちらからご覧ください。\
 n▼お役立ち情報満載の当社オウンドメディアはこちら
 　　https://data-viz-lab.com/post-lists\n当社代表を務める永田
 ゆかりは、オンラインサロンを展開しております。「
 データを扱う人が、ビジネス的思考や考察ができるよ
 うになり、データの価値と自分の価値をさらに上げる
 こと」を目指してさまざまな情報発信をしております
 。概要、ご参加はこちらから。\n▼当社代表・永田の
 オンラインサロン「データビズラボ・サロン」　　http
 s://community.camp-fire.jp/projects/view/275473
LOCATION:オンライン（ご登録いただいたメールアドレスに
 zoomのURLを後日お送りします）
URL:https://techplay.jp/event/839123?utm_medium=referral&utm_source=ics&utm
 _campaign=ics
END:VEVENT
END:VCALENDAR
