BEGIN:VCALENDAR
VERSION:2.0
PRODID:-//https://techplay.jp//JP
CALSCALE:GREGORIAN
METHOD:PUBLISH
X-WR-CALDESC:～不正利用の手口と本人認証に潜む落とし穴
 ～ eKYCを用いた最新対策を徹底解説 ＜eKYC改善ウェビナ
 ーシリーズ #2＞
X-WR-CALNAME:～不正利用の手口と本人認証に潜む落とし穴
 ～ eKYCを用いた最新対策を徹底解説 ＜eKYC改善ウェビナ
 ーシリーズ #2＞
X-WR-TIMEZONE:Asia/Tokyo
BEGIN:VTIMEZONE
TZID:Asia/Tokyo
BEGIN:STANDARD
DTSTART:19700101T000000
TZOFFSETFROM:+0900
TZOFFSETTO:+0900
TZNAME:JST
END:STANDARD
END:VTIMEZONE
BEGIN:VEVENT
UID:839133@techplay.jp
SUMMARY:～不正利用の手口と本人認証に潜む落とし穴～ eKY
 Cを用いた最新対策を徹底解説 ＜eKYC改善ウェビナーシ
 リーズ #2＞
DTSTART;TZID=Asia/Tokyo:20211216T110000
DTEND;TZID=Asia/Tokyo:20211216T120000
DTSTAMP:20260425T140330Z
CREATED:20211119T025827Z
DESCRIPTION:イベント詳細はこちら\nhttps://techplay.jp/event/83913
 3?utm_medium=referral&utm_source=ics&utm_campaign=ics\n\n無料申込は
 こちら\n概要\n今話題のeKYCについて、多要素認証と2段
 階認証の違いから犯罪を防ぐ活用法まで、徹底解説い
 たします！\n※本ウェビナーは過去開催したウェビナ
 ーの見逃し配信でございます。\nこんな方におすすめ\n
 \n現在提供しているWEB取引サービスのセキュリティを
 強化したい。\n多要素認証・2段階認証などの認証方式
 について実は理解できていない。\n低コストで、スピ
 ーディーに認証の強化を実現したい。\n新サービスを
 検討中だが、セキュリティ設計に不安がある。\n\nプロ
 グラム\n\n\n多要素認証について\n2段階認証について\n
 犯罪者が狙うポイントとは？\n不正を未然に防ぐため
 にするべきこと\nQ&A\n\nタイムリーなチャット形式での
 ご質問が可能でございますので、ぜひみなさまの課題
 の解決へ近づくお時間にしていただければと思います
 。\n※内容は状況により変更となる可能性がございま
 す。※本ウェビナーは録画配信でございます。\nメイ
 ンスピーカー\n株式会社ショーケースSaaS事業部　担当
 執行役員中村 浩一郎\n明治大学(仏文)卒業後、放浪の
 のちIT企業に就職。西表島で農業に目覚め、ネットバ
 ンク個人向けローン部長を経てショーケースへ入社。
 入社後は、独自の経験と社内アセットをフル活用し、
 金融機関のDX推進を中心に、プロダクト企画・戦略に
 従事する。----------------------------------------------------------
 -------------------\n株式会社ショーケース　SaaS事業部　事
 業部長安立 健太郎\n株式会社ショーケース 営業部長。
 2015年新卒入社。2018年度上半期MVP受賞。週1でサウナに
 通う。※現在休止中同社にて史上最年少事業部長とし
 て経営のキーを握る。\n株式会社ショーケース\n\nEFO（
 エントリーフォーム最適化）で金融業界シェア率NO.1\nF
 inTech分野では「日経×TECH EXPO AWARD 2019 準グランプリ セ
 キュリティ賞」 を受賞\nオンライン本人確認サービス
 や免許証OCRサービスなどSaaS型で複数展開\n\n注意事項\n
 \nWi-Fi環境など通信環境が安定している場所でご視聴く
 ださい。\nお申込み希望の方は「チケットを申し込む
 」ボタンからではなく、以下の「無料申込はこちら」
 よりお進みください。\n\neKYCウェビナーシリーズ\n\n無
 料申込はこちら
LOCATION:オンライン
URL:https://techplay.jp/event/839133?utm_medium=referral&utm_source=ics&utm
 _campaign=ics
END:VEVENT
END:VCALENDAR
