BEGIN:VCALENDAR
VERSION:2.0
PRODID:-//https://techplay.jp//JP
CALSCALE:GREGORIAN
METHOD:PUBLISH
X-WR-CALDESC:今、古物商のeKYC導入が進み始める理由とは ～
 デジタル社会の背景が生み出す、リユース業界の課題
 ～ ＜eKYCウェビナーシリーズ #3-b＞
X-WR-CALNAME:今、古物商のeKYC導入が進み始める理由とは ～
 デジタル社会の背景が生み出す、リユース業界の課題
 ～ ＜eKYCウェビナーシリーズ #3-b＞
X-WR-TIMEZONE:Asia/Tokyo
BEGIN:VTIMEZONE
TZID:Asia/Tokyo
BEGIN:STANDARD
DTSTART:19700101T000000
TZOFFSETFROM:+0900
TZOFFSETTO:+0900
TZNAME:JST
END:STANDARD
END:VTIMEZONE
BEGIN:VEVENT
UID:839136@techplay.jp
SUMMARY:今、古物商のeKYC導入が進み始める理由とは ～デ
 ジタル社会の背景が生み出す、リユース業界の課題～ 
 ＜eKYCウェビナーシリーズ #3-b＞
DTSTART;TZID=Asia/Tokyo:20211209T170000
DTEND;TZID=Asia/Tokyo:20211209T180000
DTSTAMP:20260425T105217Z
CREATED:20211119T030313Z
DESCRIPTION:イベント詳細はこちら\nhttps://techplay.jp/event/83913
 6?utm_medium=referral&utm_source=ics&utm_campaign=ics\n\n無料申込は
 こちら\n概要\n古物営業法や犯罪収益移転防止法の解説
 、リユース業界でのeKYC導入についてさらに知識を深め
 てもらえるよう、実践的な活用方法を交えてお伝えい
 たします！\nご参加後に簡単なアンケートにご回答い
 ただいた方にはユースケース入りの資料をプレゼント
 いたします！\n※本ウェビナーは過去開催したウェビ
 ナーの見逃し配信でございます。\nこんな方におすす
 め\n\n本人確認をオンライン化する仕組みを検討してい
 る\neKYCの導入がコストメリットに繋がるかどうかイメ
 ージしづらい\nリユース業界で本人確認をオンライン
 完結させるユースケースを知りたい\n\nプログラム\n\n\n
 古物商の課題\neKYCを利用した本人確認\nサービス紹介\n
 事例紹介\nまとめ\nQ&A\n\nタイムリーなチャット形式で
 のご質問が可能でございますので、ぜひみなさまの課
 題の解決へ近づくお時間にしていただければと思いま
 す。\n※内容は状況により変更となる可能性がござい
 ます。※本ウェビナーは録画配信でございます。\nメ
 インスピーカー\n服部 佑亮株式会社ショーケース　SaaS
 事業部　営業部\n上級ウェブ解析士。2017年株式会社シ
 ョーケース新卒入社。1年目から多くの新規顧客へEFOサ
 ービスの営業活動に従事。2019年から現在、アカウント
 プランナーとして顧客へのウェブ全般課題へのソリュ
 ーション提供を行い、幅広い業界でのDX支援実績をも
 つ。\n株式会社ショーケース\n\nEFO（エントリーフォー
 ム最適化）で金融業界シェア率NO.1\nFinTech分野では「日
 経×TECH EXPO AWARD 2019 準グランプリ セキュリティ賞」 を
 受賞\nオンライン本人確認サービスや免許証OCRサービ
 スなどSaaS型で複数展開\n\n注意事項\n\nWi-Fi環境など通
 信環境が安定している場所でご視聴ください。\nお申
 込み希望の方は「チケットを申し込む」ボタンからで
 はなく、以下の「無料申込はこちら」よりお進みくだ
 さい。\n\neKYCウェビナーシリーズ\n\n無料申込はこちら
LOCATION:オンライン
URL:https://techplay.jp/event/839136?utm_medium=referral&utm_source=ics&utm
 _campaign=ics
END:VEVENT
END:VCALENDAR
