BEGIN:VCALENDAR
VERSION:2.0
PRODID:-//https://techplay.jp//JP
CALSCALE:GREGORIAN
METHOD:PUBLISH
X-WR-CALDESC:【第7回開志コラボセミナー】デジタル化する
 世界と地域経済の可能性～DXとグリーンがもたらす新
 たな展望
X-WR-CALNAME:【第7回開志コラボセミナー】デジタル化する
 世界と地域経済の可能性～DXとグリーンがもたらす新
 たな展望
X-WR-TIMEZONE:Asia/Tokyo
BEGIN:VTIMEZONE
TZID:Asia/Tokyo
BEGIN:STANDARD
DTSTART:19700101T000000
TZOFFSETFROM:+0900
TZOFFSETTO:+0900
TZNAME:JST
END:STANDARD
END:VTIMEZONE
BEGIN:VEVENT
UID:839140@techplay.jp
SUMMARY:【第7回開志コラボセミナー】デジタル化する世界
 と地域経済の可能性～DXとグリーンがもたらす新たな
 展望
DTSTART;TZID=Asia/Tokyo:20211201T150000
DTEND;TZID=Asia/Tokyo:20211201T170000
DTSTAMP:20260420T155954Z
CREATED:20211119T043811Z
DESCRIPTION:イベント詳細はこちら\nhttps://techplay.jp/event/83914
 0?utm_medium=referral&utm_source=ics&utm_campaign=ics\n\n新潟県産学
 連携による人材育成・定着促進支援事業開志専門職大
 学「第7回開志コラボセミナー」\n■日時：2021年12月1日
 （水）15:00～17:00■配信会場：紫竹山キャンパス（リア
 ル)　　　　　   Zoomウェビナー（オンライン）\n□招
 待講演「デジタル化する世界と地域経済の可能性～DX
 とグリーンがもたらす新たな展望」講師：フューチャ
 ー株式会社取締役　山岡 浩巳　様\n【お問合せ・連絡
 先】開志専門職大学　社会連携推進課：安井〒950-0914
 　新潟県新潟市中央区紫竹山6-3-5e-mail： yasui.tomoaki@kaish
 i-pu.ac.jp　　電話：025-240-8118
LOCATION:オンライン
URL:https://techplay.jp/event/839140?utm_medium=referral&utm_source=ics&utm
 _campaign=ics
END:VEVENT
END:VCALENDAR
