BEGIN:VCALENDAR
VERSION:2.0
PRODID:-//https://techplay.jp//JP
CALSCALE:GREGORIAN
METHOD:PUBLISH
X-WR-CALDESC:【オンライン開催】銀座Rails#40
X-WR-CALNAME:【オンライン開催】銀座Rails#40
X-WR-TIMEZONE:Asia/Tokyo
BEGIN:VTIMEZONE
TZID:Asia/Tokyo
BEGIN:STANDARD
DTSTART:19700101T000000
TZOFFSETFROM:+0900
TZOFFSETTO:+0900
TZNAME:JST
END:STANDARD
END:VTIMEZONE
BEGIN:VEVENT
UID:839224@techplay.jp
SUMMARY:【オンライン開催】銀座Rails#40
DTSTART;TZID=Asia/Tokyo:20211217T190000
DTEND;TZID=Asia/Tokyo:20211217T211500
DTSTAMP:20260421T171116Z
CREATED:20211119T141758Z
DESCRIPTION:イベント詳細はこちら\nhttps://techplay.jp/event/83922
 4?utm_medium=referral&utm_source=ics&utm_campaign=ics\n\n内容\n銀座Ra
 ilsは、Railsについての知識を交換し、日々の開発に役
 立てていこうという人々の集まるコミュニティです。\
 n登壇者募集\n\n公募を締め切りました。最新の銀座へ
 の登壇応募は公開されている最新銀座RailsのConnpassペー
 ジをご覧下さい。\n最新情報は@GinzaRailsをご確認くださ
 い。\n1月の銀座Rails登壇応募も近々開始予定です。\nな
 お、ご登壇頂いた方には銀座Rails Tシャツかパーカーの
 うちどれか一つ、お好きなものをプレゼント致します
 。\nhttps://suzuri.jp/ginzarails\n※発送は銀座Rails実施後にな
 ります\n『こんな内容で大丈夫だろうか』『発表枠が
 長いので相談したい』などのご心配がありましたら、\
 nTwitter @GinzaRailsまでDM等でご相談下さい。\n(原則先着順
 のため、相談中の枠の完売につきましてはご容赦下さ
 い)\nタイムテーブル（随時更新）\n\n\n\nTime \nDescription\n
 \n\n\n\n18:30 -\n開場\n\n\n19:00 -\nオープニング\n\n\n19:05 - 19:
 35\nosyoさん12月25日にリリースされる Ruby 3.1 に備えよう
 ！Ruby 3.1 で新しく追加されるデバッガやエラー箇所の
 ハイライト、Hash の省略記法といった新機能の紹介や
 新しく追加されるメソッド、変更点などを紹介し、来
 たるべき Ruby 3.1 に備えていきたいと思います。 わた
 しは Refinements が好きなので import_methods が入るのが楽
 しみです。\n\n\n19:35 - 19:50\n松谷勇史朗(@uuushiro)さんRails
 メジャーバージョンアップを安全にカナリアリリース
 する最近、弊社のRailsアプリケーションをv5.1からv6.1へ
 メジャーバージョンアップしました。メジャーバージ
 ョンアップは大きな変更ですが、カナリアリリースに
 より安全にリリースすることができました。この発表
 では、Railsアプリケーションの各種プロセス(puma\, sideki
 q\, delayed_job\, cronなど)をカナリアリリースする際のチ
 ップス、及びバージョンアップする際に問題となった
 箇所について共有します。\n\n\n19:55 - 20:10\nkon_yuさんRail
 sでのREST API開発の知見共有RailsでREST APIサーバを作成す
 る場合APIドキュメントはOpenAPI(Swagger)を使ってメンテナ
 ブルにしたいSPAやスマフォアプリなどクライアントと
 でOpenAPIを使ってAPIアクセス部を自動生成したいこれら
 の要望を満たすためにライブラリはいくつかあり、そ
 の中で下記のライブラリを本番環境で使いました。Grap
 erspec-openapicommittee-railsその経験からPros/Consを共有しつ
 つ、現在時点でのおすすめをお話します。\n\n\n20:10 - 20
 :15\n休憩\n\n\n20:15 - 20:30\nスポンサーセッション（各5分
 ）株式会社UZUMAKI様株式会社ディー・エヌ・エー様株式
 会社リンクアンドモチベーション様\n\n\n20:30 - 21:10\nゲ
 ストスピーカー 加藤尋樹 (cockscomb) さんGraphQLの高速道
 路 WEB+DB PRESS Vol.125の特集「GraphQL完全ガイド」で、GraphQ
 Lについて幅広く紹介しました。本発表では、GraphQL API
 を実装する上でのプラクティスを中心に紹介します。G
 raphQLに素早くキャッチアップする一助となれば幸いで
 す。\n\n\n本編終了後\nオンライン懇親会(Zoomにて)\n\n\n\n
 ※ 運営の都合により変更がある場合がございます。予
 めご了承下さい。\n会場\nZOOMを用いたリモート開催と
 なります。\nZOOMのウェビナー機能を利用致します。参
 加時に表示名とメールアドレスの入力が必要となりま
 す。恐れ入りますがご了承下さい。\n開場時間前後に
 なりますと、本connpassにご登録されたアドレスに、参
 加のためのURLが配布されますので、そちらを用いてJoin
 をお願い致します。\nno-reply@connpass.com からのメールが
 迷惑メールフォルダ等に入らないよう、ご注意下さい
 。\nSponsors\nスポンサー 株式会社UZUMAKI様\n\nスポンサー 
 株式会社ディー・エヌ・エー様\n\nスポンサー 株式会
 社リンクアンドモチベーション様\n
LOCATION:Zoomウェビナー オンライン
URL:https://techplay.jp/event/839224?utm_medium=referral&utm_source=ics&utm
 _campaign=ics
END:VEVENT
END:VCALENDAR
