BEGIN:VCALENDAR
VERSION:2.0
PRODID:-//https://techplay.jp//JP
CALSCALE:GREGORIAN
METHOD:PUBLISH
X-WR-CALDESC:CI/CD、DevOps、DevSecOpsの取り組みをされた企業事
 例を紹介！12月10日開催★Jenkins Day Japan 2021★▽DeNA様▽
 モノタロウ様▽Jenkins生みの親 川口耕介氏登壇！
X-WR-CALNAME:CI/CD、DevOps、DevSecOpsの取り組みをされた企業事
 例を紹介！12月10日開催★Jenkins Day Japan 2021★▽DeNA様▽
 モノタロウ様▽Jenkins生みの親 川口耕介氏登壇！
X-WR-TIMEZONE:Asia/Tokyo
BEGIN:VTIMEZONE
TZID:Asia/Tokyo
BEGIN:STANDARD
DTSTART:19700101T000000
TZOFFSETFROM:+0900
TZOFFSETTO:+0900
TZNAME:JST
END:STANDARD
END:VTIMEZONE
BEGIN:VEVENT
UID:839372@techplay.jp
SUMMARY:CI/CD、DevOps、DevSecOpsの取り組みをされた企業事例
 を紹介！12月10日開催★Jenkins Day Japan 2021★▽DeNA様▽モ
 ノタロウ様▽Jenkins生みの親 川口耕介氏登壇！
DTSTART;TZID=Asia/Tokyo:20211210T100000
DTEND;TZID=Asia/Tokyo:20211210T180000
DTSTAMP:20260421T012456Z
CREATED:20211122T023325Z
DESCRIPTION:イベント詳細はこちら\nhttps://techplay.jp/event/83937
 2?utm_medium=referral&utm_source=ics&utm_campaign=ics\n\n#12月10日開
 催「Jenkins Day Japan 2021」Jenkinsを活用した運用や、CI/CD、
 DevOpsの取り組みをされた企業事例を紹介するイベント
 です！！\n\nZoomの入退室は自由です★\nセミナーの内容
 、スケジュールは変更になる場合があります。\n申込
 された方には、当日参加できなかった場合でも、公開
 を許可された動画配信のURLをお伝えいたします。★\n
 アンケート回答者には、Amazonギフト券500円分を抽選で
 プレゼン！！\n\n概要\n今年のテーマは、「CI/CD、DevOps
 、DevSecOps」をキーワードとして、日本におけるソフト
 ウェア市場を盛り上げるため、「Jenkins」を活用した運
 用の紹介や、Jenkinsに限らず、「CI/CD」「DevOps」を組織
 的に取り組まれている企業の事例をご紹介いたします
 ！！\n開発の効率化・ソフトウェア品質の向上を目指
 されているソフトウェア開発者の方や、組織としてのD
 evOpsやデジタルトランスフォーメーションにご興味の
 あるリーダーやマネージャーの方におすすめのセミナ
 ーとなっています。\n多彩なゲストをお招きして登壇
 していただきますので、ご参加ください。\nタイムス
 ケジュール\n\n\n\n時間\n内容\n\n\n\n\n10:00〜〜10:05\n開始\n
 \n\n10:05〜10:25\nオープニングトーク\n\n\n10:25〜10:30\n休憩
 \n\n\n10:30〜11:10\nFlaky test対策の最新動向川口耕介 氏 Laun
 chable\, Inc.\n\n\n11:10〜11:15\n休憩\n\n\n11:15〜11:35\nCI/CD、Dock
 er、Gitを活用した次世代の開発ワークフローへテクマ
 トリックス株式会社 藤澤 克貴\n\n\n11:35〜11:40\n休憩\n\n\
 n11:40〜12:00\nオープンソースのセキュリティ管理とガバ
 ナンスを自動化～Snyk Open Sourceで実現するdevelop fast & sta
 y secure～テクマトリックス株式会社 西尾 好正\n\n\n12:15
 〜13:05\n昼休憩\n\n\n13:05〜13:45\nJenkins Pipeline での Shared Li
 braries の活用株式会社ディー・エヌ・エー 井口 恒志 
 氏\n\n\n14:25〜14:35\n休憩\n\n\n13:55〜14:25\nモノリスJenkinsが
 あなたのCI/CDを遅くする～Jenkinsコントローラーの分割
 によるパフォーマンスの向上～テクマトリックス株式
 会社 橘祐史\n\n\n14:25〜14:35\n休憩\n\n\n14:35〜15:15\nOpenTelem
 etry による Jenkins の監視東京大学大学院 修士1年 木内 
 陽大 氏\n\n\n15:25〜16:05\nモノタロウの開発・リリースサ
 イクルを支えるJenkinsの活用事例株式会社MonotaRO 金谷 
 敦志 氏\n\n\n16:05〜16:15\n休憩\n\n\n16:15〜16:35\nJenkinsとNGINX
 を使った効率的なアプリケーション通信の制御テクマ
 トリックス株式会社 鈴木航平、島田大輔\n\n\n16:35〜16:5
 5\n多次元的解釈によるDevOpsのRe:Definition株式会社カサレ
 アル 植草 克友 氏\n\n\n16:55〜17:00\n休憩\n\n\n17:00〜17:40\nC
 oming soonCloudbees Phil Cherry 氏\n\n\n17:40〜17:50\n全体のQ＆A＋
 閉会挨拶\n\n\n18:00\n閉会\n\n\n\n※ 当日予告なく時間配分
 ・内容が変更になる可能性がございます。\n登壇者\n\n
 川口　耕介 氏\nLaunchable\, Inc. CEO\n米国Sun MicrosystemsにてJ
 avaEEの開発に携わった後、オープンソースのCI/CDサーバ
 Jenkins及びそのコミュニティを作る。2010年よりCloudBees
 にてJenkinsを事業化、CTOとして400人規模の会社へと成長
 させる一翼を担う。CloudBees、GoogleやNetflixなどがLinux財
 団と設立したContinuous Delivery Foundation にて技術監督委員
 会の委員長。2020年よりLaunchable co-CEOとして開発者の生
 産性への更なる取り組みを進める。楽天テクノロジー
 アワード、日米韓オープンソースアワード貢献者賞、O
 ’Reilly オープンソースアワード、未踏ユース・スーパ
 ークリエイター賞。\n\n\n\n井口 恒志 氏\n株式会社ディ
 ー・エヌ・エーシステム本部 品質統括部 品質管理部 S
 WET第二グループ\nSIerにてロボット関連のシステム開発
 やWebサービス開発の経験を経て、2017年より現職である
 株式会社ディー・エヌ・エー へ入社。入社以来、SWET
 グループにて、自動テストの開発・運用、CI/CDの活用
 促進、運用や関連技術の調査を担当。近年ではスマー
 トフォン向けゲームの開発案件にてJenkinsを有効的に活
 用可能なように技術的サポート、ツール開発やメンテ
 ナンスを担当。社外ではCircleCI Japan User Group Community Lead
 ers の一員としても活動中。\n\n\n\n木内 陽大 氏\n株式会
 社ディー・エヌ・エー東京大学大学院 修士1年\nGoogle Su
 mmer of Code 2021 @ Jenkins。\n\n\n金谷 敦志 氏\n株式会社Monota
 ROECシステムエンジニアリング部門 EC開発-E グループ\n
 検索エンジンパッケージソフト開発、ソーシャルメデ
 ィア向けマーケティングサービス開発を経て2014年にMon
 otaROに入社。モノタロウのECサイト開発とDevOps普及活動
 を行い、現在はエンジニアリングマネージャーとして
 エンジニアの成長支援を行う。現職は3社目だが3社す
 べてでJenkins導入に関わっており、今も片手間でJenkins
 を運用し続けている。。\n\n参加対象\n\nJenkinsをこれか
 ら利用、または利用し始めの方\n継続的インテグレー
 ション／継続的デリバリーの導入に取り組んでいる方\
 nソフトウェア開発の効率化をお考えの方\n\n参加費\n無
 料\nハッシュタグ\n#Jenkinsday\n注意事項\n\n講演内容の録
 音・録画は禁止させていただきます\n講演演内容の資
 料の複製や無断転載は禁止させていただきます。\n天
 災や交通機関のストライキ等により、止むを得ず開催
 を中止、もしくは時間の変更を行う場合がございます
 。\n講演概要の内容、スケジュールは、変更になる場
 合があります。\n\n。ｏ ◯　　＿＿П　　　　　　　　
 　　／＼　／＼　Ц＼　　 △　　　／＼／　＼／＼／ 
 □ ＼____＼　(^^) 　 ／　／　 ＼　＼｜￣￣￣｜ 　｜( 
 ： )　 ￣||￣ || ￣||￣
LOCATION:オンライン(Zoom配信)
URL:https://techplay.jp/event/839372?utm_medium=referral&utm_source=ics&utm
 _campaign=ics
END:VEVENT
END:VCALENDAR
