BEGIN:VCALENDAR
VERSION:2.0
PRODID:-//https://techplay.jp//JP
CALSCALE:GREGORIAN
METHOD:PUBLISH
X-WR-CALDESC:【新川崎・KBIC】SDGs Pitch Event 2021 vol.3
X-WR-CALNAME:【新川崎・KBIC】SDGs Pitch Event 2021 vol.3
X-WR-TIMEZONE:Asia/Tokyo
BEGIN:VTIMEZONE
TZID:Asia/Tokyo
BEGIN:STANDARD
DTSTART:19700101T000000
TZOFFSETFROM:+0900
TZOFFSETTO:+0900
TZNAME:JST
END:STANDARD
END:VTIMEZONE
BEGIN:VEVENT
UID:839911@techplay.jp
SUMMARY:【新川崎・KBIC】SDGs Pitch Event 2021 vol.3
DTSTART;TZID=Asia/Tokyo:20211130T210000
DTEND;TZID=Asia/Tokyo:20211201T153000
DTSTAMP:20260421T022949Z
CREATED:20211126T064524Z
DESCRIPTION:イベント詳細はこちら\nhttps://techplay.jp/event/83991
 1?utm_medium=referral&utm_source=ics&utm_campaign=ics\n\n\n【新川崎
 ・KBIC】SDGs Pitch Event 2021 vol.3\n概要\n「持続可能な開発
 目標：SDGs」の目標達成の期限まで残り9年となり、目
 標達成期日が刻々と迫っています。日本国内でも社会
 的関心を集め、「SDGs」というキーワードは常識となり
 つつあり、企業活動においてもより一層SDGs目標達成に
 向けての取り組みを求められています。SDGsの目標達成
 に向けて取り組むことは、御社の取り組みにプラスに
 なること間違いなし！新川崎・KBICで、ビジネスパート
 ナーを見つけましょう！\n【ビジネスにスピードと正
 確性は必須！】\nSDGsで掲げられている17のカテゴリに
 沿った内容でベンチャーが提案型ピッチを実施。この
 ページの「登壇企業欄」をご覧いただき、イベントに
 参加する前に登壇企業に対して興味を持っていただい
 た方には、イベント終了後、早速個別面談へご案内さ
 せていただくことも可能です。※参加のお申込みをい
 ただく際に、個別面談へのお申込みもご一緒にお願い
 いたします。\nイベント内でご案内するマッチングシ
 ートにて面談申込いただいた場合は、イベント終了後
 、日程調整をした上で個別面談の設定をさせていただ
 きます。\n皆様のご参加をお待ちしております！\n【こ
 んな方にオススメ】・SDGsに取り組んでいるすべての企
 業/関係者・その他、興味のある方\nタイムスケジュー
 ル\n\n\n\n時間\n内容\n\n\n\n\n15:00〜\n受付開始\n\n\n15:00〜15
 :05\nイベント説明\n\n\n15:05〜15:10\n飛行艇型ドローンで
 広域な海洋環境データを取得株式会社スペースエンタ
 ーテインメントラボラトリー代表取締役　金田　政太 
 氏\n\n\n15:10〜15:15\n食品残渣・廃棄植物活用 バイオ樹脂
 開発株式会社事業革新パートナーズ代表取締役社長　
 茄子川　仁 氏\n\n\n15:15〜15:20\n環境に優しい非晶化技術
 で、でんぷん・セルロースの利用性を向上株式会社ア
 ルファテックCOO 曵地　知夏 氏\n\n\n15:20〜15:25\n世界最
 小最軽量レベル海水淡水化装置、循環式手洗い機の開
 発ワイズグローバルビジョン株式会社代表取締役社長
 　柳瀬　善史 氏\n\n\n15:25〜15:30\n事務局からご案内・イ
 ベント終了\n\n\n\n\n\n\n\n※ 当日予告なく時間配分・内
 容が変更になる可能性がございます。\n登壇者\n\n株式
 会社スペースエンターテインメントラボラトリー\n代
 表取締役　金田　政太 氏\n航空宇宙技術をコアとした
 テクノロジーカンパニー。ドローンや高高度気球、小
 型人工衛星など様々な飛行ロボットの開発や運用を行
 う。現在は海や河川、湖など水面を滑走路に発着が出
 来る、世界でも類を見ない飛行艇型ドローンシステム
 の開発を進めている。\n\n\n\n株式会社事業革新パート
 ナーズ\n代表取締役社長　茄子川　仁 氏\n100％植物由
 来・海洋生分解性バイオプラスチック樹脂、製品の開
 発・製造を行っています。特に、廃棄・焼却されてい
 る間伐材、残渣、搾りかす等に含まれる未利用資源で
 ある多糖類「ヘミセルロース」を活用し、CO2排出量を
 大幅に削減した樹脂材料で、射出成形品、シート・フ
 ィルム品、繊維を提供しています。\n\n\n株式会社アル
 ファテック\nCOO 曵地　知夏 氏\n山形大学西岡研究室で
 開発された、水不要、粉砕のみで瞬時に穀類をアルフ
 ァ化させる技術を、飼料の消化率向上およびグルテン
 フリーやクリーンラベルなどの食品分野に展開するこ
 とをめざしています。現在、産業用の大型アルファ化
 粉砕機含め事業化に向けた開発を進めています。また
 、同技術をセルロースの非晶化に用いた、環境に優し
 く低コストなバイオマス前処理についても技術開発中
 です。\n\n\nワイズグローバルビジョン株式会社\n代表
 取締役社長　柳瀬　善史 氏\n特許取得済みのパーツで
 小型化成功し世界最小最軽量レベルの海水淡水化装置
 を開発。\nソーラーで稼働出来るレベルの低エネルギ
 ー海水淡水化装置で脱炭素化を推進。\n更に水をリサ
 イクル出来る循環式手洗いなども開発しておりSDGs事業
 を拡大中。\n\n参加対象\n\nSDGsに取り組んでいるすべて
 の企業/関係者\nその他、興味のある方\n\n参加費\n無料\
 nハッシュタグ\n#SDGs #KBIC #新川崎 #オープンイノベーシ
 ョン\n申込・参加の流れ\n・Peatixからのお申込み（Peatix
 イベントページの「チケットを申し込む」をクリック
 ）・Googleフォームからのお申込み（こちらをクリック
 ）◇開催の前日を目安に、当日ご参加いただくウェビ
 ナー登録のためURLを送付いたします。◇メールが届か
 ない方は迷惑メールフォルダをご確認の上、事務局【e
 vent@kawasaki-net.ne.jp】までご連絡ください。◇事前にZoom
 に参加可能な環境（カメラ・マイク・通信環境）を整
 えておいてください。◇当日開催5分前になりましたら
 、以下どちらかの方法でURLにアクセスしてください。
 ①開催前日に登録いただいたメールアドレスにご案内
 するURL②Peatixのマイチケットにリンクされている配信U
 RL\n\n【注意事項】※必ずお読みください※\n※イベン
 ト参加は事前予約制です。※何かしらのご事情で欠席
 される場合は、事務局までご連絡ください。※Peatix申
 込名と、当日入室していただくアカウント名は同名で
 設定してください。※当イベントはZoomウェビナーを利
 用しており、通信環境により映像や音声が乱れる場合
 がございます。※当イベントの録画、録音、撮影につ
 いてはお断り致します。※ZoomウェビナーのURL等をメー
 ルでお送りさせていただきます。正確なメールアドレ
 スの入力にご協力ください。　（Gmail等のフリーアド
 レスの場合、メールが届かないことがございます。フ
 リーアドレス以外での登録をお勧めいたします。）※
 終了時刻は目安となります。※何らかの事情で当イベ
 ントの実施が困難となった場合、中止する場合がござ
 います。中止の際はメールでご連絡させていただきま
 す。
LOCATION:オンライン
URL:https://techplay.jp/event/839911?utm_medium=referral&utm_source=ics&utm
 _campaign=ics
END:VEVENT
END:VCALENDAR
