BEGIN:VCALENDAR
VERSION:2.0
PRODID:-//https://techplay.jp//JP
CALSCALE:GREGORIAN
METHOD:PUBLISH
X-WR-CALDESC:JAWS-UG東京 - Celebrating 10 Years of re:Invent
X-WR-CALNAME:JAWS-UG東京 - Celebrating 10 Years of re:Invent
X-WR-TIMEZONE:Asia/Tokyo
BEGIN:VTIMEZONE
TZID:Asia/Tokyo
BEGIN:STANDARD
DTSTART:19700101T000000
TZOFFSETFROM:+0900
TZOFFSETTO:+0900
TZNAME:JST
END:STANDARD
END:VTIMEZONE
BEGIN:VEVENT
UID:840159@techplay.jp
SUMMARY:JAWS-UG東京 - Celebrating 10 Years of re:Invent
DTSTART;TZID=Asia/Tokyo:20211129T180000
DTEND;TZID=Asia/Tokyo:20211129T190000
DTSTAMP:20260421T193406Z
CREATED:20211129T061435Z
DESCRIPTION:イベント詳細はこちら\nhttps://techplay.jp/event/84015
 9?utm_medium=referral&utm_source=ics&utm_campaign=ics\n\nはじめに(重
 要事項)\n\nハッシュタグは、#jawsug #reinvent2021 です。\n\n
 JAWS-UG東京 #35\nゲリラ開催のためゲストトーク以外未定
 です。当日お楽しみに！\nVenue (会場)\nオンライン配信
 です\nAgenda\n\n\n\nTimeline\nTitle\nSpeaker\n\n\n\n\n18:00 -\nゲス
 トトーク\n\n\n\n\n※タイムテーブルは予告なく変更にな
 ることがあります\nSpeakers & Co-Chairs\n吉田真吾\n\n\n\nAWS
 ウルトラクイズ初代チャンピオン (2012年)\n2012年のAWSサ
 ミット後のJAWS-UGナイトイベントで優勝して初代チャン
 ピオンに。これがきっかけで初開催のAWS re:Inventに招待
 され、米国でのAWSビジネスの現実な大きさに驚かされ
 、cloudpackにエバンジェリスト/SAとしてジョイン。\n\n\nA
 WS Samurai 2014 / 2016\n年間130回ほど講演をしながらAWSの普
 及に貢献したことが評価され、AWSサムライを2度受賞。
 \n\n\nAWS Serverless Hero\nグローバルでサーバーレスに関す
 る活動が評価され、サーバーレスヒーローに認定。\n\n
 \n\n\n吉江瞬\n\n\n\n普段はセキュリティエンジニア、イ
 ンフラエンジニア、コンサルタント\nSecurity-JAWS運営\nX-
 Tech JAWS運営\nAgri JAWS相談役\nJAWS-UG東京運営\nJAWS DAYS 2019
 実行委員長\nAWS Samurai 2018\n\n\n運営メンバー募集中!!\n私
 たちJAWS-UG東京支部はこの活動を一緒に盛り上げてくれ
 る運営メンバーをつねに募集しています。年齢・性別
 ・技術レベルは問いません。 オープンマインドでいい
 人が参加してくれることを期待しています。\n東京在
 住あるいは在勤の方はぜひ力を貸してください。\n興
 味のある方はTwitterやFacebook、あるいはこちらのコメン
 ト欄などからご連絡ください。\n参加のルールとマナ
 ー\nJAWS-UGの基本的な参加ルールとマナーは以下のとお
 りです。参照先と以下に相違がある場合は、参照先が
 優先されます。\nルール\n関係者の人種、性別、性的指
 向、身体的特徴、見た目、政治、宗教（または無宗教
 ）などに係る表現は、いかなる場合も適切ではありま
 せん。\nJAWS-UG は No sell\, No Job です。イベントの趣旨と
 関係のない宣伝行為・採用活動・ネットワーキングの
 みを目的としたご参加はご遠慮ください。\nルールに
 違反する方は参加をお断りする場合がございます。\n
 マナー\nあなたのクリエイティブで前向きな発言がイ
 ベントをより楽しくします。発表者や質問者に対して
 疑問や意見がある場合は批判や罵り・嘲りではなく提
 案と課題解決の態度でポジティブな発言を心がけまし
 ょう。\n全てのイベントは有志のボランティアにより
 非営利目的にて運営され、いつでもあなたの手助けを
 必要としています。お気付きの点があればぜひご協力
 をお願いいたします。\n私たちはコミュニティへの貢
 献を通じて社会からの信頼を得ることがより良いビジ
 ネスに繋がり、より自分らしい働き方を見つける手段
 になると信じています。\nAWSのユーザーグループは日
 本中、世界中に存在し、あなたの参加を待っています
 。是非コミュニティを通じて世界中の仲間と繋がりま
 しょう。\nアンチハラスメントポリシーについて\nJAWS-U
 Gの参加ルールとマナーにくわえて、当コミュニティで
 はすべての参加者(スピーカー、スタッフ、参加者、そ
 の他サポートしてくれるすべての関係者)は以下の規範
 に同意する必要があります。われわれはかかわるすべ
 ての人に安全な環境が提供されるように参加者全員が
 これに協力することを期待します。\nアンチハラスメ
 ントポリシー(短縮版)\n性別、性の同一性や表現、年齢
 、性的指向、身体障害、体型、体格、人種、または宗
 教(または逆に信仰を持たないこと)にかかわらず、誰
 に対しても嫌がらせのない参加体験を提供することに
 努めます。参加者への嫌がらせはいかなる行為も容認
 しません。性的な表現や画像などは、講演、ワークシ
 ョップ、パーティー、TwitterやFacebookおよびその他すべ
 てのオンラインメディアを含む、あらゆる場において
 不適切とみなします。これらの規則に違反した参加者
 は、たとえ有料イベントであっても開催者の裁量で返
 金することなく、これらの場所から追放され今後の参
 加の一切を断る可能性があります。\nアンチハラスメ
 ントポリシー(完全版)\n「嫌がらせ」には、性別、年齢
 、性的指向、身体障害、体格、人種、宗教に関する不
 快な発言や、性的な画像の使用、意図的な脅迫、スト
 ーキング行為、望まない写真撮影や録音・録画、議論
 の中断を招く不快な発言、不適切な身体的接触、歓迎
 すべきでない性的関心を引く行為が含まれます。\n嫌
 がらせ行為を中止するように求められた参加者は、直
 ちに遵守することが求められます。\n参加者が嫌がら
 せ行為に関与している場合、主催者は、違反者への警
 告や(たとえ有料イベントであっても)返金なしでの即
 時退場など、適切と思われる行動を取ることができま
 す。\nあなたが嫌がらせを受けている、あるいは他の
 誰かが嫌がらせを受けていたり、その懸念がある場合
 には、すぐにスタッフに連絡してください。\nスタッ
 フは、参加者が会場のセキュリティまたは警察機関に
 連絡して護衛を提供したり、またはその他の方法でイ
 ベントの開催中に当該参加者の安全が担保されること
 を支援します。つまりわれわれはあなたの参加を心か
 ら歓迎しています。\nわれわれは、すべての参加者が
 勉強会、カンファレンス、ワークショップといったイ
 ベントの会場やイベント関連のミートアップにおいて
 これらの規則に従うことを期待します。\n個人情報保
 護について\n勉強会の会場へ入館申請を行うため、参
 加者の本名やメールアドレスの情報を頂く場合があり
 ます。\nそのため、connpassの事前アンケートで頂いた個
 人情報を以下に定める内容にて取り扱います。\n個人
 情報の利用目的について\nご提供いただいた個人情報
 は、以下に定める目的にのみ利用いたします。\n\nコミ
 ュニティ開催会場の入館申請手続き\n勉強会の申し込
 み者の入館時のご本人確認\n\n個人情報の取扱\n取得し
 た個人情報は、connpassでの入力により取得を行います
 。当サイト上での個人情報の取得にあたっては、提供
 時における確認などのクリックによって本人の同意を
 得たものとします。\n当コミュニティでは、次のいず
 れかに該当する場合を除き、個人情報を第三者に開示
 ・提供いたしません。\n\n会場入館の目的に沿って会場
 提供者（社）に入館申請を行う場合\n本人の同意があ
 る場合\n本人の生命の保護などのために必要な場合で
 あって、緊急を要するなど、ご本人の同意を得ること
 が困難である場合\n
LOCATION:JAWS-UG東京 YouTubeチャンネル
URL:https://techplay.jp/event/840159?utm_medium=referral&utm_source=ics&utm
 _campaign=ics
END:VEVENT
END:VCALENDAR
