BEGIN:VCALENDAR
VERSION:2.0
PRODID:-//https://techplay.jp//JP
CALSCALE:GREGORIAN
METHOD:PUBLISH
X-WR-CALDESC:【SEO初心者必見｜正しいSEO基礎知識を学ぶ】Go
 ogle公式SEOガイド読解セミナー
X-WR-CALNAME:【SEO初心者必見｜正しいSEO基礎知識を学ぶ】Go
 ogle公式SEOガイド読解セミナー
X-WR-TIMEZONE:Asia/Tokyo
BEGIN:VTIMEZONE
TZID:Asia/Tokyo
BEGIN:STANDARD
DTSTART:19700101T000000
TZOFFSETFROM:+0900
TZOFFSETTO:+0900
TZNAME:JST
END:STANDARD
END:VTIMEZONE
BEGIN:VEVENT
UID:840520@techplay.jp
SUMMARY:【SEO初心者必見｜正しいSEO基礎知識を学ぶ】Google
 公式SEOガイド読解セミナー
DTSTART;TZID=Asia/Tokyo:20211207T130000
DTEND;TZID=Asia/Tokyo:20211207T140000
DTSTAMP:20260424T003139Z
CREATED:20211201T044904Z
DESCRIPTION:イベント詳細はこちら\nhttps://techplay.jp/event/84052
 0?utm_medium=referral&utm_source=ics&utm_campaign=ics\n\n【SEO初心者
 必見｜正しいSEO基礎知識を学ぶ】Google公式SEOガイド読
 解セミナー\nセミナー詳細\n正しいSEO基礎知識を学ぶ\nS
 EOに関する情報はサイト上に溢れていますが、それら
 の情報には、Googleが実際にガイドしているものだけで
 なく、経験則や類推によるものも数多く存在します（
 弊社も経験に基づいたセミナー、コンサルティングを
 提供しています）。\n大量にある情報の中で実際にGoogl
 eが公式にガイドしていることを知ることは、情報の取
 捨選択をする上で大変重要です。本セミナーでは、SEO
 のGoogle公式ガイドを読み解くことにより、正しいSEO基
 礎知識のスタート地点を受講者に提供することを目指
 しています。\nGoogle検索セントラルとは？\nGoogle検索セ
 ントラルはGoogle公式のSEOサポートコンテンツで、SEOを
 実施する上で必要不可欠な情報が掲載されています。
 本セミナーではこの検索セントラルの中でもSEO初心者
 が知っておきたい【SEOスターターガイド】の内容を解
 説していきます。SEOに取り組もうと考えているWEB担当
 の方は是非ご参加ください！\nこんな方におすすめ\n・
 これからSEOに取り組もうと考えている方・SEOについて
 の情報が多すぎて何から学べばいいのか分からない方
 ・SEOは専門用語が多くて難しいと感じる方・SEOスター
 ターガイドを読む時間がない方\n本セミナーの特徴\n①
 SEOで必要な知識を学べるSEO対策はGoogleが発信している
 情報を知らないことには始まりません。本セミナーで
 は、その情報の中から特に重要なポイントを初心者に
 も分かり易く解説していきます。\n②全てのサイトで
 使えるSEOの基本が身につく本セミナーでは検索の仕組
 みやコンテンツの作り方など、サイトの種類を問わず
 必要となるSEOの基本を学ぶことができます。\nセミナ
 ーカリキュラム\n①Google検索の仕組みとコンテンツの
 見つけ方②コンテンツの作り方③有益なコンテンツの
 条件④その他の重要なSEOトピック⑤演習問題\n※講演
 内容は予告なく変更される場合がございます。予めご
 了承くださいますようお願いします。※競合にあたる
 企業の方の申し込みはお断りをさせて頂いております
 。ご了承ください※本セミナーは事前に録画した内容
 を配信します。\n参加対象\n\n広告・マーケティング・
 広報に関わっている方\nWeb制作・SEO担当者\nWEBマスター
 ・サイト管理者・デザイナー\n\n参加費\n無料\n開催概
 要\n本セミナーはZoomでの配信となります。セミナー参
 加URLは開催前日、開始1時間前に（no-reply@zoom.us）より
 お送りしています。\n※参加URLが配信されていない場
 合はお手数ですがシンメトリックセミナー事務局(semina
 r@symmetric.co.jp)までご連絡ください。\n注意事項\n\nリク
 ルーティング、勧誘など、採用目的でのイベント参加
 はお断りしております。\n欠席される場合は、お手数
 ですが速やかにキャンセル処理をお願い致します。\n
 無断キャンセルや欠席が続く場合、次回以降の参加を
 お断りさせていただく場合がございます。\n\n主催社に
 ついて\n株式会社シンメトリック(https://www.symmetric.co.jp)
 \nSEO改善サービス『クラスターSEO』、アクセス解析ツ
 ール『アナトミー』を提供しています。シンメトリッ
 クは、アクセス解析・SEO対策の専門家として、Googleア
 ナリティクスやサーチコンソールのデータを可視化し
 、サイトの課題点の発見、改善案の策定を支援するツ
 ールやサービスを提供しています。
LOCATION:https://mktg.siteanatomy.com/form/CNTSEO
URL:https://techplay.jp/event/840520?utm_medium=referral&utm_source=ics&utm
 _campaign=ics
END:VEVENT
END:VCALENDAR
