BEGIN:VCALENDAR
VERSION:2.0
PRODID:-//https://techplay.jp//JP
CALSCALE:GREGORIAN
METHOD:PUBLISH
X-WR-CALDESC:【無料】店舗設計のデザイン検討ツールとし
 てLumionを活用する講座
X-WR-CALNAME:【無料】店舗設計のデザイン検討ツールとし
 てLumionを活用する講座
X-WR-TIMEZONE:Asia/Tokyo
BEGIN:VTIMEZONE
TZID:Asia/Tokyo
BEGIN:STANDARD
DTSTART:19700101T000000
TZOFFSETFROM:+0900
TZOFFSETTO:+0900
TZNAME:JST
END:STANDARD
END:VTIMEZONE
BEGIN:VEVENT
UID:841105@techplay.jp
SUMMARY:【無料】店舗設計のデザイン検討ツールとしてLumi
 onを活用する講座
DTSTART;TZID=Asia/Tokyo:20220114T180000
DTEND;TZID=Asia/Tokyo:20220114T190000
DTSTAMP:20260419T194958Z
CREATED:20211206T062755Z
DESCRIPTION:イベント詳細はこちら\nhttps://techplay.jp/event/84110
 5?utm_medium=referral&utm_source=ics&utm_campaign=ics\n\n【無料】リ
 ニューアル！店舗設計でデザイン検討ツールとしてLumi
 onを活用する講座\n概要\n今回は小さなレストランの内
 装を題材とします。LUMIONは登録されている家具などの
 オブジェクトが豊富。いろんな形式のモデリングデー
 タを取り込み、ライブラリ化できる。レンダリングの
 早さを活かして、家具のレイアウトや各素材を変更し
 て素早く確認できる。今回の講座ではCGを仕上げると
 ころまではせず、あくまでスタディツールとして活用
 することを目的とする。\nタイムスケジュール\n※ 当
 日予告なく時間配分・内容が変更になる可能性がござ
 います。\n登壇者\n\n大村明徳先生\n・プロフィール\n一
 級建築士、伝統再築士\n専門：建築・インテリアの設
 計デザイン\nアトリエ建築事務所勤務で建築設計に携
 わる。主に住宅、オフィスビル、マンション、ホテル
 など。\n中東・ヨーロッパを約半年間バックパッカー
 として巡る。\n空間デザイン事務所にて、商業施設な
 どのデザインに携わる。\n2015年に独立し主に宿泊施設
 、飲食店や住宅の設計デザインに携わる\n\n\n\n参加対
 象\n・エンジニア・建築設計者・建築を学ぶ学生\n※ 
 リクルーティング、勧誘など、採用目的でのイベント
 参加はお断りしております。※ 補欠者の方は、ご来場
 いただいてもご入場いただくことが出来ませんのでご
 了承ください。\n参加費\n無料\nハッシュタグ\n#techplayjp
 \n#Lumion\n#店舗設計\n注意事項\n\n欠席される場合は、お
 手数ですが速やかにキャンセル処理をお願い致します
 。\n無断キャンセルや欠席が続く場合、次回以降の参
 加をお断りさせていただく場合がございます。\n
LOCATION:オンライン
URL:https://techplay.jp/event/841105?utm_medium=referral&utm_source=ics&utm
 _campaign=ics
END:VEVENT
END:VCALENDAR
