BEGIN:VCALENDAR
VERSION:2.0
PRODID:-//https://techplay.jp//JP
CALSCALE:GREGORIAN
METHOD:PUBLISH
X-WR-CALDESC:第2回 マーケティング・販促サミット - DMMオン
 ライン展示会
X-WR-CALNAME:第2回 マーケティング・販促サミット - DMMオン
 ライン展示会
X-WR-TIMEZONE:Asia/Tokyo
BEGIN:VTIMEZONE
TZID:Asia/Tokyo
BEGIN:STANDARD
DTSTART:19700101T000000
TZOFFSETFROM:+0900
TZOFFSETTO:+0900
TZNAME:JST
END:STANDARD
END:VTIMEZONE
BEGIN:VEVENT
UID:841233@techplay.jp
SUMMARY:第2回 マーケティング・販促サミット - DMMオンラ
 イン展示会
DTSTART;TZID=Asia/Tokyo:20220216T100000
DTEND;TZID=Asia/Tokyo:20220218T180000
DTSTAMP:20260421T071316Z
CREATED:20211207T024408Z
DESCRIPTION:イベント詳細はこちら\nhttps://techplay.jp/event/84123
 3?utm_medium=referral&utm_source=ics&utm_campaign=ics\n\n第2回 マー
 ケティング・販促サミット\n売上・集客をアップさせ
 るサービスが集結会期：2022年2月16日(水)～18日(金)会場
 ：オンライン展示会ページ：https://exhibition.showbooth.dmm.c
 om/events/marketing2202/費用：出展・来場ともに無料※出展
 は、一部有料プランもあり主催：合同会社DMM.com\n概要\
 n本展示会はあらゆるマーケティング・販促を提供する
 企業が集結する展示会です。\nマーケターには、企画
 力・分析力・情報収集力など、様々なスキルが求めら
 れます。ですが日々の実務に追われ、最新の情報や注
 目のサービスなど、スキル向上や業務に役立つ情報の
 キャッチアップができていない方も多いのではないで
 しょうか？本展示会では最先端のマーケティングや、
 効率化のツールなど、気になるサービスが一度にチェ
 ックできます。特に業界著名人による本展示会だけの
 セミナー配信は必見！\nオンライン開催なのでどこか
 らでも無料で参加可能です。短時間で多くの情報を取
 得でき、新たな出会いも期待できます。この機会をぜ
 ひご活用ください。\n★展示会ページはこちら\n業界の
 トップランナーによるセミナーを配信予定！\n　登壇
 者など、詳細は確定次第随時アップデートします\n\n"
 豪華登壇者"による本展示会だけの特別セミナーを配信
 ！\n出展社による最新事例やサービスのPRセミナーも視
 聴可能！\n\nこんな方におすすめ\n\n時間をかけずに最
 新マーケティング動向や話題の情報を収集したい\n集
 客や売上で苦戦していて、対策や新規施策を考えたい\
 n業務効率化などのツールを導入したい\n\n参加費\n出展
 ・来場ともに無料※出展に関しては、露出やリード取
 得の強化ができる有料プランもございます。\n★来場
 登録・詳細はこちら★出展登録・資料ダウンロードは
 こちら\n出展カテゴリ\n\n\n広告・SNS\n\n\n動画・音声広
 告 ／ プラットフォーム ／ ターゲティング ／ 広告最
 適化 ／ 広告分析 ／ SNS広告 ／ SNS分析 ／ UGC ／ インフ
 ルエンサー ／ 海外プロモーション ／ メディア ／ そ
 の他広告・SNS\n\n\nMA・顧客対応ツール\n\n\nマーケティ
 ングオートメーション ／ Eメール ／ SMS ／ チャット 
 ／ チャットボット ／ その他顧客対応\n\n\nデータ分析
 ・WEB最適化\n\n\n市場調査 ／ 競合調査 ／ アクセス解析
  ／ BIツール ／ SEO ／ LPO ／ EPO・フォーム作成 ／ その
 他データ分析・WEB最適化\n\n\nコンテンツマーケティン
 グ\n\n\n動画制作・配信 ／ 記事制作・配信 ／ その他コ
 ンテンツ\n\n\n営業支援\n\n\n顧客管理システム ／ 営業
 支援IT ／ 営業ツール作成 ／ その他営業支援\n\n\n販促\
 n\n\nノベルティ・OEM制作 ／ 什器・POP・ディスプレイ 
 ／ 照明・イルミネーション ／ 看板・ディスプレイ ／
  印刷・パッケージ ／ デジタルサイネージ ／ 店舗運
 営 ／ イベント企画 ／ その他販促\n参加対象\n\nマーケ
 ティング\n販促・イベント担当\n広告・宣伝・広報\n営
 業企画\nWEB・メディア戦略\n\n来場のメリット\n\n\n業務
 の合間に最新動向を一気に把握\n\n\n業務の合間に参加O
 K！各企業ブースの資料・動画でサービス・製品の最新
 動向を一気に把握できます。\n\n\n企業と気軽に商談\n\n
 \nリアルに近い感覚で、オンライン上で企業と簡単・
 気軽に商談することができます（会期中）\n\n\n名刺の
 交換\n\n\n名刺交換機能を使うことで、企業担当者と繋
 がりを持つことができます。名刺交換機能を使うこと
 で、企業担当者と繋がりを持つことができます。\n★
 今すぐ無料で来場登録\n\nお問い合わせ先\n合同会社DMM.
 comオンラインイベント事業部お問い合わせはこちらの
 フォームよりお願いいたします。
LOCATION:オンライン
URL:https://techplay.jp/event/841233?utm_medium=referral&utm_source=ics&utm
 _campaign=ics
END:VEVENT
END:VCALENDAR
