BEGIN:VCALENDAR
VERSION:2.0
PRODID:-//https://techplay.jp//JP
CALSCALE:GREGORIAN
METHOD:PUBLISH
X-WR-CALDESC:ひと視点をつらぬきビジネスモデルへつなぐ 
 「サービスデザイン」ワークショップ
X-WR-CALNAME:ひと視点をつらぬきビジネスモデルへつなぐ 
 「サービスデザイン」ワークショップ
X-WR-TIMEZONE:Asia/Tokyo
BEGIN:VTIMEZONE
TZID:Asia/Tokyo
BEGIN:STANDARD
DTSTART:19700101T000000
TZOFFSETFROM:+0900
TZOFFSETTO:+0900
TZNAME:JST
END:STANDARD
END:VTIMEZONE
BEGIN:VEVENT
UID:841508@techplay.jp
SUMMARY:ひと視点をつらぬきビジネスモデルへつなぐ 「サ
 ービスデザイン」ワークショップ
DTSTART;TZID=Asia/Tokyo:20220205T100000
DTEND;TZID=Asia/Tokyo:20220205T170000
DTSTAMP:20260423T170236Z
CREATED:20211209T084542Z
DESCRIPTION:イベント詳細はこちら\nhttps://techplay.jp/event/84150
 8?utm_medium=referral&utm_source=ics&utm_campaign=ics\n\nサービスデ
 ザインの基本プロセスを1日で。\n戦略コンサルタント
 に学び、優れたユーザ体験（UX）創出のコツをつかむ
 。\nこのワークショップで実施する内容\nワークショッ
 プは座学と演習の2部構成で設計されています。概念と
 して理解し、さらには実際に手を動かしてアウトプッ
 トを行うことで、自分自身で設計プロセスを活用でき
 るようになっていただきます。\n・ 機会領域の発見・ 
 サービスアイデア・構想の言語化・ サービスの設計（
 ペルソナ＆カスタマージャーニーマップ）・ ビジネス
 モデルの策定・ プレゼンテーション\nワークショップ
 の背景\n「サービスデザイン」は、物を作るデザイン
 とは異なり、事象をデザインする行いです。\n社会の
 成熟化とともに、機能や性能の価値に加え、包括的な
 顧客体験を含むサービスの価値が重要視される時代に
 なりました。これからの新規事業や製品開発には、サ
 ービスをどう実装するかの視点は欠かせないものとな
 っています。\nそして、サービスの設計には、\n「どの
 ようなユーザに？」「どのように使ってもらうか？」\
 nという人間中心の視点が必要であるとともに、\n「実
 際に収益を上げることができるのか？」\nというビジ
 ネスの視点との両輪で設計を行うことが求められます
 。\nワークショップ概要製品・サービスのデザイン戦
 略マネジメント、消費者思考・行動に関するリサーチ
 、コンセプトデザインなどのプロジェクトおよびスタ
 ートアップ支援等に多数関わる、北澤順子氏を講師と
 して迎え、サービスデザインのプロセスを一日で素早
 く体感し、身につけます。\n\n講師\n北澤 順子 氏  戦
 略デザインコンサルタント\nDia-Log Japan 株式会社　代表
 取締役モルメディ・ジャパン　日本代表 / ディレクタ
 ー一般社団法人未来マトリクス　顧問愛知県立芸術大
 学　非常勤講師Tokyo Fashion Technology Lab.　講師\n海外のデ
 ザインファームにて新製品・新事業の企画プロジェク
 トに多数携わり、戦略デザインコンサルタントとして
 サービスデザインやUXの視点から、新規事業開発や起
 業家の支援を行う\nアメリカ・ポートランドに本拠地
 を置くデザイン& イノベーションコンサルティング会
 社ZIBA のクリエイティブ・ディレクターを経てDia-LogJapa
 n 株式会社設立。’16年よりスペインを代表する戦略デ
 ザインコンサルMormediのオフィシャルパートナーを務め
 る。自らも社会起業家として途上国ビジネスに取り組
 んでいる。\n\n本ワークショップの対象者\n・DX人材と
 して、プロジェクトを設計、推進する力を身につけて
 活躍の場を広げたいエンジニア、PMの方\n・自分の研究
 した内容が、どのようにサービスとして活用されるべ
 きかを考えながら研究を進めたい研究者の方\n・デザ
 イナーとして、ひと中心の視点を持ちながら、サービ
 スビジネスを設計、推進したい方\n定員\n8名 ※最少催
 行人数4名に満たない場合は、中止となる場合がありま
 す。\n過去の実践のご紹介\nデザイナー（プロダクト、
 UX、ウェブ等）、システムエンジニア、マーケッター
 、ストラテジストなど、様々な職種の専門職の方々に
 ご参加いただいたワークショッププログラムを実践し
 ました。\n過去の参加者の業種　※業種は問いません
 自動車メーカー、家電メーカー、建築、空間デザイン
 、住宅機器メーカ−、医療人材関係など\n過去の参加
 者の所属企業ソニー株式会社、日産自動車株式会社、
 株式会社資生堂、コクヨ株式会社、株式会社デンソー
 、株式会社タニタ、TOTO株式会社、株式会社ニコン、FWD
 富士生命、株式会社日立ドキュメントソリューション
 ズ、株式会社内田洋行、パナソニックシステムデザイ
 ン株式会社、　ほか\n\n\nその他\n※DXDキャンプのレク
 チャーにお申し込みの方には割引がございます2022年　
 ウインターキャンプ（1月～3月開催）　https://peatix.com/e
 vent/2833870\nからお申し込みください。追って割引コー
 ドを発行いたします。\n\nDXDキャンプとは？\nジブンの
 選択肢を広げてミライの働き方を創る。\n\n「デザイン
 」とは、「人々のなかにある見えない価値や課題に気
 づき、未来に向けて解決する方法をカタチにしていく
 」、いわゆる“広義“のデザイン力を意味しています
 。これは、企業・社会が今後変革を遂げていくうえで
 必須のスキルであることが、経済産業省・特許庁によ
 る宣言等でも言及されています。\n「高度デザイン人
 材」の力は、本や理論だけで得ることはできません。
 「デザイナー」と呼ばれる人たちだけが関係するもの
 でもありません。俯瞰する力、人への視点、多様な考
 えを受け入れるマインドやコミュニケーション力など
 、こころと思考を動かし、実践を重ねていくことで身
 につけていく「体質」ともいうべき能力であり、新し
 い社会・ビジネスを創り上げるために取り組まれてい
 るDXの領域にも、この「デザイン」の力が必要とされ
 ています。\n「DXDキャンプ」は、デザイナー・エンジ
 ニア・研究者などプロフェッショナル人材を対象に、
 広義のデザイン教育を行うプログラムです。\n※本ワ
 ークショップは、「DXDキャンプ〜高度デザインDX人材
 になるための実践プログラム〜」のカリキュラムの一
 部です。DXDキャンプの詳細は https://dxdcamp.com/をご覧く
 ださい。\n■その他のワークショップはこちら\n・タス
 ク人材から創出人材へ「アイデア体質への転換トレー
 ニング」　アイデアがジブンのなかから引き出されて
 いく体験と明日からの実践法。　日本一のアイデアソ
 ン実績を誇る講師に学ぶ。　講師：原 亮（エイチタス
 株式会社 代表取締役）　開催日時：2022年１月22日（土
 ）　10ー17時\n・ひと視点をつらぬきビジネスモデルへ
 つなぐ「サービスデザイン」　サービスデザインの基
 本プロセスを1日で。　戦略コンサルタントに学び、優
 れたユーザ体験（UX）創出のコツをつかむ。　　講師
 ：北澤 順子（Dia-Log Japan代表、愛知県立芸術大学非常
 勤講師）　　開催日時：2022年2月5日（土）　10ー17時\n
 ・テクノロジーをユーザー価値に転換する「DXデザイ
 ンプロセス」　すぐれたDXはCX（顧客体験）をいかに捉
 えるか------。　DXのためのDXを脱却し、価値のイノベー
 ションを起こすストーリーづくりを1日で。　講師：大
 森 康弘（ＮＥＣソリューションイノベータ株式会社　
 主席アドバイザー）　　　　深澤秀彦（トリニティ株
 式会社 取締役）　開催日時：2022年３月12日（土）　10
 ー17時\n・深い“観察と共感”を身につけ、ジブンの専
 門性をレベルアップ「デザイン思考の基礎力」　企業
 視点から「ひと視点」へ。　ビジネス人としてのこれ
 までの思考グセを転換させ、　もっと深く、まだ見え
 てない課題を見つけられるようになる。　講師：兵頭
 武信（トリニティ株式会社 デザインプロデューサー）
 　開催日時：2022年4月9日（土）　10ー17時\n\nメディア
 掲載\n・日経XTREND 高度デザインDX人材の育成プログラ
 ム「DXDキャンプ」とは何か 2021年12月08日・JDN　高度デ
 ザインブリッジスクール」での学びと実践\nお問合せ
 先\nDXDキャンプ　受付担当　小澤　（トリニティ株式
 会社）yuka@trinitydesign.jp\nDXDキャンプ　ウェブサイト htt
 ps://dxdcamp.com/\nTwitter https://twitter.com/DXD69592171FB https://ww
 w.facebook.com/DXDcamp/\n運営  トリニティ株式会社　https://t
 rinitydesign.jp/\n1997年に設立されたデザインコンサルティ
 ング・ファーム。トリニティのデザインコンサルティ
 ングは、質的・量的調査をもとに、未来創造、人視点
 での価値づくりを支援。企業が“デザイン体質”へと
 生まれ変わるための「人や場の育成」も支援します。
LOCATION:オンライン
URL:https://techplay.jp/event/841508?utm_medium=referral&utm_source=ics&utm
 _campaign=ics
END:VEVENT
END:VCALENDAR
