BEGIN:VCALENDAR
VERSION:2.0
PRODID:-//https://techplay.jp//JP
CALSCALE:GREGORIAN
METHOD:PUBLISH
X-WR-CALDESC:【BtoB企業様向け】展示会や訪問に変わるオン
 ライン問い合わせ獲得方法
X-WR-CALNAME:【BtoB企業様向け】展示会や訪問に変わるオン
 ライン問い合わせ獲得方法
X-WR-TIMEZONE:Asia/Tokyo
BEGIN:VTIMEZONE
TZID:Asia/Tokyo
BEGIN:STANDARD
DTSTART:19700101T000000
TZOFFSETFROM:+0900
TZOFFSETTO:+0900
TZNAME:JST
END:STANDARD
END:VTIMEZONE
BEGIN:VEVENT
UID:842656@techplay.jp
SUMMARY:【BtoB企業様向け】展示会や訪問に変わるオンライ
 ン問い合わせ獲得方法
DTSTART;TZID=Asia/Tokyo:20220111T140000
DTEND;TZID=Asia/Tokyo:20220111T150000
DTSTAMP:20260420T111001Z
CREATED:20211222T083640Z
DESCRIPTION:イベント詳細はこちら\nhttps://techplay.jp/event/84265
 6?utm_medium=referral&utm_source=ics&utm_campaign=ics\n\n展示会や訪
 問に変わるオンライン問い合わせ獲得方法\n概要\nコロ
 ナ後、企業における集客方法や営業手法が大きく変わ
 り特にBtoB企業のマーケティング活動には著しく大きな
 変化がありました。\nそんな昨今、自社の集客方法や
 営業手法について模索されている経営者様やご担当者
 様は多いのではないでしょうか。\n本セミナーではBtoB
 企業における、WEBサイトを活用したリード獲得方法を
 一挙にご紹介いたします。実際の経験と事例を元に具
 体的かつわかりやすくお話いたしますのでご参加お待
 ちしております。\n以下のお悩みや課題をお持ちの方
 はご参加頂くと、何か現状を打破するための糸口がみ
 つかるかもしれません。\n▼このようなお悩みの方は
 ぜひ一度ご参加くださいませ\n①問い合わせ数や商談
 が減って困っている\n→コロナで展示会や訪問できな
 くなった→コロナ後、商談数や受注率が下がった\n②
 デジタルを活用した集客ができていない\n→SEO対策し
 ていない→とりあえずWEB広告を始めたが効果がない\n
 ③自社に合った対策が何かわからない\n→ネットで調
 べても抽象的内容でピンとこない→デジタルでの集客
 方法をあまり知らない\n本セミナー内容\n①  コロナは
 企業の集客、営業にどのような影響と変化をもたらし
 たか\n②  デジタル時代に必要な問い合わせ（リード
 獲得）方法とは\n③  リード獲得チャネル選定時に大
 切なポイント\n④  BtoB企業におけるリード獲得方法紹
 介\n⑤  実際の対策事例のご共有\n登壇者\n\n登壇者略
 歴\n\nリードナイン合同会社 代表\n大竹 宏紀\n立命館大
 学　経済学部卒業\n\n1990年生まれ\n株式会社デジタルト
 レンズでSEO対策、WEB広告運用に従事。\n株式会社ジオ
 コード（JASDAQ上場企業）ではSEM（SEO、広告）サービス
 の新規コンサルティング営業として入社半年後、\n売
 上計上額 関⻄支社1位を獲得。その後、株式会社S-fleage
 でマーケティング/営業部門責任者としてリード獲得か
 ら受注まで\n一貫して携わり、約3ヶ月で商談数を4倍増
 に寄与。\n\nリードナイン設立後は、自身の経験を元に
 営業に強いデジタルマーケティング会社として、リー
 ド獲得最大化から受注までをサポート。\n\n【過去セミ
 ナー/研修実績】\n「アクセス数を劇的に増やす！SEO実
 践セミナー～SEO対策で自社サイトを1ページ目に表示さ
 せよう～」　主催 京都商工会議所\n\n企業URL：https://le
 adnine.co.jp\n\n\n参加対象\n集客を模索している経営者様
 新人のウェブ担当者様ウェブ集客を学びたい営業マン
 の方\n参加費\n無料\nハッシュタグ\n#techplayjp\n注意事項\
 n\nリクルーティング、勧誘など、採用目的でのイベン
 ト参加はお断りしております。\nキャンセル待ち・補
 欠・落選の方はご参加いただくことが出来ませんので
 ご了承ください。\n欠席される場合は、お手数ですが
 速やかにキャンセル処理をお願い致します。\n無断キ
 ャンセルや欠席が続く場合、次回以降の参加をお断り
 させていただく場合がございます。\n
LOCATION:オンライン
URL:https://techplay.jp/event/842656?utm_medium=referral&utm_source=ics&utm
 _campaign=ics
END:VEVENT
END:VCALENDAR
