BEGIN:VCALENDAR
VERSION:2.0
PRODID:-//https://techplay.jp//JP
CALSCALE:GREGORIAN
METHOD:PUBLISH
X-WR-CALDESC:S/4HANAへの移行アプローチ最前線 ～スムーズな
 本稼働スタートを実現するアクセンチュア流メソッド
 ～
X-WR-CALNAME:S/4HANAへの移行アプローチ最前線 ～スムーズな
 本稼働スタートを実現するアクセンチュア流メソッド
 ～
X-WR-TIMEZONE:Asia/Tokyo
BEGIN:VTIMEZONE
TZID:Asia/Tokyo
BEGIN:STANDARD
DTSTART:19700101T000000
TZOFFSETFROM:+0900
TZOFFSETTO:+0900
TZNAME:JST
END:STANDARD
END:VTIMEZONE
BEGIN:VEVENT
UID:842806@techplay.jp
SUMMARY:S/4HANAへの移行アプローチ最前線 ～スムーズな本
 稼働スタートを実現するアクセンチュア流メソッド～
DTSTART;TZID=Asia/Tokyo:20220119T190000
DTEND;TZID=Asia/Tokyo:20220119T203000
DTSTAMP:20260420T013301Z
CREATED:20211223T085852Z
DESCRIPTION:イベント詳細はこちら\nhttps://techplay.jp/event/84280
 6?utm_medium=referral&utm_source=ics&utm_campaign=ics\n\n概要\nアク
 センチュア関西 主催\n昨今S/4HANAの導入や移行が加速し
 ておりますが、スムーズな運用スタート実現の背景に
 ある、グローバル拠点へのオフショア化を重ねてナレ
 ッジ化されたアクセンチュア テクノロジーコンサル
 ティング本部 ITトランスフォーメーション＆オプティ
 マイゼーション流のKT(Knowledge Transfer)メソッドについて
 もご紹介します。\n従来のグリーンフィールド(初期構
 築)やブラウンフィールド(アップグレード)ではない、
 シェルコンバージョンを活用したアクセンチュアの移
 行プロジェクト(ECC6.0→S/4HANA1809)を事例にご紹介します
 。\nテーマにご興味ある方はもちろん、アクセンチュ
 アについてご興味ある方々もお気軽にご参加下さい。\
 nタイムスケジュール\n\n\n\n時間\n内容\n\n\n\n\n19:00～20:00
 \nS/4HANAへの移行アプローチ最前線 ～スムーズな本稼
 働スタートを実現するアクセンチュア流メソッド～\n\n
 \n20:00〜20:30\n質疑応答\n\n\n\n※ 当日予告なく時間配分
 ・内容が変更になる可能性がございます。\n参加対象\n
 ・コンサルティング／ITサービス業界に興味のある方
 ・何らかのIT経験をお持ちの方\n参加費\n無料\n参加方
 法\nこちらのオンライン勉強会は 「Microsoft Teams」 を使
 用して実施致します。\nイベントページ（オンライン
 配信情報）に参加URLを記載しておりますのでご確認を
 お願いいたします。\n※参加用URLは申込頂いた方に、
 本ページ上にて表示されます。\n注意事項\n\n欠席され
 る場合は、お手数ですが速やかにキャンセル処理をお
 願い致します。\n無断キャンセルや欠席が続く場合、
 次回以降の参加をお断りさせていただく場合がござい
 ます。\n
LOCATION:Microsoft Teams 会議
URL:https://techplay.jp/event/842806?utm_medium=referral&utm_source=ics&utm
 _campaign=ics
END:VEVENT
END:VCALENDAR
