BEGIN:VCALENDAR
VERSION:2.0
PRODID:-//https://techplay.jp//JP
CALSCALE:GREGORIAN
METHOD:PUBLISH
X-WR-CALDESC:ローコード・ノーコード勉強会
X-WR-CALNAME:ローコード・ノーコード勉強会
X-WR-TIMEZONE:Asia/Tokyo
BEGIN:VTIMEZONE
TZID:Asia/Tokyo
BEGIN:STANDARD
DTSTART:19700101T000000
TZOFFSETFROM:+0900
TZOFFSETTO:+0900
TZNAME:JST
END:STANDARD
END:VTIMEZONE
BEGIN:VEVENT
UID:843181@techplay.jp
SUMMARY:ローコード・ノーコード勉強会
DTSTART;TZID=Asia/Tokyo:20220216T190000
DTEND;TZID=Asia/Tokyo:20220216T203000
DTSTAMP:20260419T153059Z
CREATED:20211227T083325Z
DESCRIPTION:イベント詳細はこちら\nhttps://techplay.jp/event/84318
 1?utm_medium=referral&utm_source=ics&utm_campaign=ics\n\n概要\nアク
 センチュア関西 主催\n業務を可視化して、状況の変化
 をいち早く検知＋迅速且つ柔軟に業務改善する仕組み
 が、昨今企業競争力を高めるために求められています
 。\nまた、技術者以外の現場担当者がシステムを開発
 して業務課題を解決する「開発の民主化」が話題にな
 っています。これらを実現する手段の１つにローコー
 ド・ノーコードがあり、普段クライアントの業務改善
 を生業としているアクセンチュアのテクノロジーコン
 サルティング本部 TfLS(Tech for Living Systems)所属社員が、
 事例含めてご紹介していきます。\nDX(Digital transformation)
 推進に関わる方だけではなく、日々の現場作業でお仕
 事されている方で業務効率化に関心がある方にも参加
 いただければと考えています。業務効率化のヒントに
 もなれば幸いです。\nテーマにご興味ある方はもちろ
 ん、アクセンチュアについてご興味ある方々もお気軽
 にご参加下さい。\nタイムスケジュール\n\n\n\n時間\n内
 容\n\n\n\n\n19:00～20:00\nローコード・ノーコード勉強会\n\
 n\n20:00〜20:30\n質疑応答\n\n\n\n※ 当日予告なく時間配分
 ・内容が変更になる可能性がございます。\n参加対象\n
 ・コンサルティング／ITサービス業界に興味のある方
 ・何らかのIT経験をお持ちの方\n参加費\n無料\n参加方
 法\nこちらのオンライン勉強会は 「Microsoft Teams」 を使
 用して実施致します。\nイベントページ（オンライン
 配信情報）に参加URLを記載しておりますのでご確認を
 お願いいたします。\n※参加用URLは申込頂いた方に、
 本ページ上にて表示されます。\n注意事項\n\n欠席され
 る場合は、お手数ですが速やかにキャンセル処理をお
 願い致します。\n無断キャンセルや欠席が続く場合、
 次回以降の参加をお断りさせていただく場合がござい
 ます。\n
LOCATION:Microsoft Teams 会議
URL:https://techplay.jp/event/843181?utm_medium=referral&utm_source=ics&utm
 _campaign=ics
END:VEVENT
END:VCALENDAR
