BEGIN:VCALENDAR
VERSION:2.0
PRODID:-//https://techplay.jp//JP
CALSCALE:GREGORIAN
METHOD:PUBLISH
X-WR-CALDESC:SORACOM Device Meetup#7 産業現場で使えるIoTハード
 ウェア特集！
X-WR-CALNAME:SORACOM Device Meetup#7 産業現場で使えるIoTハード
 ウェア特集！
X-WR-TIMEZONE:Asia/Tokyo
BEGIN:VTIMEZONE
TZID:Asia/Tokyo
BEGIN:STANDARD
DTSTART:19700101T000000
TZOFFSETFROM:+0900
TZOFFSETTO:+0900
TZNAME:JST
END:STANDARD
END:VTIMEZONE
BEGIN:VEVENT
UID:843351@techplay.jp
SUMMARY:SORACOM Device Meetup#7 産業現場で使えるIoTハードウェ
 ア特集！
DTSTART;TZID=Asia/Tokyo:20220126T190000
DTEND;TZID=Asia/Tokyo:20220126T203000
DTSTAMP:20260419T220913Z
CREATED:20211228T142309Z
DESCRIPTION:イベント詳細はこちら\nhttps://techplay.jp/event/84335
 1?utm_medium=referral&utm_source=ics&utm_campaign=ics\n\nSORACOM Device M
 eetup#7 産業現場で使えるIoTハードウェア特集！\nSORACOM D
 evice Meetupは、IoTデバイスの概要や技術情報、活用事例
 を通じて、IoTで何ができるのか？どんなことに使えそ
 うか？を皆さんと考えていきます。IoTデバイスの利活
 用や開発方法を学んだり、購入前の情報収集として参
 加いただける勉強会です。\n今回は、工場や事業場な
 ど産業現場で役立つIoTデバイスをテーマに、必要とな
 る機能やすぐに使えるIoTデバイスを一挙ご紹介！プロ
 グラマブルなOSを搭載し注目を集めるEdgeRouter X、ラズ
 パイを搭載した reTerminal、IoTルーターやゲートウェイ
 など、それぞれの特徴を簡単に解説します。\n合わせ
 て、生産設備、ファクトリーオーメーション（FA）現
 場で使われるPLC機器から、データを取得するIoTデバイ
 スの性能を、提供元のゲストにご紹介いただくと共に
 、既に産業現場でIoTデバイスを利用するゲストをお招
 きし、デバイス選定の背景や、システム構成について
 伺います。\n\n日時：2022年1月26日（水）19:00~20:30\n参加
 方法：オンライン開催。イベント当日に配信情報をconn
 passのメッセージからお送りします。また本ページの参
 加者への情報欄にも追記します。\n\nこんな方におすす
 めです\n\n工場や事業場などで利用するIoTデバイスを探
 している方\n現場で取得したデータの活用方法を検討
 している方\n製造業のPLC機器をIoT化する方法を学びた
 い方\n\n学べる内容\n\nPLC機器をインターネットに繋げ
 るために役立つIoTデバイスを知る\n工場や事業場など
 で利用できるIoTデバイスの全体像が分かる\n産業用IoT
 デバイスに必要な機能を学習できる\n\nアジェンダ\n\n\n
 \n時間\n内容\n登壇者名\n\n\n\n\n19:00-19:05\nオープニング\n
 ソラコム\n\n\n19:05-19:25\n産業の現場向けIoTデバイスに求
 められる機能と、今すぐ使えるデバイス紹介\nソラコ
 ム テクノロジー・エバンジェリスト松下 享平\n\n\n19:25
 -19:40\nなぜ据え置き型LTEルーターがIoT現場で使われる
 のか？\n株式会社アイ・オー・データ機器販売促進部 
 販売促進課 リーダー齋藤 洋 氏\n\n\n19:40-19:55\nPLCのデー
 タ収集に特化したIoTゲートウェイ「KES IoT Logic」シリー
 ズのご紹介\n株式会社金沢エンジニアリングシステム
 ズ営業部長 宮上 喜裕 氏\n\n\n19:55-20:05\n質疑応答\n\n\n\n2
 0:05-20:20\n産業用IoTデバイスを利用するお客様事例：普
 及型遠隔監視システム・eco-milmo\n株式会社ホクレア・
 システムズ代表取締役 鈴木 治彦 氏\n\n\n20:20-20:25\n質疑
 応答\n\n\n\n20:25-20:30\nクロージング\nソラコム\n\n\n\n\nタ
 イムテーブルや登壇者は変更になる場合がございます
 。\n\n個人情報の取り扱いについて\nSORACOMイベント・セ
 ミナー開催における個人情報の取り扱い方針をご覧い
 ただき、同意の上お申込みください。
LOCATION:オンライン オンライン
URL:https://techplay.jp/event/843351?utm_medium=referral&utm_source=ics&utm
 _campaign=ics
END:VEVENT
END:VCALENDAR
