BEGIN:VCALENDAR
VERSION:2.0
PRODID:-//https://techplay.jp//JP
CALSCALE:GREGORIAN
METHOD:PUBLISH
X-WR-CALDESC:【ライブ配信開催】無料で学べるAI勉強会　 
 第49回 : 機械学習を用いた地下水位変動予測 / ゲスト:
 高校生AIエンジニア 勝山翔紀さん
X-WR-CALNAME:【ライブ配信開催】無料で学べるAI勉強会　 
 第49回 : 機械学習を用いた地下水位変動予測 / ゲスト:
 高校生AIエンジニア 勝山翔紀さん
X-WR-TIMEZONE:Asia/Tokyo
BEGIN:VTIMEZONE
TZID:Asia/Tokyo
BEGIN:STANDARD
DTSTART:19700101T000000
TZOFFSETFROM:+0900
TZOFFSETTO:+0900
TZNAME:JST
END:STANDARD
END:VTIMEZONE
BEGIN:VEVENT
UID:843743@techplay.jp
SUMMARY:【ライブ配信開催】無料で学べるAI勉強会　 第49
 回 : 機械学習を用いた地下水位変動予測 / ゲスト:高校
 生AIエンジニア 勝山翔紀さん
DTSTART;TZID=Asia/Tokyo:20220126T193000
DTEND;TZID=Asia/Tokyo:20220126T210000
DTSTAMP:20260423T132045Z
CREATED:20220105T013230Z
DESCRIPTION:イベント詳細はこちら\nhttps://techplay.jp/event/84374
 3?utm_medium=referral&utm_source=ics&utm_campaign=ics\n\n独学でAIの
 勉強を始め、現役高校生で日本ディープラーニング協
 会（JDLA）のE資格を取得した海城高等学校の勝山さん
 。中学生の時に学校が提供していたプログラミング教
 室でSwiftに触れたのをきっかけに学びはじめ、最近は
 、「機械学習を用いた地下水位変動予測」について研
 究されています。\n1月26日のスキルアップAIキャンプで
 は、高校生がなぜAIに興味を持ったのか・どのように
 勉強してきたのか、また、今後の活動や研究テーマな
 どについてお話しいただきます。\n\n■プログラム概要
 \n\n\nなぜAIに興味を持ったか\n勉強方法\n今までの活動\
 n機械学習を用いた地下水位変動予測\n\n※一部変更と
 なる場合がございます。\n\n■スピーカー\n高校生AIエ
 ンジニア / 勝山 翔紀氏\n中学生の時にプログラミング
 教室でSwiftに触れたのがきっかけで、独学でAIの勉強を
 始める。日本ディープラーニング協会（JDLA）G検定・E
 資格取得。AIを活用したビジネスアイデアのコンテス
 ト受賞。現在は、学校の地学部の活動として、地下水
 の変動シミュレーションモデル作りを行っている。\n
 スキルアップAI株式会社 取締役 CTO / 小縣 信也\n大阪市
 立大学工学部卒業後、建材メーカー、設備設計事務所
 に勤務。2010年、OpenFOAM勉強会for beginner(現オープンCAE勉
 強会＠関東)を立ち上げ3年間幹事を務める。建築環境
 に関する数値シミュレーション、電力量や温湿度など
 のセンサーデータに関する分析が専門。1級建築士、エ
 ネルギー管理士。2013年、国土交通省国土技術政策総合
 研究所 優秀技術者賞受賞。 日本ディープラーニング
 協会主催2018E資格試験 優秀賞受賞、2019#1E資格試験優秀
 賞受賞。最近は、需要予測や異常検知などのモデル開
 発に取り組んでいる。著書「徹底攻略ディープラーニ
 ングE資格エンジニア問題集」（インプレス）。\n\n■
 開催概要\n日時：2022年1月26日（水）19:30～21:00\n開催方
 法：Zoom\n参加費：無料\n※お申込み後、セミナー受講
 者専用のSlackチャンネルにご招待させていただきます
 。ZoomURLは前日にSlackチャンネル内でお知らせします。
 　開催2日前までにSlackのご招待が届かない方は、info@sk
 illupai.com　へご連絡くださいませ。\n※競合他社様のご
 参加は、ご遠慮いただいておりますので、ご了承くだ
 さい。\n■スキルアップAIキャンプとは\nスキルアップA
 Iは、受講後すぐに使える実践的な機械学習スキルを、
 最前線で活躍する実務家から直接学べるAI学習コミュ
 ニティです。\n2018年の創業以来、AI人材教育のプロフ
 ェッショナルとして、累計15\,000人以上の受講者、500社
 以上に実践的・体系的なAI教育プログラムを提供して
 います。\nスキルアップAIキャンプは、JDLA認定プログ
 ラム1号でもあるスキルアップAIが主催する勉強会です
 。\nG検定・E資格の取得に止まらず、実務でのAI活用に
 必要な様々な実践的テーマを取り上げ、頭でっかちなA
 I人材からの脱却を目指します。\nスキルアップAIキャ
 ンプ:https://www.skillupai.com/skillupai-camp/\n\n■日程・開催予
 定テーマ\n* 第49回  1月26日（水）　高校生AIエンジニ
 ア 勝山翔紀さん\n* 第50回  2月  2日（水）　マテリア
 ルズ・インフォマティクスことはじめ\n* 第51回  2月  
 9日（水）　E資格直前対策\n* 第52回  2月16日（水）　
 進化計算による多目的最適化ことはじめ\n* 第53回  2月
 23日（水）　G検定直前対策\n* 第54回  3月  2日（水）
 　再現性のあるデータ分析へ！機械学習パイプライン
 構築ことはじめ\n* 第55回  3月  9日（水）　ML Kitで始
 めるAIアプリ開発\n尚、複数回ご参加を希望される場合
 、以下専用サイトよりお申込みください。▼スキルア
 ップAIキャンプhttps://www.skillupai.com/skillupai-camp/\n\n■会
 場\nオンライン（ライブ配信）のみにて開催となりま
 す。\n●オンライン（ライブ配信）\nZoom\n※視聴のみと
 なります。\n※お申込み後、セミナー受講者専用のSlack
 チャンネルにご招待させていただきます。ZoomURLは前日
 にSlackチャンネル内でお知らせします。　開催2日前ま
 でにSlackのご招待が届かない方は、info@skillupai.com　へ
 ご連絡くださいませ。\n※競合他社様のご参加は、ご
 遠慮いただいておりますので、ご了承ください。\n\n■
 よくある質問\n- 申込後の流れはどうなりますか？\n入
 力いただいたメールアドレス宛にスキルアップAIキャ
 ンプのSlackチャンネルに招待します。\n当社のSlackに初
 めて参加される方は、ご登録メール宛に招待メールを
 お送りします。\n- 勉強会は誰でも参加できますか？\n
 はい。勉強目的の方であれば、誰でも参加可能です。
 積極的に発言いただける方をお待ちしています。\n- 興
 味のある回だけ参加できますか？\n参加可能です。\nsla
 ck招待後、参加日程を追加することも可能です。\n- 勉
 強会は誰でも参加できますか？\n参加者のご意見を聞
 きながら、多くの方が興味を持っていただける実践的
 テーマを設定していく予定です。\nまた、参加者が勉
 強会をリードいただく形も想定しています。\n■お願
 い本講座は、同業他社様のご参加をご遠慮いただいて
 おりますため、 ご参加をお断りさせていただく場合が
 ございます。予めご了承くださいませ。\n\n■ご参加に
 当たって\nお申し込みは、フルネーム（漢字）でお願
 いいたします。\n勉強目的以外での参加はご遠慮いた
 だいております。\nまた、セミナー内容を撮影もしく
 は録音することはお断りをしております。\n上記ご了
 承の上お申し込みをお願いいたします。\n■個人情報
 の取扱いについて\n申し込み時にご提供いただいた情
 報は、イベント受付管理や各種ご案内（サービス・イ
 ベント等）に利用させていただく場合がございますの
 で、予めご了承ください。\n■会社紹介\n\nスキルアッ
 プAIは、「学びを加速する」をミッションに掲げ、AI人
 材育成事業を行なっております。理化学研究所・革新
 知能統合研究センター長の杉山将氏を技術顧問に迎え
 、2018年に創業、日本ディープラーニング協会(理事長:
 東京大学大学院工学系研究科 教授 松尾豊氏)の第1号認
 定事業者として、実務経験豊富なデータサイエンティ
 ストとAIエンジニアによる実践的なカリキュラム開発
 を通し、実務に直結するAI教育の提供を実現してまい
 りました。時代の需要の結果、DX推進やAI人材の育成に
 力を入れている企業を中心に、設立2年で500社以上の企
 業に法人研修として採択を受け、また約1万人の個人受
 講者にも講座提供を行っております。また、2019年より
 、AIエンジニア資格（E資格）対応講座をはじとした多
 くの講座が、厚生労働省による「専門実践教育訓練給
 付」および経済産業省による「第四次産業革命スキル
 習得講座」に認定されています。今後は、より広範囲
 な年齢層の受講者に対して教育提供をすることで、AI
 人材の不足に貢献していく予定です。\nスキルアップAI
  株式会社:https://www.skillupai.com
LOCATION:オンライン
URL:https://techplay.jp/event/843743?utm_medium=referral&utm_source=ics&utm
 _campaign=ics
END:VEVENT
END:VCALENDAR
