BEGIN:VCALENDAR
VERSION:2.0
PRODID:-//https://techplay.jp//JP
CALSCALE:GREGORIAN
METHOD:PUBLISH
X-WR-CALDESC:【iPaaS・RPA活用30分セミナー】バックオフィス
 業務改善 業務整理のポイントと効率化事例
X-WR-CALNAME:【iPaaS・RPA活用30分セミナー】バックオフィス
 業務改善 業務整理のポイントと効率化事例
X-WR-TIMEZONE:Asia/Tokyo
BEGIN:VTIMEZONE
TZID:Asia/Tokyo
BEGIN:STANDARD
DTSTART:19700101T000000
TZOFFSETFROM:+0900
TZOFFSETTO:+0900
TZNAME:JST
END:STANDARD
END:VTIMEZONE
BEGIN:VEVENT
UID:844047@techplay.jp
SUMMARY:【iPaaS・RPA活用30分セミナー】バックオフィス業務
 改善 業務整理のポイントと効率化事例
DTSTART;TZID=Asia/Tokyo:20220120T123000
DTEND;TZID=Asia/Tokyo:20220120T130000
DTSTAMP:20260419T200537Z
CREATED:20220107T053253Z
DESCRIPTION:イベント詳細はこちら\nhttps://techplay.jp/event/84404
 7?utm_medium=referral&utm_source=ics&utm_campaign=ics\n\niPaaS・RPAを
 活用したバックオフィス業務効率化事例を紹介！\n各
 種クラウドサービスが多数登場したことで、バックオ
 フィス周りのサービス導入が増えた企業様も多いので
 はないでしょうか。一方で部門ごとに利用サービスが
 増えたことにより、部門間連携の遅れや確認工数の増
 加も発生しています。\nバックオフィス業務で活用す
 るSFA・CRM・会計システム等のクラウドサービス利用効
 率化は、iPaaSやRPA活用が一つの解決策となりつつあり
 ます。\nしかし活用を進めるためには、事前の業務整
 理も重要です。\nそこで本セミナーでは、iPaaS・RPAを活
 用した効率化事例を基に業務整理のポイントを紹介し
 ます。]\n▶iPaaS「BizteX Connect」とは　各種クラウドサー
 ビスをAPIを利用して連携する連携プラットフォーム▶R
 PA「BizteX cobit」とは　PC上の業務を自動化するデジタル
 ロボット\n◆事例紹介予定クラウドサービス◆kintone、S
 alesforce、会計システム（freee）、メール（Gmail、outlook
 ）、チャット（Slack、Chatwork、Teamsなど）、ファイルス
 トレージ（Googleドライブ、OneDrive、box）、勤怠管理シ
 ステム（KING OF TIME）　　など\n※お申込み状況により
 内容は変更となる場合がございます。https://s3.techplay.jp
 /tp-images/event/2798/UJsyuth7xn67qHkBGlhSVKbYuMXcGwGHwXYJcDff.png\n業
 務効率化のヒントを知りたいという方は、ぜひご参加
 ください！\nセミナー概要・バックオフィス業務整理
 のポイント・iPaaS、RPAでできること・業務効率化事例
 ※講演内容は変更となる場合がございます。\n■対象
 者\n下記のようなお悩み・課題をお持ちの方にお勧め
 です！・複数のクラウドサービスを利用している・業
 務改善を進めている・部門間の連携やクラウドサービ
 スの運用方法を見直したい・他社の業務効率化事例を
 知りたい・iPaaS、RPAで何ができるのか知りたい\n■日程
 \n1月20日木曜日12時30分~13時\n■ご参加方法\nzoomオンラ
 イン開催（PC、スマホ、タブレット）\n※お申し込み後
 にご視聴URLをお送りいたします。\n■ご確認事項\n・お
 申込みいただいた方は、弊社プライバシーポリシーに
 同意いただいたものとさせていただきます。・弊社サ
 ービスと類似、または競合するサービスの運営企業様
 のご参加はご遠慮いただいております。あらかじめご
 了承ください。
LOCATION:オンライン
URL:https://techplay.jp/event/844047?utm_medium=referral&utm_source=ics&utm
 _campaign=ics
END:VEVENT
END:VCALENDAR
