BEGIN:VCALENDAR
VERSION:2.0
PRODID:-//https://techplay.jp//JP
CALSCALE:GREGORIAN
METHOD:PUBLISH
X-WR-CALDESC:オープンイノベーションセミナー【ベンチャ
 ー企業との共創における社内体制と注意点】【BAK Semina
 r Day #01】
X-WR-CALNAME:オープンイノベーションセミナー【ベンチャ
 ー企業との共創における社内体制と注意点】【BAK Semina
 r Day #01】
X-WR-TIMEZONE:Asia/Tokyo
BEGIN:VTIMEZONE
TZID:Asia/Tokyo
BEGIN:STANDARD
DTSTART:19700101T000000
TZOFFSETFROM:+0900
TZOFFSETTO:+0900
TZNAME:JST
END:STANDARD
END:VTIMEZONE
BEGIN:VEVENT
UID:844368@techplay.jp
SUMMARY:オープンイノベーションセミナー【ベンチャー企
 業との共創における社内体制と注意点】【BAK Seminar Day 
 #01】
DTSTART;TZID=Asia/Tokyo:20220121T170000
DTEND;TZID=Asia/Tokyo:20220121T180000
DTSTAMP:20260420T214551Z
CREATED:20220111T055552Z
DESCRIPTION:イベント詳細はこちら\nhttps://techplay.jp/event/84436
 8?utm_medium=referral&utm_source=ics&utm_campaign=ics\n\n概要\n神奈
 川県が実施する「ビジネスアクセラレーターかながわ
 （BAK：バク）」では、企業が抱える課題や実現したい
 テーマに基づき、大企業等とベンチャー企業のマッチ
 ングを行い、事業化に向けた支援を行っています。\n
 今回は、大手企業の新規事業担当者に向けたオープン
 イノベーションセミナーを開催します。\n新規事業の
 創出を加速させるための有効な手段とされるオープン
 イノベーションにはどのようなプロセスを経て実現し
 ていけばよいのかお悩みの方も多いのではないでしょ
 うか？\n・オープンイノベーションを実践する前に知
 っておくべきことや・ベンチャー企業との共創におけ
 る社内体制と注意点・オープンイノベーションを進め
 るにあたって陥りやすい罠とその解決方法・オープン
 イノベーションを用いた新規事業事例などについて、e
 iicon company エンタープライズ事業部 事業部長の村田が
 、新規事業担当者の皆様向けに詳しく解説します。\n
 【こんな方におすすめ】◎オープンイノベーションの
 実践する進め方を知りたい企業◎ベンチャー企業との
 共創における注意点を把握しておきたい企業◎スピー
 ディに事業を展開できている理由・重要なポイントを
 知りたい企業\n\n※「ビジネスアクセラレーターかなが
 わ（BAK：バク）」とは…神奈川県では、県内に拠点を
 持つ大企業と質の高いベンチャー企業による事業連携
 プロジェクトの創出と、オープンイノベーションに向
 けたコミュニティ形成を目的として、大企業・ベンチ
 ャー企業・研究機関・支援機関等に参画いただく協議
 会「BAK」を運営しています（参加企業301社：2021年8月
 時点）。BAKでは、企業が抱える課題や実現したいテー
 マに基づき、大企業等とベンチャー企業のマッチング
 を行い、事業化に向けた支援を行っています。\n登壇
 者\n\n\n村田　宗一郎eiicon companyEnterprise 事業部 事業部
 長\n\n2008年株式会社インテリジェンス（現パーソルキ
 ャリア）に入社。製薬、食品、飲料、総合商社、不動
 産、など幅広い領域の採用支援を担当。その後、仙台
 支店の支社長として東北6県の採用支援や各種アライア
 ンス締結を推進。30名以上のマネジメントを経て、eiico
 nに参画。現在はEnterprise事業部の責任者として、日本
 最大級のオープンイノベーションプラットフォーム「A
 UBA」を推進しながら、多数の法人企業へのオープンイ
 ノベーション支援に従事。\nタイムテーブル\n17:00～　
 オープニング17:05～　ビジネスアクセラレーターかな
 がわ（BAK：バク）の概要17:10～　オープンイノベーシ
 ョンセミナー　　　　　※当日参加者の皆様からお寄
 せいただいたご質問も受け付けます。17:50～　ビジネ
 スアクセラレーターかながわ（BAK：バク）のサポート
 、支援内容について18:00        終了※ 当日予告なく
 内容が変更になる可能性がございます。\n主催・運営\n
 \n参加費・参加方法\n無料オンライン（Zoom）開催 (参
 加方法は別途ご案内させていただきます)\n注意事項\n
 ※ 営業、勧誘目的でのイベント参加はお断りいたしま
 す。※ 参加を辞退する場合は、詳細ページより申込の
 キャンセルをお願い致します。※ 無断キャンセル・欠
 席が続く場合、次回以降の参加をお断りさせていただ
 く場合がございますのでご了承ください。
LOCATION:Zoom開催 (参加方法は別途ご案内させていただきま
 す)
URL:https://techplay.jp/event/844368?utm_medium=referral&utm_source=ics&utm
 _campaign=ics
END:VEVENT
END:VCALENDAR
