BEGIN:VCALENDAR
VERSION:2.0
PRODID:-//https://techplay.jp//JP
CALSCALE:GREGORIAN
METHOD:PUBLISH
X-WR-CALDESC:忙しいマーケター・コンサルの業務改善「サ
 イト提案の自動化」すべき部分講座
X-WR-CALNAME:忙しいマーケター・コンサルの業務改善「サ
 イト提案の自動化」すべき部分講座
X-WR-TIMEZONE:Asia/Tokyo
BEGIN:VTIMEZONE
TZID:Asia/Tokyo
BEGIN:STANDARD
DTSTART:19700101T000000
TZOFFSETFROM:+0900
TZOFFSETTO:+0900
TZNAME:JST
END:STANDARD
END:VTIMEZONE
BEGIN:VEVENT
UID:845166@techplay.jp
SUMMARY:忙しいマーケター・コンサルの業務改善「サイト
 提案の自動化」すべき部分講座
DTSTART;TZID=Asia/Tokyo:20220131T120000
DTEND;TZID=Asia/Tokyo:20220131T130000
DTSTAMP:20260423T062016Z
CREATED:20220118T040701Z
DESCRIPTION:イベント詳細はこちら\nhttps://techplay.jp/event/84516
 6?utm_medium=referral&utm_source=ics&utm_campaign=ics\n\n忙しいマー
 ケター・コンサルの業務改善「サイト提案の自動化」
 すべき部分講座\n2022年1月31日（月）12:00～13:00\n顧客接
 点の多様化に伴い、WEBマーケ施策やサイト運用の打ち
 手は増え続けていませんか？Webマーケターやコンサル
 タントは各チャネルのPDCAに追われる中、全ての作業を
 人の手で行おうとすると工数の限界に達し、品質の低
 下や残業時間の増加だけでなく、ストレスにも繋がり
 ます。どんな業務を優先し、自動化を組み込むかによ
 って組織の生産性、事業の成功・失敗が分かれます。\
 n本セミナーでは、「工数削減×品質向上」いう業務設
 計の重要指標についての捉え方、現状分析から設計・
 運用提案作成までで機械化・自動化できる作業、すべ
 きでない作業についてご説明します。2022年のマーケチ
 ーム・コンサルチームの方針策定にご活用いただける
 と幸いです。\n▼こんな方にオススメです！\n・生産性
 を上げて残業時間を削減したいマーケター・１人当た
 りの担当社数を増やして売上・利益を上げたいコンサ
 ルタント・単純作業ではなく提案業務に時間を割き、
 チームを強化したいマネージャー\n▼開催概要\n・開催
 日時：2022年1月31日（月）12:00～13:00・参加費：無料・
 開催方法：ウェビナー　※Zoomを利用します・参加方法
 ：お申込後に、別途メールにてご案内致します\n▼登
 壇者\n間藤 大地\n株式会社CINC推進部 部長\n以上となり
 ます。皆様のご応募、お待ちしております！\n\n※企業
 向けのセミナーでございますので、フリーメールでの
 登録はご遠慮くださいますようお願いいたします。※
 なお、競合他社/同業者/企業にご所属でない個人の方
 からのお申込みなど、 当社の判断によりセミナー参加
 をお断りする場合があります。予めご了承ください。
 ※終了時刻は前後する可能性がございます。※予告な
 く登壇者・内容の変更がある場合がございます。
LOCATION:オンラインセミナー
URL:https://techplay.jp/event/845166?utm_medium=referral&utm_source=ics&utm
 _campaign=ics
END:VEVENT
END:VCALENDAR
