BEGIN:VCALENDAR
VERSION:2.0
PRODID:-//https://techplay.jp//JP
CALSCALE:GREGORIAN
METHOD:PUBLISH
X-WR-CALDESC:【大手広告代理店も導入！】 成功事例から学
 ぶ 獲得率の高いサイト運用者の戦略と改善手順 〜デ
 ジタルマーケティング研修体験講座〜
X-WR-CALNAME:【大手広告代理店も導入！】 成功事例から学
 ぶ 獲得率の高いサイト運用者の戦略と改善手順 〜デ
 ジタルマーケティング研修体験講座〜
X-WR-TIMEZONE:Asia/Tokyo
BEGIN:VTIMEZONE
TZID:Asia/Tokyo
BEGIN:STANDARD
DTSTART:19700101T000000
TZOFFSETFROM:+0900
TZOFFSETTO:+0900
TZNAME:JST
END:STANDARD
END:VTIMEZONE
BEGIN:VEVENT
UID:845168@techplay.jp
SUMMARY:【大手広告代理店も導入！】 成功事例から学ぶ 
 獲得率の高いサイト運用者の戦略と改善手順 〜デジタ
 ルマーケティング研修体験講座〜
DTSTART;TZID=Asia/Tokyo:20220209T200000
DTEND;TZID=Asia/Tokyo:20220209T220000
DTSTAMP:20260421T083529Z
CREATED:20220118T043953Z
DESCRIPTION:イベント詳細はこちら\nhttps://techplay.jp/event/84516
 8?utm_medium=referral&utm_source=ics&utm_campaign=ics\n\n「解説通り
 に実践してみたらうまくいった！」をまずは実感して
 ほしい\n\n成功事例から学ぶ「獲得率の高いサイト運用
 者と改善手順」\n〜デジタルマーケティング研修体験
 講座〜\n概要\n我々が普段、代理店としてKPI達成、CVR改
 善に至った経験、他社のWebマーケティング支援をした
 経験を踏まえて、今現在の初期設計、提案内容、初期
 運用について参加者の皆様へ余すことなくご紹介させ
 ていただきます。\n実践の事例や、わかりやすいスラ
 イドを使いながらご説明しますので、改善の動き方と
 して「他社をまずはマネしてみたい」と探している方
 は大変オススメです。\n講座の特徴\n・オンラインのみ
 で行う、速習講座です・今運用経験を問わず、web施策
 を行っているけども、改善案がわからない方向けの内
 容です・マーケティング戦略80分+質疑応答30分+プロモ
 ーション10分の構成を想定しています。※ 当日予告な
 く時間配分・内容が変更になる可能性がございます。\
 n登壇者\n\n福田　正義 / 元Yahoo!コンサルティングマネ
 ージャー \,  merc Education代表\nオーバーチュア株式会社
 、ヤフー株式会社のオンラインセール部門マネー ジャ
 ー。リスティングのコンサル ティング部門⽴ち上げ、
 Webマーケティン グにおける実践⼿法の体系化、社内コ
 ンサルタントの育成を⾏う。\n2013年に ヤフー株式会社
 退社後、各社のWebマーケティングの顧問としてコンサ
 ルティングを実施。\n2018年に会社売却後、アドテクベ
 ンダーにおいて執⾏役員 として就任しプロダクトの総
 責任者となる。\n2019年、3ヶ月でマーケティン グ勛略
 を誰でも学んで実践できるマーケティング教育サービ
 スの⽴ち上げを ⾏い、1年間で述べ100人以上の人材を
 輩出。\nーーーーーーーーーーーーーーーーーーーー
 ーーーーーーー2005年 オーバーチュア株式会社に入社20
 07年 ヤフー株式会社に転籍2012年 株式会社オモロワー
 クスを創業（2018年に売却）2017年 合同会社YuMK創業2018
 年 マーベリック株式会社執⾏役員 就任2019年 マーケテ
 ィング塾『merc Education』開塾2021年 株式会社駅探　経営
 戦略室ーーーーーーーーーーーーーーーーーーーーー
 ーーーーーー\nイベント詳細（参加料など）\n参加料：
 無料日時　：2022年2月9日（水）　20:00~22:00会場　：zoom
 （オンライン）\n\n\n【本イベントを主催するmercEducation
 の事業は？】\n■教育事業部（merc Education）最短３ヶ月
 でプロのマーケターを養成するスクール事業。事業展
 開から1年で、特別マーケター養成クラス100名以上・特
 別講座250名以上の実績。\n受講者の中には、マーケテ
 ィング案件の受注に成功した学生や弊社の人材斡旋事
 業により、弊社の顧問先企業へ内定を獲得した学生も
 輩出するなど、世の中の企業に「なくてはならないマ
 ーケティング思考を持った人材」の育成として、即戦
 力となる人材の養成を行っている事業部。\n■マーケ
 ティング支援事業企業からのマーケティング支援を行
 う業務。新事業の肝である、環境分析や戦略立案だけ
 でなく、広告運用やLP・サイト制作と言った施策レベ
 ルでの支援も幅広く行う事業部。\n注意事項\n※ 参加
 を辞退する場合は、申込のキャンセルをお願い致しま
 す。※ 無断キャンセル・欠席が続く場合、次回以降の
 参加をお断りさせていただく場合がございますのでご
 了承ください。\n\n問い合わせ\n本プログラムに関する
 お問い合わせは、公式LINEアカウントよりお問い合わせ
 ください。
LOCATION:オンライン＠ZOOM
URL:https://techplay.jp/event/845168?utm_medium=referral&utm_source=ics&utm
 _campaign=ics
END:VEVENT
END:VCALENDAR
