BEGIN:VCALENDAR
VERSION:2.0
PRODID:-//https://techplay.jp//JP
CALSCALE:GREGORIAN
METHOD:PUBLISH
X-WR-CALDESC:【SEOの基本を学ぶ】SEOの仕組みと基礎数値を
 学ぶSEOセミナー
X-WR-CALNAME:【SEOの基本を学ぶ】SEOの仕組みと基礎数値を
 学ぶSEOセミナー
X-WR-TIMEZONE:Asia/Tokyo
BEGIN:VTIMEZONE
TZID:Asia/Tokyo
BEGIN:STANDARD
DTSTART:19700101T000000
TZOFFSETFROM:+0900
TZOFFSETTO:+0900
TZNAME:JST
END:STANDARD
END:VTIMEZONE
BEGIN:VEVENT
UID:845298@techplay.jp
SUMMARY:【SEOの基本を学ぶ】SEOの仕組みと基礎数値を学ぶS
 EOセミナー
DTSTART;TZID=Asia/Tokyo:20220201T130000
DTEND;TZID=Asia/Tokyo:20220201T140000
DTSTAMP:20260423T044602Z
CREATED:20220119T012504Z
DESCRIPTION:イベント詳細はこちら\nhttps://techplay.jp/event/84529
 8?utm_medium=referral&utm_source=ics&utm_campaign=ics\n\n【初心者向
 け】SEOの仕組みと基礎数値を学ぶSEOセミナー\nセミナ
 ー詳細\nSEOの基本をオンラインで学ぶ\n本セミナーでは
 SEOの基本的な仕組みやSEO対策をする上で押さえておく
 べき数値を解説します。実際にSEO対策を行うための基
 本的な考え方についても丁寧に説明していきますので
 、これからSEOを始められる方は是非ご参加ください。\
 n※本セミナーは事前に録画した内容を配信します。\n
 こんな方におすすめ\n・SEOの基本について知りたい・SE
 O対策の進め方を知りたい・SEOコンサルを依頼するとき
 のポイントを知りたい\n本セミナーの特徴\n①SEOの基本
 が分かるSEOの仕組み、対策の進め方など初心者が躓き
 やすい部分を徹底解説します。\n②SEOの基礎数値が分
 かる検索エンジンのシェア、ブラウザシェア、検索か
 らの直帰率などSEOをする上で役に立つ基礎数値を紹介
 します。\n③参加型の演習問題で理解が深まるセミナ
 ーの後半で実施するクリック操作だけで簡単に参加で
 きる演習問題で内容をより理解することができます。\
 nセミナーカリキュラム\n①SEOの本質②SEO基礎数値と注
 目指標③SEOの仕組み＋課題と対策④SEO改善計画⑤演習
 問題\n※講演内容は予告なく変更される場合がござい
 ます。予めご了承くださいますようお願いします。※
 競合にあたる企業の方の申し込みはお断りをさせて頂
 いております。ご了承ください\n参加対象\n\n広告・マ
 ーケティング・広報に関わっている方\nWeb制作担当者\n
 WEBマスター・サイト管理者・デザイナー\n\n参加費\n無
 料\n開催概要\nこちらのセミナーはzoomセミナーとなっ
 ております。開催日時が近づきましたらzoomセミナー用
 の参加URLを送付させていただきます。\n※参加URLが配
 信されていない場合はお手数ですがシンメトリックセ
 ミナー事務局(seminar@symmetric.co.jp)までご連絡ください。
 \n注意事項\n\nリクルーティング、勧誘など、採用目的
 でのイベント参加はお断りしております。\n欠席され
 る場合は、お手数ですが速やかにキャンセル処理をお
 願い致します。\n無断キャンセルや欠席が続く場合、
 次回以降の参加をお断りさせていただく場合がござい
 ます。\n\n主催社について\n株式会社シンメトリック(htt
 ps://www.symmetric.co.jp)\nSEO改善サービス『クラスターSEO』
 、アクセス解析ツール『アナトミー』を提供していま
 す。シンメトリックは、アクセス解析・SEO対策の専門
 家として、Googleアナリティクスやサーチコンソールの
 データを可視化し、サイトの課題点の発見、改善案の
 策定を支援するツールやサービスを提供しています。
LOCATION:https://mktg.siteanatomy.com/form/BEGSEO2
URL:https://techplay.jp/event/845298?utm_medium=referral&utm_source=ics&utm
 _campaign=ics
END:VEVENT
END:VCALENDAR
