BEGIN:VCALENDAR
VERSION:2.0
PRODID:-//https://techplay.jp//JP
CALSCALE:GREGORIAN
METHOD:PUBLISH
X-WR-CALDESC:【SEOで狙うべきキーワードが分かる】SEOキー
 ワードを選定するSERP分析法セミナー
X-WR-CALNAME:【SEOで狙うべきキーワードが分かる】SEOキー
 ワードを選定するSERP分析法セミナー
X-WR-TIMEZONE:Asia/Tokyo
BEGIN:VTIMEZONE
TZID:Asia/Tokyo
BEGIN:STANDARD
DTSTART:19700101T000000
TZOFFSETFROM:+0900
TZOFFSETTO:+0900
TZNAME:JST
END:STANDARD
END:VTIMEZONE
BEGIN:VEVENT
UID:845308@techplay.jp
SUMMARY:【SEOで狙うべきキーワードが分かる】SEOキーワー
 ドを選定するSERP分析法セミナー
DTSTART;TZID=Asia/Tokyo:20220217T100000
DTEND;TZID=Asia/Tokyo:20220217T110000
DTSTAMP:20260424T122053Z
CREATED:20220119T015803Z
DESCRIPTION:イベント詳細はこちら\nhttps://techplay.jp/event/84530
 8?utm_medium=referral&utm_source=ics&utm_campaign=ics\n\n【SEOで狙う
 べきキーワードが分かる】SEOキーワードを選定するSERP
 分析法セミナー\nセミナー詳細\nSEOで狙うべきキーワー
 ドが分かる\nSEO対策において最も重要であるキーワー
 ド選定ですが、どんなキーワードで対策をすればいい
 のか分からないというお悩みをお持ちではないでしょ
 うか。\nSEOでは単純に検索ボリュームの大きいキーワ
 ードを狙えば良いという訳ではなく、自社のサービス
 にマッチし、検索上位を狙えるキーワードを選定する
 必要があります。\n検索ボリュームからキーワードを
 選定するのが難しい場合や、よりビジネスにマッチし
 たキーワードを選定する手法になっておりますので、
 是非ご参加ください。\nこんな方におすすめ\n・SEOのキ
 ーワードを選定する時の考え方が分からない・検索ボ
 リュームが大きいキーワードは競合が強すぎて上位を
 狙えない・自社のターゲットとするユーザーが調べる
 キーワードが分からない\nセミナー参加者の声\n\n\nセ
 ミナーの特徴\n①ツール不要！ブラウザだけで実践で
 きるキーワード選定\n本セミナーで解説するキーワー
 ド選定の手法は検索結果からユーザーの検索意図を分
 析し、ビジネスにマッチしたキーワードを選定する方
 法です。ツール不要で分析を実践いただけます！\n②
 リアルな検索結果を元に分析演習\nセミナーの後半で
 は実際のデータを元にした演習問題も用意しておりま
 す。実践ですぐに役立つ、SEOキーワードの選定手法で
 す。\n\nセミナーカリキュラム\n①SERP分析とは？②SERP
 分析：SERPの指向性③SERP分析：SERP分析例④演習問題　S
 ERP分析に挑戦！⑤SERP分析とは。⑥試験問題\n※講演内
 容は予告なく変更される場合がございます。予めご了
 承くださいますようお願いします。※競合にあたる企
 業の方の申し込みはお断りをさせて頂いております。
 ご了承ください\n参加対象\n\n広告・マーケティング・
 広報に関わっている方\nWeb制作担当者\nWEBマスター・サ
 イト管理者・デザイナー\n\n参加費\n無料\n開催概要\nこ
 ちらのセミナーはzoomセミナーとなっております。開催
 日時が近づきましたらzoomセミナー用の参加URLを送付さ
 せていただきます。\n※参加URLが配信されていない場
 合はお手数ですがシンメトリックセミナー事務局(semina
 r@symmetric.co.jp)までご連絡ください。\n注意事項\n\nリク
 ルーティング、勧誘など、採用目的でのイベント参加
 はお断りしております。\n欠席される場合は、お手数
 ですが速やかにキャンセル処理をお願い致します。\n
 無断キャンセルや欠席が続く場合、次回以降の参加を
 お断りさせていただく場合がございます。\n\n主催社に
 ついて\n株式会社シンメトリック(https://www.symmetric.co.jp)
 \nSEO改善サービス『クラスターSEO』、アクセス解析ツ
 ール『アナトミー』を提供しています。シンメトリッ
 クは、アクセス解析・SEO対策の専門家として、Googleア
 ナリティクスやサーチコンソールのデータを可視化し
 、サイトの課題点の発見、改善案の策定を支援するツ
 ールやサービスを提供しています。
LOCATION:https://mktg.siteanatomy.com/form/SERP
URL:https://techplay.jp/event/845308?utm_medium=referral&utm_source=ics&utm
 _campaign=ics
END:VEVENT
END:VCALENDAR
