BEGIN:VCALENDAR
VERSION:2.0
PRODID:-//https://techplay.jp//JP
CALSCALE:GREGORIAN
METHOD:PUBLISH
X-WR-CALDESC:Android Office Hours〜2022年の技術トレンド大予想
 ！〜
X-WR-CALNAME:Android Office Hours〜2022年の技術トレンド大予想
 ！〜
X-WR-TIMEZONE:Asia/Tokyo
BEGIN:VTIMEZONE
TZID:Asia/Tokyo
BEGIN:STANDARD
DTSTART:19700101T000000
TZOFFSETFROM:+0900
TZOFFSETTO:+0900
TZNAME:JST
END:STANDARD
END:VTIMEZONE
BEGIN:VEVENT
UID:845470@techplay.jp
SUMMARY:Android Office Hours〜2022年の技術トレンド大予想！〜
DTSTART;TZID=Asia/Tokyo:20220203T193000
DTEND;TZID=Asia/Tokyo:20220203T203000
DTSTAMP:20260422T202659Z
CREATED:20220120T062409Z
DESCRIPTION:イベント詳細はこちら\nhttps://techplay.jp/event/84547
 0?utm_medium=referral&utm_source=ics&utm_campaign=ics\n\nYouTube配信URL
 \nhttps://youtu.be/8-ifCGQ20tg\n視聴後アンケート\nhttps://forms.g
 le/XwG5NAbSvDN7EYf47\n概要\nAndroid Office Hours は、メルカリグ
 ループ主催のAndroidエンジニアによるAndroidエンジニア
 のためのイベントです。\n今回のテーマは「2022年の技
 術トレンド」です。\n2022年がはじまったところですが
 、今年はどんな技術トレンドが出てくるのか気になり
 ますよね....！出演者のみなさんに、アプリ運用や開発
 体制でこれから取り入れようとしていることや、注目
 している取り組みなどを等身大で語ってもらいます。\
 n対象者\n\n今日のイベントテーマに興味がある\n仕事や
 趣味でAndroidアプリをつくっている\n他社のAndroidエンジ
 ニアの話が聞きたい\n\n申込方法\nイベントの視聴をご
 希望の方は、当connpassイベントページにて申し込みし
 てください。\n※ 本イベントの配信URLは、イベント開
 催日に connpass 経由でご連絡いたします。\nタイムスケ
 ジュール\n\n\n\n内容\n時間\n補足\n\n\n\n\nオープニング\n5
 min\n\n\n\nパネルディスカッション\n50min\nby ひつじ \, taka
 hirom \, kgmyshin \, amane \, kenken\n\n\nエンディング\n5min\n\n\n\
 n\n※内容は当日変更する可能性がございます。予めご
 了承ください。\nモデレーター\nひつじ (a.k.a. @mhidaka) / 
 牧場 株式会社メルペイ Experts team\nAndroidエンジニア。
 メルペイでは牧草を食べて過ごしている。ほんとかな
 ぁとおもったので雑談チャンネルで周りにアンケート
 を取ってみました。こんなひとらしいです。「技術書
 典」「つっこむぞつかまれ！」「扇動」「暗躍」牧歌
 的ですね。\n\nTwitter: https://twitter.com/mhidaka\n活動: techbook
 fest.org\n\n出演者\ntakahirom / 株式会社サイバーエージェ
 ント AbemaTV Nativeチーム\n株式会社サイバーエージェン
 トでABEMAのAndroidアプリを開発しているエンジニアです
 。Androidが好きです。\nGoogle Developers Expert for AndroidやDroi
 dKaigiのアプリのリーダーなどの活動をしていて、Android
  Dagashiの運営を最近始めました。\n\nTwitter: https://twitter.
 com/new_runnable\nGitHub: https://github.com/takahirom\n\nkgmyshin / 合
 同会社DMM.com CTO室 / VPoE室\n合同会社DMM.comで働くAndroidエ
 ンジニアです。\nCTO室、VPoE室を兼務しており各事業部
 にAndroidエンジニアとして支援するかたわらで、エンジ
 ニアの採用や育成、教育などなど開発組織そのものに
 コミットするような仕事が増えてきました。\n\nTwitter: 
 https://twitter.com/kgmyshin\nGitHub: https://github.com/kgmyshin\n\naman
 e / 株式会社メルペイ Androidチーム\n2020年3月にメルペイ
 に入社。Androidエンジニアとして機能開発の傍らE2Eテス
 トのメンテナンスなどをやっています。今年はJetpack Co
 mposeやっていくぞ！\n\nTwitter: https://twitter.com/a2kaido\n\nken
 ken / 株式会社メルペイ Androidチーム\n2021年5月にAndroidエ
 ンジニアとしてメルペイへ入社。メルペイスマート払
 いや決済履歴の機能開発を主に担当しています。GUIを
 作るのが好き。最近の関心事はJetpack Composeと英語。\n\n
 Twitter: https://twitter.com/tkhs0604\n\n行動規範について\n当イ
 ベントは、参加者と知見を共有し、ディスカッション
 するための場です。そのため、主催者を含む全ての参
 加者は下記ページに記載される行動規範に同意してい
 ただく必要があります。ご理解ご協力をお願いいたし
 ます。\nhttps://about.mercari.com/event-code-of-conduct/\n何かお困
 り事などありましたら、当イベントページの「イベン
 トへのお問い合わせ」からご連絡ください。\n株式会
 社サイバーエージェント\n\n会社HP\nエンジニアリング
 ブログ\nエンジニア向けTwitterアカウント\nエンジニア
 向けYouTube\n\n合同会社DMM.com\n\nDMM Inside\nAndroidエンジニ
 ア採用情報\n\n株式会社メルペイ\n\n会社HP\nエンジニア
 リングブログ\nエンジニア向けTwitterアカウント\nエン
 ジニア向けYouTube\n
LOCATION:オンライン オンライン
URL:https://techplay.jp/event/845470?utm_medium=referral&utm_source=ics&utm
 _campaign=ics
END:VEVENT
END:VCALENDAR
