BEGIN:VCALENDAR
VERSION:2.0
PRODID:-//https://techplay.jp//JP
CALSCALE:GREGORIAN
METHOD:PUBLISH
X-WR-CALDESC:【Day2】「構築・運用」編　これからサイトリ
 ニューアルに取り組む方へ 「これからの企業Webサイト
 に求められる姿とその実現方法」
X-WR-CALNAME:【Day2】「構築・運用」編　これからサイトリ
 ニューアルに取り組む方へ 「これからの企業Webサイト
 に求められる姿とその実現方法」
X-WR-TIMEZONE:Asia/Tokyo
BEGIN:VTIMEZONE
TZID:Asia/Tokyo
BEGIN:STANDARD
DTSTART:19700101T000000
TZOFFSETFROM:+0900
TZOFFSETTO:+0900
TZNAME:JST
END:STANDARD
END:VTIMEZONE
BEGIN:VEVENT
UID:846046@techplay.jp
SUMMARY:【Day2】「構築・運用」編　これからサイトリニュ
 ーアルに取り組む方へ 「これからの企業Webサイトに求
 められる姿とその実現方法」
DTSTART;TZID=Asia/Tokyo:20220303T140000
DTEND;TZID=Asia/Tokyo:20220303T150500
DTSTAMP:20260424T122921Z
CREATED:20220125T110231Z
DESCRIPTION:イベント詳細はこちら\nhttps://techplay.jp/event/84604
 6?utm_medium=referral&utm_source=ics&utm_campaign=ics\n\nこれからサ
 イトリニューアルに取り組む方へ\n｜セミナー概要\n従
 来型の対面コミュニケーションが難しくなったニュー
 ノーマル時代において、オンラインでの情報収集や購
 買が当たり前のものとなりました。そこで重要となっ
 てくるのは企業の顧客接点の礎となる「Webサイト」で
 す。\n「サイトリニューアルのミッションを与えられ
 たが何から手をつけていいのか分からない」「そもそ
 もどこに課題があるのだろうか」など、どのように取
 り組んだら良いのか悩む企業担当者の皆様も多いので
 はないでしょうか。\n本セミナーでは2日間にわたって
 、企業Webサイトの課題・最新動向からサイトリニュー
 アルに必要な考え方を、「企画・構想フェーズ」「構
 築フェーズ」「運用フェーズ」の3つの視点でご紹介し
 ます。\nDay2では、「構築フェーズ」「運用フェーズ」
 の視点から「再構築を失敗させないためのプロジェク
 トの進め方」と「リニューアル後に成果を出すための
 ポイント」についてお話しします。\n◆◇◇◇◇◆◇
 ◇◇◇◆◇◇◇◆◇◇◇◇◆◇◇◇◆本セミナーのご
 視聴にはマイナビニュース告知webサイトでの本登録が
 必要です。※まだご視聴の申し込みは完了しておりま
 せん。\n本登録後、本セミナー運営事務局より、webセ
 ミナー視聴用URLならびにログインID、PASSを記載した受
 講票をメールにてお送りいたしますので、お手数では
 ございますが、3/2(水) 15:00までに本セミナー告知webサ
 イト内「本セミナーへ申し込む」ボタンよりご登録を
 お願いいたします。\n■□■ 本登録はこちらから ■□
 ■https://news.mynavi.jp/itsearch/seminar/590◆◇◇◇◇◆◇◇◇
 ◇◆◇◇◇◆◇◇◇◇◆◇◇◇◆\n｜当日プログラム\n
 ーーーーーーーーーーーーーーーーーーーーーーーー
 ー\n【オープニング】　オープニングセッション\n富士
 通株式会社ビジネスパートナー本部デジタルサービス
 ビジネス統括部 CRMビジネス部エキスパート 中村 修氏\
 nーーーーーーーーーーーーーーーーーーーーーーーー
 ー\n【セッション①】　失敗しないサイト構築の ”5つ
 のポイント”\n富士通株式会社ソーシャルデザイン事
 業本部デジタルタッチポイント事業部　マネージャー
 　高橋 一夫 氏\n▼プロフィール2000年から自社開発CMS
 の企画・設計・開発に従事。以来、官公庁・自治体、
 製造、金融、メディアなど様々な業種のプロジェクト
 で累計100件ほどCMS導入を支援。\n▼講演サマリー自社
 サイト（コーポレートサイト、製品サイト、会員制サ
 イト等）の新規構築/再構築をご検討中の営業企画、マ
 ーケティング、広報、情報システム部門の皆さまを対
 象として、プロジェクトを始める前に押さえておきた
 いポイントを事例を交えて解説します。本セッション
 を受講いただくことで、「要件定義の勘所」、「既存
 コンテンツ移行や設計のコツ」、「無理のないスケジ
 ュールの立て方」などを掴んでいただけます。また、
 セッション後半では富士通の新ブランドサイトをアジ
 ャイル型で開発した事例をご紹介します。\nーーーー
 ーーーーーーーーーーーーーーーーーーーーー\n【セ
 ッション②】　リニューアル後に成果を出すためのポ
 イント　　　　　　　　（その①：サイト特性の違い
 による運用時の留意点）\n富士通株式会社ソーシャル
 デザイン事業本部デジタルタッチポイント事業部シニ
 アマネージャー藤田 善太 氏\n▼プロフィールシステム
 エンジニアとして通信キャリア系企業でのWebアプリケ
 ーション開発、Webサービス運用に従事。自社Webサービ
 スのビジネス化を経験後、近年は大中規模WebサイトのC
 MS導入支援を担務。\n▼講演サマリーWebサイトはリニュ
 ーアル後からが本番と言われます。本来目指していた
 ものをいかに効果的、効率的に実現できるのが重要で
 す。本セッションでは運用フェーズに留意するべきこ
 とを以下の3つの視点で解説します。①静的CMSと動的CMS
 の運用の違い、②Webサイト運用の内製化とあるべき社
 内体制、③CMS基盤（IaaSとPaaS）の違いによる運用の違
 い。\nーーーーーーーーーーーーーーーーーーーーー
 ーーーー\n【セッション③】　リニューアル後に成果
 を出すためのポイント　　　　　　　　（その②：デ
 ータ可視化による効果的なリード獲得施策）\n株式会
 社ジー・サーチサービス統括部デジタルプロデュース
 部黒川 智史 氏\n▼プロフィールWebサイト制作ディレク
 ションにはじまり、アクセスログ解析、SNS活用、デジ
 タル広告を活用したプロモーションに従事。近年ではP
 DCAサイクルの構築やKPI設定といったデジタルマーケテ
 ィング支援も担当。\n▼講演サマリー「リニューアル
 をしたもののアクセス数が増えない」「アクセス数を
 見ても良いのか悪いのか判断がつかない」「何を見て
 どのように改善すれば良いのかわからない」といった
 声をよく耳にします。そこで本セッションでは "具体
 的なPDCAの回し方 / PDCAを効果的に活用するためのポイ
 ント / GAを活用したデータの可視化 / 数値を根拠に評
 価する具体的方法" についてご紹介します。\nーーーー
 ーーーーーーーーーーーーーーーーーーーーー\n｜開
 催概要\nタイトル　：【Day2】「構築・運用」編　　　
 　　これからサイトリニューアルに取り組む方へ　　
 　　　「これからの企業Webサイトに求められる姿とそ
 の実現方法」\n開催日　　：2022年3月3日（木）14：00～1
 5:05\n申込締切日：2022年3月2日（水）15：00\n申し込み　
 ：当日はオンラインWEBセミナーでの開催です。　　　
 　　　視聴方法は受付完了後にご案内します。\n主催
 　　　：株式会社マイナビ　マイナビニュースセミナ
 ー事務局\n協賛　　　：富士通株式会社
LOCATION:Webセミナー
URL:https://techplay.jp/event/846046?utm_medium=referral&utm_source=ics&utm
 _campaign=ics
END:VEVENT
END:VCALENDAR
