BEGIN:VCALENDAR
VERSION:2.0
PRODID:-//https://techplay.jp//JP
CALSCALE:GREGORIAN
METHOD:PUBLISH
X-WR-CALDESC:【シスコ】新たなコンセプトのクラウドセキ
 ュリティソリューション: Cisco Secure Cloud Insights (CSPM＋CA
 ASM)
X-WR-CALNAME:【シスコ】新たなコンセプトのクラウドセキ
 ュリティソリューション: Cisco Secure Cloud Insights (CSPM＋CA
 ASM)
X-WR-TIMEZONE:Asia/Tokyo
BEGIN:VTIMEZONE
TZID:Asia/Tokyo
BEGIN:STANDARD
DTSTART:19700101T000000
TZOFFSETFROM:+0900
TZOFFSETTO:+0900
TZNAME:JST
END:STANDARD
END:VTIMEZONE
BEGIN:VEVENT
UID:846112@techplay.jp
SUMMARY:【シスコ】新たなコンセプトのクラウドセキュリ
 ティソリューション: Cisco Secure Cloud Insights (CSPM＋CAASM)
DTSTART;TZID=Asia/Tokyo:20220224T140000
DTEND;TZID=Asia/Tokyo:20220224T150000
DTSTAMP:20260420T110718Z
CREATED:20220126T021132Z
DESCRIPTION:イベント詳細はこちら\nhttps://techplay.jp/event/84611
 2?utm_medium=referral&utm_source=ics&utm_campaign=ics\n\n新たなコン
 セプトのクラウドセキュリティソリューション: Cisco Se
 cure Cloud Insights (CSPM＋CAASM)\n概要\n急激なクラウドシフ
 トに伴い、適切に管理されていないクラウド環境が数
 多く存在し、攻撃者の格好のターゲットとなっていま
 す。これに対しSecure Cloud InsightsのCSPM機能(クラウドセ
 キュリティポスチャ管理）は、クラウドのセキュリテ
 ィ設定チェックやコンプライアンスチェックにより、
 クラウドのセキュリティリスクの可視化を実現します
 。それに加え新たなコンセプト：CAASM（サイバーアセ
 ットアタックサーフェス管理）は、サイバーアセット
 の把握と、アタックサーフェス（攻撃対象領域）の可
 視化により、よりプロアクティブにセキュリティリス
 クの検証が可能となります。\n本セミナーではデモを
 交え、本ソリューションの概要や特長、旧来のCSPMソリ
 ューションとの違い等についてご説明いたします。\n
 お申込\nシスコ　ウェビナーページ内「登録」よりお
 申し込みください\n\n登壇者\nシスコシステムズ合同会
 社セキュリティ事業サイバーセキュリティスペシャリ
 スト遠藤　直之https://gblogs.cisco.com/jp/author/naoyukiendoh/\n\n
 参加費\n無料\nハッシュタグ\n**#techplayjp　#cisco #クラウ
 ドセキュリティ #**CSPM #CAASM\n注意事項\n\nリクルーティ
 ング、勧誘など、採用目的でのイベント参加はお断り
 しております。\nキャンセル待ち・補欠・落選の方は
 ご参加いただくことが出来ませんのでご了承ください
 。\n欠席される場合は、お手数ですが速やかにキャン
 セル処理をお願い致します。\n無断キャンセルや欠席
 が続く場合、次回以降の参加をお断りさせていただく
 場合がございます。\n
LOCATION:オンライン
URL:https://techplay.jp/event/846112?utm_medium=referral&utm_source=ics&utm
 _campaign=ics
END:VEVENT
END:VCALENDAR
