BEGIN:VCALENDAR
VERSION:2.0
PRODID:-//https://techplay.jp//JP
CALSCALE:GREGORIAN
METHOD:PUBLISH
X-WR-CALDESC:PHPerのための「Xdebugの活用方法」を語るTechCafe
X-WR-CALNAME:PHPerのための「Xdebugの活用方法」を語るTechCafe
X-WR-TIMEZONE:Asia/Tokyo
BEGIN:VTIMEZONE
TZID:Asia/Tokyo
BEGIN:STANDARD
DTSTART:19700101T000000
TZOFFSETFROM:+0900
TZOFFSETTO:+0900
TZNAME:JST
END:STANDARD
END:VTIMEZONE
BEGIN:VEVENT
UID:846192@techplay.jp
SUMMARY:PHPerのための「Xdebugの活用方法」を語るTechCafe
DTSTART;TZID=Asia/Tokyo:20220225T190000
DTEND;TZID=Asia/Tokyo:20220225T210000
DTSTAMP:20260424T091904Z
CREATED:20220126T071225Z
DESCRIPTION:イベント詳細はこちら\nhttps://techplay.jp/event/84619
 2?utm_medium=referral&utm_source=ics&utm_campaign=ics\n\n今回のTechCaf
 eテーマ\nPHPer's NEWS !!\nPHPやWeb技術関連の最新情報・記
 事など、PHPerが聞きたいニュースをピックアップして
 紹介します！！\n"一緒に語り合う枠" の方はもちろん
 、"聞き専枠" の方も、チャットを使って意見交換・情
 報交換をしましょう！\n「Xdebug」について語り合う\n今
 月のテーマは「Xdebug」です！\nXdebug は PHPer によるデバ
 ッグのお供であり、よく使われる "ステップ実行" だけ
 でなく、さまざまな機能を提供する拡張ツールです。\
 n今回はこの「Xdebug」についてワイワイ盛り上がりまし
 ょう！！\nShowNote\n== 作成中 ==※内容が変更になる場合
 がありますので、ご了承ください。\n過去の議題一覧\n
 2021年度\n\n1月開催：「2021年のPHP/Laravel振り返り＋2022年
 」を語る」\n12月開催：「PHPerのためのPHP8.1をもっと語
 り合う」\n11月開催：「PHP カンファレンス 2021を振り返
 る」 ShowNote\n\n10月開催：「Laravel 入門を語り合う」 Show
 Note\n\n9月開催：「PHPUnit の始め方について語りあう」 S
 howNote\n\n8月開催：「PHP8.1 の新機能について語り合う」
  ShowNote 内容書き起こし1 内容書き起こし2\n\n7月開催：
 「PHPerの今とその先を語り合うフォーラム2021」 ShowNote 
 内容書き起こし\n\n6月開催：「PHPUnit について語り合う
 」 ShowNote\n\n5月開催：「PHPDocについて語り合う」 ShowNot
 e\n\n4月開催：「PHP標準コーディングルール（PSR）につ
 いて語り合う」 ShowNote\n\n1月開催：「2020年のPHP/Laravel
 振り返り＋2021年」 ShowNote\n\n\n2020年度\n\n12月開催：「La
 ravel/PHP8/Dockerで開発環境作りを語り合う」 ShowNote\n\n11
 月開催：「Laravel8を中心に語り合う」 ShowNote\n\n10月開
 催：「PHPのニュースや記事を語り合う」 ShowNote\n\n9月
 開催：「『PHP8』のニュースや記事を語り合う」 ShowNote
 \n\n8月開催：「PHPのニュースや記事を語り合う」 ShowNot
 e\n\n7月開催：「PHPのニュースや記事を語り合う」 ShowNo
 te\n\n6月開催：「PHPのニュースや記事を語り合う」 ShowN
 ote\n\n\n過去のイベント風景はこちら（Facebookへのアル
 バムへのリンクです）\nhttps://business.facebook.com/RAKUS.pr/ph
 otos/a.2704257409863130/2704257419863129/?type=3&theaterhttps://business.
 facebook.com/RAKUS.pr/photos/a.2704257409863130/2704257529863118/?type=3&
 theater\n主催出演者の紹介\n\n\nTakayuki Fujisawa\n\n\nSIerとベ
 ンチャー企業を経て、2015年ラクス入社。PHP開発を始め
 たのは8年前（元Javaエンジニア）FWはCakePHP\, FuelPHP\, Lara
 vel\, Zend Framework\, Ethna（今は亡き）ラクス入社後は楽楽
 販売・配配メールの開発や、品質管理や技術仕様の標
 準化など多岐に渡るおしごとに従事。現在は楽楽労務
 の開発を担当。初心者の方からツヨツヨの方まで、一
 緒にワイワイお話しできると嬉しいです。\n\n\nY-Kanoh\n\
 n\n2016年新卒でラクスへ入社。入社後、配配メール開発
 チームへ参画し、現在はメールディーラーの開発チー
 ムに所属。入社と同時にPHPを扱い始め、趣味でLaravelや
 Docker、Vue.jsを触っています。キーボードはHHKB。参加者
 の皆さんとともに、自分もPHPerとしてレベルアップで
 きればと思います！\n\n\nMasaKu\n\n\n2017年新卒でラクスへ
 入社。配配メールの開発を担当しています。個人でWeb
 サービスを作成したり、興味のある技術をあれこれ試
 すのが趣味です。PHPのように、良いものを取り入れ続
 けるエンジニアになることが目標です！\n\n\nr_numoto\n\n\
 n2021年1月に中途でラクス入社。以前は主にRubyで開発し
 ていました。現在はChatDealerチームに所属し、PHPを使用
 して開発しています。PHPの経験はまだ浅めなので、Teck
 Cafeを通じて皆さんと成長していければと思います。\nT
 echCafeについて\n「TechCafe」は、PHPを軸としてエンジニ
 アと技術が交差する憩いの場（カフェ）になることを
 目指し、WebやPHPに関わるITエンジニアがスキルアップ
 のために開発や勉強、LTや情報共有などを行うコミュ
 ニティです。普段は、弊社オフィスに来社頂き、特定
 のテーマについてディスカッションや、もくもく自習
 などを行って頂いています。\n弊社の社員も参加しま
 す。エンジニア同士が楽しみながら学習するためのコ
 ミュニティです。お気軽にご参加ください。\nよろし
 ければ弊社の 開発者ブログ もご覧ください。興味を
 持たれましたらぜひご参加ください。\n対象者\nPHPを入
 門後の初級エンジニア～シニアエンジニア\n\nエンジニ
 ア同士の学び・情報共有の場をつくり、エキスパート
 までの自己成長を支援する\n学びの場を一緒に支援し
 て頂けるエキスパート以上のかたの参加も大歓迎\n\n※
 入門者向けのスクール系の領域はコミュニティとして
 は対象外としています\n投書箱\nイベントで取り上げて
 欲しいテーマや、イベントの感想、その他ご意見等を
 募集します！お気軽に投稿してください！\n投稿はこ
 ちら\nSlack\n本コミュニティ用のSlackチャンネルにご参
 加頂ければ幸いです。\nこちらからご参加ください\n#
 開催概要\n【日時】2022/2/25(金) 19:00～20:30　※10分前か
 ら入室可能です！\n【会場】オンライン（Zoom）　※Conn
 passのメッセージ機能、およびイベントページ中の「参
 加者への情報」欄にて開催前にURLを通知いたします。\
 n【参加費】無料\n【主催】ラクス\n一緒に語り合う枠\n
 PHPやWeb開発に関連するニュースや記事をピックアップ
 してディスカッションします。「一言くらいはしゃべ
 るかも」程度でお気軽にご参加ください。可能な方の
 みで結構ですので、「顔出し」して頂けると幸いです
 ！\nまた、冒頭で簡単にお名前（orニックネーム）と「
 今こんなことに興味があるよ」を共有して頂きます。\
 n\n\n\n\n語り合う方\n\n\n\n\n1\nY-Kanohさん\n\n\n2\nMasaKuさん\n
 \n\n3\nTakayuki Fujisawaさん\n\n\n4\n募集中\n\n\n5\n募集中\n\n\n6
 \n募集中\n\n\n7\n募集中\n\n\n\nLT枠（5分）\n発表テーマはP
 HP/Laravelに関する内容であれば何でも構いません。※「
 PHPに関する」は厳密な縛りではありませんので、ご自
 由に拡大解釈頂いて結構です。\n\nご自身の学習内容\n
 個人で開発したサービス\n開発のノウハウ\n\nなど、知
 識やノウハウを参加者同士で共有し合いましょう。\n
 ※なお、発表者は先着順とさせていただきますので、
 ご容赦ください。\n\n\n\n\n発表テーマ\n発表者\n\n\n\n\n1\n
 募集中\n募集中\n\n\n2\n募集中\n募集中\n\n\n3\n募集中\n募
 集中\n\n\n\n※確定次第、更新します\n注意事項\n\n発表
 練習はありませんので、ご自身の発表時間前にはZoomへ
 ご入室をお願いします。\n事前の資料共有は不要です
 。当日に向けてご準備をお願いします！\n\n聞き専枠\n
 文字通り、聞くのみのご参加です。マイク・カメラOFF
 でご参加ください。（ホスト側でもコントロールしま
 す）\n#タイムテーブル（途中参加OK）\n\n19:00 開始・ご
 挨拶など\n19:10～ 自己紹介\n19:15～ LT会パート ※エント
 リーがあった場合、先着順で発表して頂きます\n19:30ご
 ろ～ ディスカッション開始\n20:20 アンケートのお願い
 、締めのご挨拶\n20:30 終了\n\n登壇者情報 詳細\n一緒に
 語り合う枠\n後程記載します。\nLT枠\n後程記載します
 。\n\n注意事項\n\n当イベントの内容およびスケジュー
 ルは、予告なく変更となる場合があります。予めご了
 承ください。\n他の参加者の方の妨げになるような行
 為は禁止、運営側の判断でご退出をお願いする場合が
 あります。\nブログやSNS等で当イベントに関する発信
 を行う際は、公序良俗に反する内容のないよう、ご協
 力をお願いします。\n当イベントはオンライン開催の
 ため、通信状況によって音声や映像の乱れがある場合
 がございます。\n配信トラブル時のアナウンスはTwitter
 より行います。\n当日のイベント風景を録画させてい
 ただいております。内容は後日レポート記事やSNS掲載
 又は、会員限定の動画配信される場合がありますので
 ご了承ください。\n\n\nイベント画像について\nPhoto by Wi
 ndowson Unsplash\nRAKUS Tech Conference 2022\n株式会社ラクスの初
 となる技術カンファレンスを2/8(火)14:00~開催！お申込
 みは以下リンクからよろしくお願いいたします。https:/
 /rakus.connpass.com/event/232286/\nエンジニア中途採用サイト\n
 ラクスでは、エンジニア・デザイナーの中途採用を積
 極的に行っております！ご興味ありましたら是非ご確
 認をお願いします。https://career-recruit.rakus.co.jp/career_engi
 neer/\nカジュアル面談\nどの職種に応募すれば良いかわ
 からないという方は、カジュアル面談も随時行ってお
 ります。以下フォームよりお申込みください！https://ra
 kus.hubspotpagebuilder.com/visit_engineer/
LOCATION:オンライン
URL:https://techplay.jp/event/846192?utm_medium=referral&utm_source=ics&utm
 _campaign=ics
END:VEVENT
END:VCALENDAR
