BEGIN:VCALENDAR
VERSION:2.0
PRODID:-//https://techplay.jp//JP
CALSCALE:GREGORIAN
METHOD:PUBLISH
X-WR-CALDESC:【無料オンライン】SFA × MAのデータを繋ぎ、CV
 数50倍！営業効率化を実現した裏舞台「事例セミナー
 」【データ統合自動化サービス trocco®️】primeNumber
X-WR-CALNAME:【無料オンライン】SFA × MAのデータを繋ぎ、CV
 数50倍！営業効率化を実現した裏舞台「事例セミナー
 」【データ統合自動化サービス trocco®️】primeNumber
X-WR-TIMEZONE:Asia/Tokyo
BEGIN:VTIMEZONE
TZID:Asia/Tokyo
BEGIN:STANDARD
DTSTART:19700101T000000
TZOFFSETFROM:+0900
TZOFFSETTO:+0900
TZNAME:JST
END:STANDARD
END:VTIMEZONE
BEGIN:VEVENT
UID:846374@techplay.jp
SUMMARY:【無料オンライン】SFA × MAのデータを繋ぎ、CV数50
 倍！営業効率化を実現した裏舞台「事例セミナー」【
 データ統合自動化サービス trocco®️】primeNumber
DTSTART;TZID=Asia/Tokyo:20220310T110000
DTEND;TZID=Asia/Tokyo:20220310T120000
DTSTAMP:20260424T003129Z
CREATED:20220127T093953Z
DESCRIPTION:イベント詳細はこちら\nhttps://techplay.jp/event/84637
 4?utm_medium=referral&utm_source=ics&utm_campaign=ics\n\n【無料・事
 前登録制】※TECH PLAY上のお申込みではなく専用のペー
 ジにてお申込みが必要です。https://blog.trocco.io/seminar/pri
 menumber-webinar11-registration\nこんな方におすすめ\n\nマーケ
 ティング-セールス連携を強化したい方\nMA x CRM/SFAシス
 テム連携を実現したい・課題のある方\n営業企画/営業
 推進/事業推進部門の方\n\nこのセミナーでわかること\n
 \nMA x CRM/SFA連携を実現するtroccoとは何か\nMA x CRM/SFA連携
 に必要な期間とコスト\nMA x CRM/SFA連携のビジネス効果\n
 \n概要\n昨今、業務効率化を目指し、CRM/SFAやMAなどさま
 ざまなツールを導入する企業が増えています。\nツー
 ル導入後、それらのシステム間連携についてお困りで
 はありませんか。\n本セミナーでは、MAツール「Adobe Mar
 keto Engage」とCRM/SFAツール「e-セールスマネージャー」
 の連携を、「trocco®」によって比較的、短期間・低コ
 ストで実現したインボイス社の事例を紹介します。同
 社は、MAとCRM/SFA連携後、CV数50倍やマーケティングから
 営業へのリード連携作業を自動化するなど、さまざま
 な成果を挙げています。当日は、同社事業推進担当者
 様をお招きし、システム連携実現にあたる具体的な取
 り組みや期間、苦労した点など、リアルをお話します
 。\nタイムスケジュール\n\n\n\n時間\n内容\n\n\n\n\n11:00〜\
 n開催の挨拶\n\n\n11:05〜\nprimeNumber会社紹介troccoって何？
 \n\n\n11:10〜\nSFA × MAのデータを繋ぎ、CV数50倍！営業効
 率化を実現した裏舞台・インボイス会社紹介、事業紹
 介・データ連携における理想と課題・SFA×MA連携の効果
 ・まとめ/今後の展望 etc\n\n\n11:50〜\n質疑応答\n\n\n12:00\n
 終了\n\n\n\n※上記のコンテンツや時間配分は目安とな
 っております。※当日変更となる可能性もございます
 のでご了承ください。\n・イベント開始までに視聴用UR
 Lを参加申し込み頂いた方へご案内します。・配信内容
 の録画/録音はご遠慮ください。・終了時刻は前後する
 可能性がございます。\n詳細・お申し込みはこちら↓\n
 https://blog.trocco.io/seminar/primenumber-webinar11-registration\n主催
 会社情報\n我々は「あらゆるデータを、ビジネスの力
 に変える。」データテクノロジーカンパニーです。デ
 ータが爆発的に増えていく時代に、誰もがすばやく、
 簡単にデータを使える環境を構築し、データ活用まで
 のプロセスを最適化。高度なテクノロジーと独自のア
 イデアで、世界中のビジネスを支援します。データ統
 合自動化サービス「troccoⓇ」の運営やデータ活用伴走
 支援型ソリューションを提供しています。
LOCATION:オンライン
URL:https://techplay.jp/event/846374?utm_medium=referral&utm_source=ics&utm
 _campaign=ics
END:VEVENT
END:VCALENDAR
