BEGIN:VCALENDAR
VERSION:2.0
PRODID:-//https://techplay.jp//JP
CALSCALE:GREGORIAN
METHOD:PUBLISH
X-WR-CALDESC:「なぜ顧客はあなたのモノを買うのか？」〜
 人の"欲しい"を理解する心理学とマーケティング戦略
 の基礎〜
X-WR-CALNAME:「なぜ顧客はあなたのモノを買うのか？」〜
 人の"欲しい"を理解する心理学とマーケティング戦略
 の基礎〜
X-WR-TIMEZONE:Asia/Tokyo
BEGIN:VTIMEZONE
TZID:Asia/Tokyo
BEGIN:STANDARD
DTSTART:19700101T000000
TZOFFSETFROM:+0900
TZOFFSETTO:+0900
TZNAME:JST
END:STANDARD
END:VTIMEZONE
BEGIN:VEVENT
UID:846466@techplay.jp
SUMMARY:「なぜ顧客はあなたのモノを買うのか？」〜人の"
 欲しい"を理解する心理学とマーケティング戦略の基礎
 〜
DTSTART;TZID=Asia/Tokyo:20220308T200000
DTEND;TZID=Asia/Tokyo:20220308T220000
DTSTAMP:20260420T012623Z
CREATED:20220128T031427Z
DESCRIPTION:イベント詳細はこちら\nhttps://techplay.jp/event/84646
 6?utm_medium=referral&utm_source=ics&utm_campaign=ics\n\n「なぜ顧客
 はあなたのモノを買うのか？」\n〜人の"欲しい"を理解
 する心理学とマーケティング戦略の基礎〜\n概要\n"な
 ぜ、顧客はあなたのモノを買うのか"\n類似している自
 社の商品が売れずに他社の商品が売れる。またはその
 逆の現象は日々皆様のビジネスの中でも見られる現象
 かと思います。でもその理由を説明できますか？と聞
 かれたらどうでしょうか？また、顧客があなたの商品
 を知らない所から、どのようにして購買まで至ったの
 かを説明できますか？更には、この未認知→購買、更
 にはそこからリピートへとつなげる仕組みをデザイン
 できているでしょうか？(この質問に自信をもって答え
 られる方は、そっと画面を閉じてください。)\n最後の
 質問までしっかりできている！と自信をもって言える
 方は少ないのではないでしょうか。そんな状況だから
 こそ、もし仮にそれができるようになったら、どんな
 未来が待っているでしょうか？メーカーとして商品開
 発に携わっておられる方も、コンサルや営業として、
 クライアントビジネスにかかわる方も、売上アップに
 繋がる可能性を格段に上げられるはずです。\n今回は
 そんな全体像の中でももっとも基本的な、顧客がなぜ
 買うのか？をテーマに心理学的な観点とマーケティン
 グ思考を頼りに紐解きます。例えば…・十六茶と爽健
 美茶の違いを説明できますか？・アイフォンと国産の
 スマホどちらが優れていますか？・顧客に聞けば全て
 わかるのか？・顧客アンケートから要望が多かったサ
 ラダマックがほとんど売れずにメニューから消えたの
 はなぜ？などの身近な例を元に、心理学的な観点と本
 質的なマーケティング思考がわかりやすく学べる講座
 です。\nイベント詳細\n参加料：無料日時　：2022年3月8
 日（火）20:00~22:00会場　：zoom（オンライン）\n登壇者\n
 \n福田 正義（ふくだ まさよし）\n元Yahoo!Japanコンサル
 ティングマネージャー元マーベリック株式会社 執行役
 員合同会社YuMK 最高経営責任者merc Education代表\nYahoo!Japa
 nのコンサルティングマネージャーとして、600社以上の
 広告代理店の支援、YDNの開発に携わるなど実績を積む
 。2012年合同会社オモロワークスを創業し、大手企業か
 ら個人までマーケティング支援事業を展開。2018年大手
 人材グループネオキャリアグループの子会社 マーベリ
 ック株式会社へバイアウト。執行役員就任。2019年、企
 業から個人まで「実践」で活かせるマーケティング基
 礎教育を行う「merc Education」開塾。2020年、本講座、特
 別講座の受講1\,000名突破。現在、一部上場企業から個
 人までのマーケティング教育・研修・コンサルティン
 グ・顧問業を行う。登壇者略歴\n\n注意事項\n\nリクル
 ーティング、勧誘など、採用目的でのイベント参加は
 お断りしております。\nキャンセル待ち・補欠・落選
 の方はご参加いただくことが出来ませんのでご了承く
 ださい。\n欠席される場合は、お手数ですが速やかに
 キャンセル処理をお願い致します。\n無断キャンセル
 や欠席が続く場合、次回以降の参加をお断りさせてい
 ただく場合がございます。\n
LOCATION:オンライン
URL:https://techplay.jp/event/846466?utm_medium=referral&utm_source=ics&utm
 _campaign=ics
END:VEVENT
END:VCALENDAR
