BEGIN:VCALENDAR
VERSION:2.0
PRODID:-//https://techplay.jp//JP
CALSCALE:GREGORIAN
METHOD:PUBLISH
X-WR-CALDESC:いま知っておきたい！開発にこそ必要なUX　～
 UIから考えるUX改善の秘訣～
X-WR-CALNAME:いま知っておきたい！開発にこそ必要なUX　～
 UIから考えるUX改善の秘訣～
X-WR-TIMEZONE:Asia/Tokyo
BEGIN:VTIMEZONE
TZID:Asia/Tokyo
BEGIN:STANDARD
DTSTART:19700101T000000
TZOFFSETFROM:+0900
TZOFFSETTO:+0900
TZNAME:JST
END:STANDARD
END:VTIMEZONE
BEGIN:VEVENT
UID:846489@techplay.jp
SUMMARY:いま知っておきたい！開発にこそ必要なUX　～UIか
 ら考えるUX改善の秘訣～
DTSTART;TZID=Asia/Tokyo:20220222T120000
DTEND;TZID=Asia/Tokyo:20220222T130000
DTSTAMP:20260424T222849Z
CREATED:20220128T044013Z
DESCRIPTION:イベント詳細はこちら\nhttps://techplay.jp/event/84648
 9?utm_medium=referral&utm_source=ics&utm_campaign=ics\n\n開発に携わ
 る責任者や開発者の方にお伺いします。「開発を行う
 なかでUXが検討され、工程に取り込まれていますか？
 」\nもし取り込まれていない場合、予算やスケジュー
 ルなどさまざまな理由もあるかと思いますが、なかに
 はUXはマーケティングの領域だから開発には関係ない
 と思っている方もいるのではないでしょうか。確かに
 リリース後に関してはマーケティング部門が主導にな
 り集客や販売のためにUX向上に尽力しますが、そもそ
 も販売するソフトウェアやシステムのUX品質はどこで
 検討され、担保するべきなのでしょうか。\nそれはズ
 バリ、開発部門です。\nそしてUX品質を見据えた開発に
 際しては、利用者にとって分かりやすい、利用しやす
 いUIが実装されるべきです。\n一方で、開発現場の多く
 ではUIが個人の感覚や好みで開発されてしまうことが
 多く、UIの品質、ひいてはUXの品質はおざなりになって
 しまっていることがほとんどです。\n本セミナーではUX
 品質に大きく影響を与えるUIの重要性にフォーカスし
 、初心者の方に向けてわかりやすく解説するとともに
 、NGとされるUIやそれをどのように改善すればよいのか
 という事例も合わせてご説明していきます。\n・品質
 として機能面のテストは実施しているが、UIのテスト
 は実施していない。・UIは聞いたことがあるが、どの
 ようなものなのかよくわかっていない。・開発工程で
 もUXに取り組もうと思っているが、何をすればよいか
 わからない。\nこのような課題をおもちの場合は、ぜ
 ひお気軽にご参加ください。\n＜こんな方にもオスス
 メです＞・UXに興味のある企画者、開発者の方・ソフ
 トウェア開発の責任者および開発者の方\nお申込み先\n
 お申込みはこちら\n※動画視聴方法につきましては、
 お申し込みいただいた方へのみご案内させていただき
 ます。※当イベントは弊社が提供するオンラインセミ
 ナーシステム上で開催します。※同業他社・競合他社
 様、個人様のお申し込みはお断りする場合がございま
 す。※Gmailなどのフリーメールアドレスはご参加登録
 いただけません。\nタイムスケジュール\n\n\n\n時間\nコ
 ンテンツ\n\n\n\n\n12:00～\n入室開始\n\n\n12:10～12:15\n開演
 ・ご挨拶\n\n\n12:15～12:45\n講演スタート：開発にこそ求
 められるUIとUX株式会社SHIFTサービス&テクノロジー本部
  デジタルサービス統括部デジタルマーケティンググル
 ープ野尻 和宏\n\n\n12:45～12:55\n質疑応答\n\n\n12:55～13:00\n
 終了\n\n\n\n※講師および講演内容は一部変更になる場
 合がございます\n登壇者\n株式会社SHIFTサービス&テクノ
 ロジー本部 デジタルサービス統括部デジタルマーケテ
 ィンググループ野尻 和宏\n■経歴■SHIFTでUXコンサルタ
 ントとして従事。 通信、教育、EC、人材などさまざま
 な業種のサービスに対して、課題の指摘や改善提案・
 実施などUX向上に関する支援に勤しむ。\n開催概要\n開
 催日：2022年2月22日(火)　12:10～13:00参加料：無料視聴方
 法：オンラインセミナーシステムにて開催お申込みは
 こちら※動画視聴方法につきましては、お申し込みい
 ただいた方へのみご案内させていただきます。※当イ
 ベントは弊社が提供するオンラインセミナーシステム
 上で開催します。※同業他社・競合他社様、個人様の
 お申し込みはお断りする場合がございます。※Gmailな
 どのフリーメールアドレスはご参加登録いただけませ
 ん。\n■個人情報保護方針について当社は、ご入力い
 ただいた個人情報を、以下の目的でSHIFTグループ企業
 と共同で利用することがあります。・本セミナーの運
 営・お問合せへの対応・製品・サービス、セミナーに
 関するご案内個人情報の取り扱いについてはこちらを
 ご参照いただき、同意の上お申し込みください。株式
 会社SHIFTプライバシーポリシーはこちら\nハッシュタグ
 \n#techplayjp
LOCATION:オンライン
URL:https://techplay.jp/event/846489?utm_medium=referral&utm_source=ics&utm
 _campaign=ics
END:VEVENT
END:VCALENDAR
