BEGIN:VCALENDAR
VERSION:2.0
PRODID:-//https://techplay.jp//JP
CALSCALE:GREGORIAN
METHOD:PUBLISH
X-WR-CALDESC:【無料セミナー】新年度に向けて！貴社に最
 適なZoomプランとライセンス数とは？
X-WR-CALNAME:【無料セミナー】新年度に向けて！貴社に最
 適なZoomプランとライセンス数とは？
X-WR-TIMEZONE:Asia/Tokyo
BEGIN:VTIMEZONE
TZID:Asia/Tokyo
BEGIN:STANDARD
DTSTART:19700101T000000
TZOFFSETFROM:+0900
TZOFFSETTO:+0900
TZNAME:JST
END:STANDARD
END:VTIMEZONE
BEGIN:VEVENT
UID:846511@techplay.jp
SUMMARY:【無料セミナー】新年度に向けて！貴社に最適なZ
 oomプランとライセンス数とは？
DTSTART;TZID=Asia/Tokyo:20220216T130000
DTEND;TZID=Asia/Tokyo:20220216T140000
DTSTAMP:20260420T202730Z
CREATED:20220128T060206Z
DESCRIPTION:イベント詳細はこちら\nhttps://techplay.jp/event/84651
 1?utm_medium=referral&utm_source=ics&utm_campaign=ics\n\n新年度に向
 けて！貴社に最適なZoomプランとライセンス数とは？\n
 ～まとめてお得、管理者とユーザメリットとは～\n概
 要\n新型コロナウイルス感染症のパンデミックをきっ
 かけに、働き方が大きく変わりました。\n新年度、新
 しい社員の方を迎えるにあたって、どれくらいライセ
 ンスを増減したらいいか、また管理をどうしていった
 らいいか等悩まれる企業担当者様も多いのではないか
 と思います。\n本セミナーでは、改めてZoomのプランの
 違いについての復習と、効果的なライセンス管理：契
 約数の検討方法についてご紹介していきます。\nZoomを
 ご契約済みで、今後利用者の増加が想定される方や、
 ライセンス数・プランの見直しを考えている方におす
 すめです。\n\nこんな方におすすめです\n\nこれからZoom 
 有料版をお考えの方\n既にZoomをご契約済みで今後利用
 者の増加を考えている方\nライセンス数・プランの見
 直しを考えている方\n\nセミナーに来て得られること\n\
 nZoomプランの違い\nZoomの便利な○○機能とTV会議連携を
 把握しよう\nおまとめ契約のメリット\n年度末10％OFFキ
 ャンペーンのご案内\n\nタイムスケジュール\n\n\n\n時間\
 n内容\n\n\n\n\n13:00〜13:50\n1．ZoomのアカウントとIDの考え
 方2．自社のZoom利用状況の「今」の確認方法　・ID登録
 情報確認　・利用状況確認ーダッシュボードを使う（
 ビジネスプラン以上）　・無管理ユーザーを制限する3
 ．社内のZoomやWeb会議を一元管理するメリット\n\n\n13:50
 〜14:00\n質疑応答\n\n\n\n※ 当日予告なく時間配分・内容
 が変更になる可能性がございます。\n登壇者\n梅尾 美
 佳\n株式会社ブイキューブ営業本部 カスタマーサクセ
 スグループ サクセスプランニングチーム チームリー
 ダー\n入社後、西日本エリアで営業支援・カスタマー
 サクセス部門で既存ユーザー様とのやり取りを担当。
 その後、東日本エリアのカスタマーサクセスグループ
 で、企業様の運用支援を行う。現在は、サクセスプラ
 ンニングチームで顧客満足度向上に向けた企画・実行
 を担当するチームのリーダーを務める。\n\n髙木 優子\n
 株式会社ブイキューブ営業本部カスタマーサクセスグ
 ループサクセスプランニングチーム\n入社後15年以上に
 渡り、サービス業・製造業・IT業などさまざまな業界
 へのWeb会議・Webセミナーサービスの提案・販売・アッ
 プセルに携わる。現在は、その多様な顧客対応の経験
 を活かし、Zoomを新しく導入した企業の導入支援・運用
 定着支援（オンボーディング）のメイン担当を担って
 いる。\n\n※講師は、予告なく変更になる場合がござい
 ます。\n実施概要\n会場：オンラインセミナー（Zoom）
 参加費：無料日時：2022年2月16日（水）13:00～14:00（接
 続開始12:50）対象：総務部・情報システム部※競合他
 社様・個人事業主様につきましては、お断りさせてい
 ただくことがございますので、予めご了承ください。\
 n視聴環境チェックはこちら\n\n本セミナーに関するお
 問い合わせ先株式会社ブイキューブ　セミナー事務局
 ／及川・高畠TEL：03-4405-2688（受付時間 平日10:00〜17:00
 ）Mail：v-mail@vcube.co.jp
LOCATION:オンライン開催（Zoom）
URL:https://techplay.jp/event/846511?utm_medium=referral&utm_source=ics&utm
 _campaign=ics
END:VEVENT
END:VCALENDAR
