BEGIN:VCALENDAR
VERSION:2.0
PRODID:-//https://techplay.jp//JP
CALSCALE:GREGORIAN
METHOD:PUBLISH
X-WR-CALDESC:シニアプログラミングもくもく会＠愛知2月
X-WR-CALNAME:シニアプログラミングもくもく会＠愛知2月
X-WR-TIMEZONE:Asia/Tokyo
BEGIN:VTIMEZONE
TZID:Asia/Tokyo
BEGIN:STANDARD
DTSTART:19700101T000000
TZOFFSETFROM:+0900
TZOFFSETTO:+0900
TZNAME:JST
END:STANDARD
END:VTIMEZONE
BEGIN:VEVENT
UID:846655@techplay.jp
SUMMARY:シニアプログラミングもくもく会＠愛知2月
DTSTART;TZID=Asia/Tokyo:20220201T200000
DTEND;TZID=Asia/Tokyo:20220201T213000
DTSTAMP:20260423T081815Z
CREATED:20220130T012014Z
DESCRIPTION:イベント詳細はこちら\nhttps://techplay.jp/event/84665
 5?utm_medium=referral&utm_source=ics&utm_campaign=ics\n\nシニアプロ
 グラミングもくもく会@愛知【毎月第1火曜日】\n概要\n2
 018年7月29日、Code for Japan の小泉氏や、世界最高齢アプ
 リ開発者の若宮氏をお招きし、愛知県で「シニアプロ
 グラミングハッカソン」を開催しました。\nそれ以降
 、Code for AICHI では、シニアプログラミングもくもく会
 を第１火曜日に定期開催し、シニアのみなさんを中心
 に、実際に「アプリ」や「モノ」をつくりあげるため
 の作り込み会を継続しています。\n各自が自分自身で
 『つくりたいもの』に向けてもくもくと作り込んでい
 きます。ぜひ、お時間をつくっていただければ幸いで
 す。\n\nタイムスケジュール\n\n\n\n時間\n内容\n\n\n\n\n20:0
 0〜\n自由入室\n\n\n20:10〜\n自己紹介や作りたいこと共有
        \n\n\n20:30〜\n作り込み・もくもく会\n\n\n21:30\n終
 了（自由解散）\n\n\n\n※ 当日、場合によりまして時間
 ・内容が変更になる可能性がございます。※シニア以
 外の方も参加自由です。\n対象にしている方\n\nITやIoT
 に興味がある方\nプログラミングに挑戦してみたい方\n
 孫と一緒にプログラミングで語れるようになりたい方\
 n孫に自分がつくったプログラミングを自慢したい方\n2
 020年プログラミングが授業化されるにあたり、孫にプ
 ログラミングを教えたい方\n定年退職を迎え、新しい
 生き方や新しいことに挑戦したい方\n電子工作を楽し
 みたい方\n世界最高齢のアプリ開発者の称号を更新し
 たい方\nなにかつくりたい！って考えているシニアの
 方\n\n※シニア以外の方も参加可能です。※ リクルー
 ティング、勧誘など、採用目的でのイベント参加はお
 断りしております。※ 欠席される場合は、お手数です
 が速やかにキャンセル処理をお願い致します。\n日時
 ・主催\n\n日時：2022年2月1日(火) 20:00〜21:30\n\n場所：オ
 ンライン\nZoom\n\n**********************こちらから入室して
 ください 　※初めての方はCode for AICHIのスペースに事
 前参加してください。※登録できない等ありましたら
 ご連絡ください。\nZoomミーティングに参加するhttps://us
 06web.zoom.us/j/86782328501?pwd=YXlkc3p3S25CTThhalhhTitrcjM2dz09\nミー
 ティングID: 867 8232 8501パスコード: 859764\n*******************
 ***\n主催：Code for AICHI、シニアプログラミングネットワ
 ーク\n\n問い合わせ先： code4aichi@gmail.com\n\n参加費\n無料
 \nハッシュタグ\n#techplayjp#c4a#codeforaichi#seniorhackthon#senior#
 mokumoku
LOCATION:https://us06web.zoom.us/j/86782328501?pwd=YXlkc3p3S25CTThhalhhTitr
 cjM2dz09
URL:https://techplay.jp/event/846655?utm_medium=referral&utm_source=ics&utm
 _campaign=ics
END:VEVENT
END:VCALENDAR
