BEGIN:VCALENDAR
VERSION:2.0
PRODID:-//https://techplay.jp//JP
CALSCALE:GREGORIAN
METHOD:PUBLISH
X-WR-CALDESC:【LT10枠満員御礼！】おすすめの技術書 LT会 - v
 ol.3 #itbookslt
X-WR-CALNAME:【LT10枠満員御礼！】おすすめの技術書 LT会 - v
 ol.3 #itbookslt
X-WR-TIMEZONE:Asia/Tokyo
BEGIN:VTIMEZONE
TZID:Asia/Tokyo
BEGIN:STANDARD
DTSTART:19700101T000000
TZOFFSETFROM:+0900
TZOFFSETTO:+0900
TZNAME:JST
END:STANDARD
END:VTIMEZONE
BEGIN:VEVENT
UID:846747@techplay.jp
SUMMARY:【LT10枠満員御礼！】おすすめの技術書 LT会 - vol.3 
 #itbookslt
DTSTART;TZID=Asia/Tokyo:20220316T190000
DTEND;TZID=Asia/Tokyo:20220316T210000
DTSTAMP:20260424T020028Z
CREATED:20220131T030834Z
DESCRIPTION:イベント詳細はこちら\nhttps://techplay.jp/event/84674
 7?utm_medium=referral&utm_source=ics&utm_campaign=ics\n\nテーマは「
 おすすめの技術書」のLT(ライトニングトーク：1人3分
 ～5分程度 ※ご要望に応じて、発表時間の変更も可能
 です！)\nオススメポイント！\nエンジニア、デザイナ
 ーの登壇者の皆様から 「おすすめの技術書」 を共有
 いただきます。\n読むべき技術書、最新の技術書を知
 りたい方は、是非ご参加ください！\n今回のLT（ライト
 ニングトーク）は おすすめの技術書 をテーマに行い
 ます！\n技術書に関わることならなんでもOK！皆さんの
 おすすめの技術書についてお話を聞かせてください。
 （書籍名を申し込みアンケートで指定してください）\
 nLT初心者・未経験者も歓迎！LT発表希望の方は、LT発表
 枠より申込み登録をお願い致します！もちろん見学だ
 けでもOK！\n【テーマ例】\n\n影響や学びを与えてくれ
 た技術書の話\nこのIT技術書が好きで好きで仕方ない\n
 スキルアップにおすすめしたい書籍\n最新の技術書紹
 介\n仕事に生かすための技術本\n先輩エンジニアから聞
 いた信頼できる書籍\nエンジニアを目指す人の必読書\n
 出会えてよかった技術本\n今年発行したい技術同人誌\n
 \n【技術書例】\n\nリーダブルコード ―より良いコード
 を書くためのシンプルで実践的なテクニック (Theory in p
 ractice)\nマスタリングTCP/IP 入門編\nオブジェクト指向UI
 デザイン ――使いやすいソフトウェアの原理\nVue.js & N
 uxt.js 超入門\nReact.js & Next.js 超入門\nエリック・エヴァ
 ンスのドメイン駆動設計\nPythonではじめる機械学習 ―s
 cikit-learnで学ぶ特徴量エンジニアリングと機械学習の
 基礎\n【参考】弊社おすすめの技術書\n\n\n開発メンバ
 ーが選ぶ、おすすめの技術書【2020年度】\n\n\n【2021年
 】 技術書好きプロエンジニア達が紹介する40選\n\n\n\n\n
 などなど\n【過去発表テーマ例】\n\n\nおすすめの技術
 書 LT会\n\n『はじめてのPHP』基礎と実務の橋渡しの1冊
 ／はじめてのPHP\nプログラミングの視点を増やす／Goな
 らわかるシステムプログラミング\n開発効率化の第一
 歩「デザインパターン」／Java言語で学ぶデザインパタ
 ーン入門\nJavaScriptとの距離を縮めてくれた一冊！／開
 眼! JavaScript\nSQLで陥りがちなアンチパターンを知ろう
 ／SQLアンチパターン\n覚えることは3つだけ／ふつうのL
 inuxプログラミング 第2版\n\n\n\nおすすめの技術書 LT会 -
  vol.2\n\nVue.js3超入門がとにかくやさしい／Vue.js3超入門\
 n輪読会に「実践ドメイン駆動設計」から学ぶDDDの実装
 入門がとても良かった／「実践ドメイン駆動設計」か
 ら学ぶDDDの実装入門\n「インタフェースデザインの心
 理学」を読んで話したい３つのこと／インタフェース
 デザインの心理学\n並行や並列、非同期や同期、ブロ
 ッキングやノンブロッキングって一体何なんだぜ？／
 『Go言語による並行処理』『Linuxシステムプログラミン
 グ』『Python実践入門』\n\n\n\nなどなど\nゆるく、オープ
 ンなイベントですので、興味をもった方はどなたでも
 ご参加下さい！\n関連イベントの様子\n主催が同じなの
 で雰囲気の参考にしてください。\n\n\nエンジニアの勉
 強法ハックLT- vol.3 まとめ\n\n\nプロジェクトマネジメン
 ト Tips LT会 vol.1 まとめ\n\n\n自動化大好きエンジニアLT
 会- まとめ\n\n\n開催概要\n\n日時: 2022/3/16(水) 19:00-21:00\n\
 nZoomへの入室は10分前からとなります。\n途中参加・退
 室OKです。\n\n\n会場: オンライン（Zoom）\n\nConnpassのメ
 ッセージ機能で開催前にURLを通知いたします。\n\n\n参
 加費: 無料\n\n※イベント参加人数が少ない場合など、
 中止とする場合がございますのでご了承ください。\n
 募集枠\nおすすめの技術書 LT発表枠\nライトニングトー
 クを行っていただきます。\n申込時に仮でもいいので
 発表タイトルと希望の発表順をご回答ください。申込
 時に回答し忘れた方はConnpassイベントページのコメン
 トにてご連絡ください。\nなお、発表順序はご相談さ
 せていただく場合があります。\n\n#### 唯一無二のLTの
 はじめ方\n準備やネタの用意よりも先にまずは申し込
 みましょう。\nネタではなく申し込まないと永遠に発
 表する機会は訪れません。最初の一歩の「えいやっ」
 が大事。\n参考：ライトニングトーク準備の参考資料
 まとめ\n\n注意事項\n\n発表練習はありませんので、ご
 自身の発表時間前にはZoomへご入室をお願いします。\n
 事前の資料共有は不要です。当日に向けてご準備をお
 願いします！\n\n一般参加枠\n賑やかしをお願いします
 。アウトプットしてもいいんですよ。\n\nTwitterでの実
 況\nTogetterへのツイートまとめ\nQiitaやブログでのイベ
 ントレポート\nその他\n\nいずれかのどれかでもいいで
 すし、複数やっていただけると感謝で涙が流れます。\
 nおすすめの技術書 LTのレギュレーション\n\n発表時間 3
 分 or 5分\n\nお申込み時に発表時間を回答ください。\n
 ご要望に応じて、発表時間の変更も可能です。\n\n\n内
 容は「おすすめの技術書」\n\n\n1人1冊程度 書籍名を申
 し込みアンケートで指定してください。\n\n\n\n公序良
 俗に反する内容ではないこと\n\n発表人数にもよります
 が「質疑応答はチャット/Twitterにて」になるかもしれ
 ません。\n機器トラブルなどの場合は順序を入れ替え
 て対応いたします。落ち着いて対処していきましょう
 。\n発表テーマ\n\n\n\nNo.\n時間目安\n発表時間\n登壇者\n
 タイトル\n書籍名\n\n\n\n\n-\n\n-\n司会\nオープニング\n-\n\
 n\n1\n19:10\n5分\nrs_tukkiさん\n考え中\n考え中\n\n\n2\n\n3分\nn
 obuhiroyaneさん\nIT企業のものづくりの思想の内側を知る\
 nGoogleのソフトウェアエンジニアリング\n\n\n3\n\n5分\ntoji
 masanさん\n考え中\nWebAPIの設計\n\n\n4\n\n3分\nszskrさん\n機
 械語・サブルーチン・コルーチン・インタプリタ\nThe A
 rt of Computer Programming (volume 1)\n\n\n5\n\n5分\njoytomoさん\nた
 のしい技術ノンフィクション\n「カッコウはコンピュ
 ータに卵を生む」ほか\n\n\n6\n20:00\n3分\ndafujiiさん\nSoftwa
 re Design 定期購読のススメ\nSoftware Design\n\n\n7\n\n3分\ntckz
 さん\nプロダクトに関わるすべての人へ\nプロダクトマ
 ネジメントのすべて\n\n\n8\n\n5分\nNagayamaRyogaさん\n考え
 中\nコンピュータシステムの理論と実装 ―モダンなコ
 ンピュータの作り方\n\n\n9\n\n5分\nchibicoooさん\n考え中\nD
 esign It!\n\n\n10\n\n5分\nkght6123さん\nTailwindCSSの同人誌を作
 った話\nTailwind CSSまとめ（同人誌、自書）\n\n\n-\n\n-\n司
 会\nクロージング\n-\n\n\n\n登壇者情報 詳細\nNo1. rs_tukki
 さん／株式会社ラクス\n東海大学情報通信学部卒業後
 、2017年に現職へ新卒入社。\n自社サービス(楽楽精算)
 のバックエンド開発に2年携わった後、\n2019年からは主
 に同サービスのAndroidアプリの開発・運用を行っている
 。\n旅行と野球観戦が趣味…だったが、コロナ禍で徐
 々にインドア派に移行中。最近はYoutubeがズッ友。\nNo.4
   szskrさん\nszskr/Mayfield Systems\, プログラマ\nデバイスド
 ライバ・テスティングツールなどの開発。\n好きなプ
 ログラマは、Ken Thompson\, Dennis Ritchie\, James Gosling\, Bill Jo
 y\, Don Knuth.\nNo.5  joytomoさん／株式会社フクロウラボ\n工
 学修士。プログラマー。\nクリエイター向けアプリ開
 発事業「Ordinary」の開発に従事。\n個人では「エンジニ
 アのための人文読書会」呼びかけ人、「人からわかる3
 分技術史」運営など。\nNo.6 dafujiiさん／クラスメソッ
 ド株式会社CX事業本部MAD事業部\n現在はサーバーサイド
 エンジニアとしてAWSの上で動くシステムをTypeScriptで作
 ってます。\n肉食べたい。\n寿司食べたい。\nカレー食
 べたい。\nNo.7 tckzさん／アイレット株式会社\nアイレッ
 ト株式会社は、Amazon Web Services や Google Cloud Platform を利
 用する際の運用・保守の代行サービスなどを展開する
 「cloudpack」を提供しています。\nバックアップや24時間
 365日の監視、技術的な問い合わせに対するサポートま
 で、\nクラウドサービスを快適に使うお手伝いをして
 います。\n社会人7年目。某SIerでSEを経験した後、AWSに
 魅力を感じて、\nAWSプレミアパートナーのアイレット
 株式会社に2018年入社。\n動画配信チーム(streampack)のイ
 ンフラエンジニアとして、インフラ設計/構築/顧客折
 衝など担当。\n好きなAWSサービスはMediaServices。AWS認定
 資格 9冠取得。フルリモートワーク3年目。\nNo.10 kght6123
 さん／虎の穴ラボ株式会社\n虎の穴ラボ株式会社のと
 らのあな通販コスト削減チーム所属、システムエンジ
 ニア\n2020年12月虎の穴ラボに入社。三重県四日市市か
 らリモート勤務しています。\n入社前は10年ほどSlerと
 して四日市市内工場のシステム開発に携わっていまし
 た。\n虎の穴ラボでは、通販のコスト削減チームとし
 て、とらのあな通販のコスト削減に関わる開発を行っ
 ています。\nまた、個人で技術系の同人誌を頒布して
 います。\nイベント画像について\nPhoto by austindistelon Uns
 plash\n\n注意事項\n\n当イベントの内容およびスケジュー
 ルは、予告なく変更となる場合があります。予めご了
 承ください。\n他の参加者の方の妨げになるような行
 為は禁止、運営側の判断でご退出をお願いする場合が
 あります。\nブログやSNS等で当イベントに関する発信
 を行う際は、公序良俗に反する内容のないよう、ご協
 力をお願いします。\n当イベントはオンライン開催の
 ため、通信状況によって音声や映像の乱れがある場合
 がございます。\n配信トラブル時のアナウンスはTwitter
 より行います。\n当日のイベント風景を録画させてい
 ただいております。内容は後日レポート記事やSNS掲載
 又は、会員限定の動画配信される場合がありますので
 ご了承ください。\n\n\nエンジニア中途採用サイト\nラ
 クスでは、エンジニア・デザイナーの中途採用を積極
 的に行っております！ご興味ありましたら是非ご確認
 をお願いします。https://career-recruit.rakus.co.jp/career_enginee
 r/\nカジュアル面談\nどの職種に応募すれば良いかわか
 らないという方は、カジュアル面談も随時行っており
 ます。以下フォームよりお申込みください！https://rakus
 .hubspotpagebuilder.com/visit_engineer/
LOCATION:オンライン
URL:https://techplay.jp/event/846747?utm_medium=referral&utm_source=ics&utm
 _campaign=ics
END:VEVENT
END:VCALENDAR
