BEGIN:VCALENDAR
VERSION:2.0
PRODID:-//https://techplay.jp//JP
CALSCALE:GREGORIAN
METHOD:PUBLISH
X-WR-CALDESC:【無料セミナー】防災DXで意思決定のスピード
 と質を向上！ ～災害時のオペレーションを強化する情
 報共有システムの事例紹介～
X-WR-CALNAME:【無料セミナー】防災DXで意思決定のスピード
 と質を向上！ ～災害時のオペレーションを強化する情
 報共有システムの事例紹介～
X-WR-TIMEZONE:Asia/Tokyo
BEGIN:VTIMEZONE
TZID:Asia/Tokyo
BEGIN:STANDARD
DTSTART:19700101T000000
TZOFFSETFROM:+0900
TZOFFSETTO:+0900
TZNAME:JST
END:STANDARD
END:VTIMEZONE
BEGIN:VEVENT
UID:847126@techplay.jp
SUMMARY:【無料セミナー】防災DXで意思決定のスピードと
 質を向上！ ～災害時のオペレーションを強化する情報
 共有システムの事例紹介～
DTSTART;TZID=Asia/Tokyo:20220215T110000
DTEND;TZID=Asia/Tokyo:20220215T114500
DTSTAMP:20260420T125040Z
CREATED:20220202T052510Z
DESCRIPTION:イベント詳細はこちら\nhttps://techplay.jp/event/84712
 6?utm_medium=referral&utm_source=ics&utm_campaign=ics\n\n防災DXで意
 思決定のスピードと質を向上！～災害時のオペレーシ
 ョンを強化する情報共有システムの事例紹介～\n概要\n
 本セミナーでは、省庁・自治体・消防本部などに採用
 されている、V-CUBE Board（オペレーションテーブル）とV
 -CUBE コラボレーション（Web会議）を組み合わせた「緊
 急対策ソリューション」と、活用事例を徹底解説いた
 します。\n緊急時に錯綜するさまざまな情報をオペレ
 ーションテーブル上に集約・俯瞰させ、遠隔地とも迅
 速にに情報を共有することが可能となります。更に、
 地図上のアイコンからコミュニケーションが始められ
 る「コミュニケーションマップ」の開発も進めており
 そちらもご紹介します。この機会にぜひ、ご参加くだ
 さい。\nこんな課題をお持ちのお客様必見\n\n現場との
 情報共有にタイムラグが出る\n関わる機関が多いため
 、コミュニケーションがスムーズに取れず、情報の共
 有化を図ることが難しい\n対策本部内では無線・FAXを
 使用したり、メールを印刷・PCに集まって見るなどす
 るため、最新の情報がどれか分からなくなる時がある\
 n最新の緊急防災・減災に関する取り組みが知りたい\n
 地方自治体・企業での活用事例が知りたい\n\nセミナー
 に参加して得られる知識・メリット例\n\nPCやタブレッ
 ト・電子黒板・電子作戦ボードを活用した、リアルタ
 イムな災害情報連携の仕組みを知ることができる\n災
 害対策本部に必要な次世代型情報共有端末と、その活
 用方法を知ることができる\n緊急防災・減災事業債の
 概要や期間、どんなシステムで利用できるか把握でき
 る\n実際に導入した企業・団体の活用事例を知ること
 ができる\n\n\n実施概要\n会場：オンラインセミナー（
 アプリインストール不要でインターネットがあればど
 こからでも参加可能）参加費：無料日時：2022年2月15日
 （火）11:00～11:45（接続開始 10:50）対象：企業・地方自
 治体における防災、危機管理対策ご担当者様　　　ラ
 イフライン系企業の防災、危機管理対策ご担当者様※
 競合他社様・個人事業主様につきましては、お断りさ
 せていただくことがございますので、予めご了承くだ
 さい。\n動作環境はこちら https://jp.vcube.com/support/other-se
 rvice/qumu-requirements/\n\n本セミナーに関するお問い合わせ
 先株式会社ブイキューブ　セミナー事務局／及川・高
 畠TEL：03-4405-2688（受付時間 平日10:00〜17:00）Mail：v-mail@
 vcube.co.jp
LOCATION:オンライン開催（どこからでも参加可能）
URL:https://techplay.jp/event/847126?utm_medium=referral&utm_source=ics&utm
 _campaign=ics
END:VEVENT
END:VCALENDAR
