BEGIN:VCALENDAR
VERSION:2.0
PRODID:-//https://techplay.jp//JP
CALSCALE:GREGORIAN
METHOD:PUBLISH
X-WR-CALDESC:【Qlik ヘルスケア勉強会】DIYでDPCデータを活用
 ~様式1、EFファイルで作るセルフメイドダッシュボード
  第4回
X-WR-CALNAME:【Qlik ヘルスケア勉強会】DIYでDPCデータを活用
 ~様式1、EFファイルで作るセルフメイドダッシュボード
  第4回
X-WR-TIMEZONE:Asia/Tokyo
BEGIN:VTIMEZONE
TZID:Asia/Tokyo
BEGIN:STANDARD
DTSTART:19700101T000000
TZOFFSETFROM:+0900
TZOFFSETTO:+0900
TZNAME:JST
END:STANDARD
END:VTIMEZONE
BEGIN:VEVENT
UID:847304@techplay.jp
SUMMARY:【Qlik ヘルスケア勉強会】DIYでDPCデータを活用~様
 式1、EFファイルで作るセルフメイドダッシュボード 第
 4回
DTSTART;TZID=Asia/Tokyo:20220216T180000
DTEND;TZID=Asia/Tokyo:20220216T190000
DTSTAMP:20260422T153311Z
CREATED:20220203T083935Z
DESCRIPTION:イベント詳細はこちら\nhttps://techplay.jp/event/84730
 4?utm_medium=referral&utm_source=ics&utm_campaign=ics\n\n【Qlik ヘル
 スケア勉強会】DIYでDPCデータを活用~様式1、EFファイル
 で作るセルフメイドダッシュボード 第4回\n概要\n★18
 時開始となっています。ご注意ください。\n第11回目の
 ヘルスケア勉強会では、前回に引き続いて、DPCデータ
 分析の練習問題に取り組みます。基礎編の残り３つの
 問題に加え、応用編に取り組みながら、Qlik Senseの使い
 方も学んでいきましょう。\n基礎編：特定の傷病の発
 生率や入院死亡率の集計、診療科別症例に関する各種
 集計　応用編：在院日数の短縮、診療科別手術TOP3、後
 発品の使用促進など\n前回と同様に、一つずつ問題の
 内容を確認し、どのようなチャートを作成すると知見
 が得やすいかを考え、Qlik Senseでのチャート作成に取り
 組みます。Qlik Senseの操作を含め、丁寧に解説をしな
 がら進めていく予定です。また、データモデルは分析
 の内容に合わせ、マスタを追加したりと進化させてい
 きますが、こちらは資料提供と簡単な解説にとどめ、
 チャート作成のほうに時間をかける予定です。\n自院
 のデータを利用してみたいという方にはQlik Sense Desktop
 をお貸出ししますのでご連絡ください。一度アプリを
 作っておくと、毎月生成されるデータの取り込みはボ
 タンを一回押すだけになるので、分析に集中できます
 ね。\n出来合いの分析では物足りない、あんなこと、
 こんなこといろいろとアイデアを出し合って試してみ
 ましょう！事前にQlik Japan Healthcare Communityにこれまで
 作成したアプリも公開しますので、途中からのご参加
 も大歓迎です！！テーマに沿った質問をにあげていた
 だくと、セミナーの中でご説明させていただく場合も
 あります。\nこれまでの勉強会はこちらからご覧いた
 だけます。Qlik ヘルスケア勉強会\nアジェンダ：\n1.Qlik 
 Senseの概要2.前回の復習3.練習問題（基礎編５～７）4.
 練習問題（応用編１～）5.Q&A6.次回取り上げるテーマ\n
 ファシリテーター\n\n村田　太郎\nクリックテック・ジ
 ャパン株式会社営業本部 Japan Sales Team Lead\nQlikに入社し
 て5年、公共・ヘルスケア分野を中心に営業活動を実施
 。Communityサイトに、Qlik Healthcare Japanグループを立ち上
 げ、業界に役立つ情報を発信しています。自分でQlikア
 プリも作成してしまうクールな知性派。Awesome City Club
 をこよなく愛するもんじゃの街の住人。\n参加対象\n医
 療関係者でデータ活用にご興味がある方、またQlik を
 ご利用いただいている方、どなたでもご参加いただけ
 ます。お気軽にご参加ください。事前に下記よりQlik Se
 nse 入門ハンズオンWebセミナーをご利用いただいてご体
 験頂くと、さらに当セミナーの内容をご活用いただけ
 ます。Qlik Sense Business 入門 ハンズオン Web セミナー\n事
 前準備\nZoom（Web会議ツール）を使用します。あらかじ
 めご利用のPCやタブレット、スマートフォンにインス
 トールをお願いします。当セミナーのURLはお申込みい
 ただいた方に、セミナー開催日前日までにお知らせい
 たします。お申し込み後は当ページからもご参加いた
 だけます。\n参加費\n無料
LOCATION:オンライン
URL:https://techplay.jp/event/847304?utm_medium=referral&utm_source=ics&utm
 _campaign=ics
END:VEVENT
END:VCALENDAR
