BEGIN:VCALENDAR
VERSION:2.0
PRODID:-//https://techplay.jp//JP
CALSCALE:GREGORIAN
METHOD:PUBLISH
X-WR-CALDESC:【3/23(水)オンライン開催】 アクセンチュア関
 西 主催！デジタルツイン・エンタープライズによる製
 造業改革
X-WR-CALNAME:【3/23(水)オンライン開催】 アクセンチュア関
 西 主催！デジタルツイン・エンタープライズによる製
 造業改革
X-WR-TIMEZONE:Asia/Tokyo
BEGIN:VTIMEZONE
TZID:Asia/Tokyo
BEGIN:STANDARD
DTSTART:19700101T000000
TZOFFSETFROM:+0900
TZOFFSETTO:+0900
TZNAME:JST
END:STANDARD
END:VTIMEZONE
BEGIN:VEVENT
UID:847398@techplay.jp
SUMMARY:【3/23(水)オンライン開催】 アクセンチュア関西 
 主催！デジタルツイン・エンタープライズによる製造
 業改革
DTSTART;TZID=Asia/Tokyo:20220323T190000
DTEND;TZID=Asia/Tokyo:20220323T203000
DTSTAMP:20260420T110727Z
CREATED:20220204T060717Z
DESCRIPTION:イベント詳細はこちら\nhttps://techplay.jp/event/84739
 8?utm_medium=referral&utm_source=ics&utm_campaign=ics\n\n概要\nアク
 センチュア関西オフィス 主催\n顧客やパートナーも含
 む企業活動全体をデジタル化、特に位置づけの難しい
 設計開発・生産領域のエンジニアリング・チェーン改
 革を通じ、真の製造業改革を成し遂げ、価値向上を実
 現する方策について解説します。テーマにご興味ある
 方はもちろん、アクセンチュアについてご興味ある方
 々もお気軽にご参加下さい。\nタイムスケジュール\n\n\
 n\n時間\n内容\n\n\n\n\n19:00～20:00\nデジタルツイン・エン
 タープライズによる製造業改革\n\n\n20:00〜20:30\n質疑応
 答\n\n\n\n※ 当日予告なく時間配分・内容が変更になる
 可能性がございます。\n参加対象\n・コンサルティング
 ／ITサービス業界に興味のある方・何らかのIT経験をお
 持ちの方\n参加費\n無料\n参加方法\nこちらのオンライ
 ン勉強会は 「Microsoft Teams」 を使用して実施致します
 。\nイベントページ（オンライン配信情報）に参加URL
 を記載しておりますのでご確認をお願いいたします。\
 n※参加用URLは申込頂いた方に、本ページ上にて表示さ
 れます。\n注意事項\n\n欠席される場合は、お手数です
 が速やかにキャンセル処理をお願い致します。\n無断
 キャンセルや欠席が続く場合、次回以降の参加をお断
 りさせていただく場合がございます。\n
LOCATION:Microsoft Teams 会議
URL:https://techplay.jp/event/847398?utm_medium=referral&utm_source=ics&utm
 _campaign=ics
END:VEVENT
END:VCALENDAR
