BEGIN:VCALENDAR
VERSION:2.0
PRODID:-//https://techplay.jp//JP
CALSCALE:GREGORIAN
METHOD:PUBLISH
X-WR-CALDESC:【3/9(水)オンライン開催】 アクセンチュア関
 西 主催！デジタルマーケティングの最新トレンド・事
 例紹介
X-WR-CALNAME:【3/9(水)オンライン開催】 アクセンチュア関
 西 主催！デジタルマーケティングの最新トレンド・事
 例紹介
X-WR-TIMEZONE:Asia/Tokyo
BEGIN:VTIMEZONE
TZID:Asia/Tokyo
BEGIN:STANDARD
DTSTART:19700101T000000
TZOFFSETFROM:+0900
TZOFFSETTO:+0900
TZNAME:JST
END:STANDARD
END:VTIMEZONE
BEGIN:VEVENT
UID:847822@techplay.jp
SUMMARY:【3/9(水)オンライン開催】 アクセンチュア関西 主
 催！デジタルマーケティングの最新トレンド・事例紹
 介
DTSTART;TZID=Asia/Tokyo:20220309T190000
DTEND;TZID=Asia/Tokyo:20220309T203000
DTSTAMP:20260419T231118Z
CREATED:20220208T054932Z
DESCRIPTION:イベント詳細はこちら\nhttps://techplay.jp/event/84782
 2?utm_medium=referral&utm_source=ics&utm_campaign=ics\n\n概要\nアク
 センチュア関西オフィス 主催\n・ デジタルマーケティ
 ングのトレンド（最新の課題感やニーズ）・ ポータル
 サイトを活用したデジタルマーケティング・ 製造業へ
 のBtoBポータルサイトの導入事例（ある製造業への導入
 ソリューション、導入効果の紹介）\nテーマにご興味
 ある方はもちろん、アクセンチュアについてご興味あ
 る方々もお気軽にご参加下さい。\nタイムスケジュー
 ル\n\n\n\n時間\n内容\n\n\n\n\n19:00～20:00\nデジタルツイン
 ・エンタープライズによる製造業改革\n\n\n20:00〜20:30\n
 質疑応答\n\n\n\n※ 当日予告なく時間配分・内容が変更
 になる可能性がございます。\n参加対象\n・コンサルテ
 ィング／ITサービス業界に興味のある方・何らかのIT経
 験をお持ちの方\n参加費\n無料\n参加方法\nこちらのオ
 ンライン勉強会は 「Microsoft Teams」 を使用して実施致
 します。\nイベントページ（オンライン配信情報）に
 参加URLを記載しておりますのでご確認をお願いいたし
 ます。\n※参加用URLは申込頂いた方に、本ページ上に
 て表示されます。\n注意事項\n\n欠席される場合は、お
 手数ですが速やかにキャンセル処理をお願い致します
 。\n無断キャンセルや欠席が続く場合、次回以降の参
 加をお断りさせていただく場合がございます。\n
LOCATION:Microsoft Teams 会議
URL:https://techplay.jp/event/847822?utm_medium=referral&utm_source=ics&utm
 _campaign=ics
END:VEVENT
END:VCALENDAR
