BEGIN:VCALENDAR
VERSION:2.0
PRODID:-//https://techplay.jp//JP
CALSCALE:GREGORIAN
METHOD:PUBLISH
X-WR-CALDESC:初心者向けホームページ作成講座
X-WR-CALNAME:初心者向けホームページ作成講座
X-WR-TIMEZONE:Asia/Tokyo
BEGIN:VTIMEZONE
TZID:Asia/Tokyo
BEGIN:STANDARD
DTSTART:19700101T000000
TZOFFSETFROM:+0900
TZOFFSETTO:+0900
TZNAME:JST
END:STANDARD
END:VTIMEZONE
BEGIN:VEVENT
UID:848522@techplay.jp
SUMMARY:初心者向けホームページ作成講座
DTSTART;TZID=Asia/Tokyo:20220217T153000
DTEND;TZID=Asia/Tokyo:20220217T163000
DTSTAMP:20260422T235349Z
CREATED:20220214T060023Z
DESCRIPTION:イベント詳細はこちら\nhttps://techplay.jp/event/84852
 2?utm_medium=referral&utm_source=ics&utm_campaign=ics\n\nKDDIグループ
 のレンタルサーバーCPIが、みなさんのお役に立つ情報
 を幅広くウェビナー形式で発信していきます。参加費
 は無料。\n\nこれから始めたい人のための「初心者向け
 ホームページ作成講座」\n\nCPIとコミュニティコムが共
 同で開催する「これからホームページを作りたい人」
 のための初心者向けホームページ作成講座です。この
 講座に参加することでホームページ作成に必要な基礎
 知識を短時間で身に着けることができるだけでなく、
 すぐにホームページ運用ができるツールもご紹介しま
 す。\nまた、わからない部分はその場（webinar内）で講
 師に直接質問できる時間を設けています。\n\nネットで
 調べても情報が多すぎて何から手を付けて良いかわか
 らない。相談できる制作会社の知人がいない。\n登記
 後、名刺に記載する独自ドメインとホームページが欲
 しい。過去に自身で挑戦したが結局うまく行かなかっ
 た。という方におすすめします。ぜひお気軽にご参加
 ください。\n\n▼特におすすめの方\n・これからホーム
 ページを作りたい、運用したい人\n・周りに気軽に相
 談できる専門家がいない人\n・将来独立のために準備
 しておきたい人\n・過去自分で挑戦したがうまくいか
 なかった人\n\n▼初心者向けホームページ作成講座（25
 分程度）\n - 情報発信を始めるまえに考えておきたい
 こと\n - 掲載情報を考えるときに押さえておきたいポ
 イント\n - ホームページを開設する方法\n\n講師プロフ
 ィール（敬称略）\n\n\n\n\n星野 邦敏（ほしの くにとし
 ）\n株式会社コミュニティコ\nム  代表取締役\n\n\nWordPre
 ss  テーマやプラグインを開発している株式会社コミュ
 ニティコム代表取締役。\n大宮経済新聞を始めとするWe
 bメディアも自社で運営。\nコワーキングスペース・貸
 し会議室・シェアオフィス等の経営も手がける。 \n\n\n
 \n\n\n清水 久美子（しみず くみこ）\n株式会社コミュニ
 ティコ\nム  デザイナー・マークアップエンジニア\n\n\n
 株式会社コミュニティコムのデザイナー・マークアッ
 プエンジニア。\nWordPress テーマ by Communitycom の企画・
 開発に従事。静岡県在住でフルリモート勤務中。 \n\n\n
 \n\nタイムテーブル（予定）\n\n\n\n時間\nタイトル\n登壇
 者（敬称略）\n\n\n\n15:30\nごあいさつ zoom受講に関する
 ご案内\nCPI\n\n\n15:35\n初心者向けホームページ作成講座\
 nコミュニティコム\n\n\n16:00\n簡単！ホームページスタ
 ートプランご紹介\nCPI\n\n\n16:05\n質疑応答\nCPI / コミュ
 ニティコム\n\n\n16:30\n終了予定\n\n\n\n\n本ウェビナーはzo
 om webinarの機能を使って開催します\n本ドアキーパーに
 て事前登録が必要です。開催当日になりましたら参加U
 RLに接続してください。\nホスト以外（参加者のみなさ
 ま）は自動的にマイク/カメラオフでの接続となります
 。\nぜひお気軽にご参加ください。\n\n※はじめてzoomを
 使われる方へ\nウェビナー参加時にインストールして
 いただくか、当日参加予定の端末にあらかじめインス
 トールしておくとよりスムーズにご参加いただけます
 。Zoom公式ダウンロードページ から対象のものをイン
 ストールしておいてください。 \n\n※はじめてウェビ
 ナーを受講される方へ\n・60分程度の接続で数百MBのデ
 ータ通信が必要です。通信制限の上限等にご注意くだ
 さい。\n・スマホ/タブレットからの受講も可能ですが
 、スライドの画面共有を行いますのでPCでの受講をお
 すすめします。\n・内蔵スピーカーでは聞き取りづら
 い場合があります。イヤホン・ヘッドホンでの受講が
 おすすめです。\n・回線状況によっては途切れる場合
 があります。頻発する場合は一度退出/再起動するなど
 して再度接続してみてください。
LOCATION:オンライン
URL:https://techplay.jp/event/848522?utm_medium=referral&utm_source=ics&utm
 _campaign=ics
END:VEVENT
END:VCALENDAR
