BEGIN:VCALENDAR
VERSION:2.0
PRODID:-//https://techplay.jp//JP
CALSCALE:GREGORIAN
METHOD:PUBLISH
X-WR-CALDESC:≪オンライン配信≫2022年度 DXコンサル初級セ
 ミナー【全6回/単発受講も可】
X-WR-CALNAME:≪オンライン配信≫2022年度 DXコンサル初級セ
 ミナー【全6回/単発受講も可】
X-WR-TIMEZONE:Asia/Tokyo
BEGIN:VTIMEZONE
TZID:Asia/Tokyo
BEGIN:STANDARD
DTSTART:19700101T000000
TZOFFSETFROM:+0900
TZOFFSETTO:+0900
TZNAME:JST
END:STANDARD
END:VTIMEZONE
BEGIN:VEVENT
UID:848645@techplay.jp
SUMMARY:≪オンライン配信≫2022年度 DXコンサル初級セミナ
 ー【全6回/単発受講も可】
DTSTART;TZID=Asia/Tokyo:20220412T193000
DTEND;TZID=Asia/Tokyo:20220412T213000
DTSTAMP:20260420T105749Z
CREATED:20220215T011720Z
DESCRIPTION:イベント詳細はこちら\nhttps://techplay.jp/event/84864
 5?utm_medium=referral&utm_source=ics&utm_campaign=ics\n\n一般社団法
 人グローバル･ベンチャー協会(略称ＧＶＡ)ならびに
 ＩＴサービス企業の株式会社うえじま企画は、「ＩＴ
 を活用して社会に貢献する」という経営理念のもと共
 催で、DXコンサル初級セミナーを開催致しております
 。\nDX（デジタル化）とは\nデジタル・トランスフォー
 メーションの略号であり、ＩｏＴ（モノのインターネ
 ット）、ＡＩ（人工知能）、５Ｇ（超高速モバイル通
 信）の一部、あるいは全てをあらゆる現場に導入・活
 用し、デジタル化することによって課題を解決し、ビ
 ジネスを変革すること。\nＤＸコンサル初級セミナー
 講演テーマとスケジュール\n《目標》データとAIの本質
 を理解し、正しいDXコンサル力を身につける\n【第1回
 】4月12日（火）DXビジネス変革に不可欠なサイバー空
 間のビッグデータとAI【第2回】6月14日（火）DXを阻む
 ビッグデータの次元の呪い、対策とディープラーニン
 グ【第3回】8月9日（火）DX推進の主役となるCNN、画像
 データの特徴量抽出と次元削減【第4回】10月11日（火
 ）DXのディープラーニング活用が失敗する学習問題の
 回避方法【第5回】12月13日（火）画像認識、物体検出
 、セグメンテーションを活用するDX事例【第6回】2023年
 2月14日（火）画像生成、データ生成、自然言語処理を
 活用するDX事例＊時間はすべて１９：３０～２１：３
 ０\n講師：研究部会長 兼 アドバイザー　竹井俊文　竹
 井俊文\n\n徳島大学工学部、同大学院にてニューラルネ
 ットワークを研究。工学修士。一般社団法人グローバ
 ル・ベンチャー協会(GVA)理事、同DX(デジタル変革)部会
 長。NEC 日本電気にて電話網・企業ネットワークのSEと
 講師。IP電話普及推進センタ (IPTPC)エバンジェリストを
 経て、現在、モバイルコンピューティング推進コンソ
 ーシアム(MCPC)上席顧問。国士舘大学非常勤講師。シニ
 アモバイルシステムコンサルタント。情報処理学会、
 電波産業会等の団体、大学、企業の講演活動。新聞、
 雑誌、書籍等の執筆活動。電波新聞連載「5Gがくる」
 （電波新聞社）。The ROBOT 2020 機械設計「数学、プログ
 ラミングを使わずにディープラーニングを実務で使う
 方法」、型技術連載「ニューノーマル時代のDXを考え
 る」（以上日刊工業新聞社）。「ゼロから学ぶDX」「
 数学とPythonなしでわかるディープラーニング」「ビジ
 ネスパースンのための5G入門」（以上コガク社）。 情
 報誌 「テレコミュニケーション」「IP電話標準テキス
 ト」「モバイル基礎テキスト」 「モバイルシステム技
 術テキスト」「モバイルシステム技術テキスト エキス
 パート編」 （以上リックテレコム社）\n参加対象\n・DX
 (デジタル化)人財を育成したい経営者・管理職の方・DX
 (デジタル化)で、自社の業績向上を目指している経営
 者・管理職の方・オープンイノベーションで事業を展
 開したい経営者・管理職の方・経営企画部門および人
 事部門の責任者の方・IT企業ならびにベンチャー経営
 者の方、またはこれから起業を目指す方・IT企業なら
 びにベンチャーや起業に興味のある学生や個人事業主
 の方・グローバルで活躍するDX(デジタル化)人財を目指
 す、ＩＴエンジニアの方・大学教授および大学関係者
 でデジタル人財育成を予定している方\n受講費\n【全6
 回まとめて申込】\n■GVA会員　￥２５，０００（税別
 ）\n■一般　　 ￥５０，０００（税別）\n\n【単発受講
 】\n■GVA会員　￥５，０００（税別）\n■一般　　 ￥
 １０，０００（税別）\n\nお申込み方法\n①「イベント
 に参加する」ボタンを押してください。\n②お申込を
 確認後、お振込みのご案内を致します。\n定員\n１０～
 ２５名様（先着順）\n※参加希望者が１０名様以上集
 まらない場合はイベントの開催を見送らせて頂きます
 ので、ご了承ください。\n(他サイトでも募集しており
 ます。本サイトが１０名様に満たない場合でも、実施
 致します)\n※人数の都合でイベントが中止になる場合
 は、前日１８：００までにご連絡致します。\n※緊急
 連絡先※\n当日キャンセル・遅刻などは下記までご連
 絡をお願い致します。うえじま企画(tel 03-5692-5030)　担
 当：田中※事前のご連絡なく遅れた際、イベントに参
 加できない場合も御座います。\n主催者\n一般社団法人
 グローバル･ベンチャー協会株式会社うえじま企画　I
 Tビジネス大学　代表者略歴\n■相互協力団体アドバン
 スト・ビジネス創造協会（ABC協会）一般社団法人情報
 処理学会(ＩＰＳ)モバイルコンピューティグ推進コン
 ソーシアム(MCPC)一般社団法人日本ＰＭＩ支部伊豆に創
 癒の隠れ郷 水生の庄 公式HP・楽天トラベル・じゃらん
 伊豆の漁師バル おためし屋 公式HP・Facebook・Twitter\n注
 意事項\n※イベント当日の様子は後日なんらかの媒体
 に掲載させていただく場合がございます。\n※ 無断キ
 ャンセル・欠席が続く場合、次回以降の参加をお断り
 させていただく場合がございます。何卒ご理解とご協
 力をお願い致します。\nハッシュタグ\n#一般社団法人
 グローバルベンチャー協会 #うえじま企画 #ＩＴプロフ
 ェッショナル倶楽部 #水生の庄 #伊豆 #稲取 #スタート
 アップ #ITビジネス大学 #ITエンジニア #ITコンサルタン
 ト #先端IT人材 #AI #IoT #ブロックチェーン #クラウド #VR 
 #AR #量子コンピューター #ローカル５Ｇ #セキュリティ 
 #Fintech #デジタルマーケティング #グローバル人材育成 
 #シリコンバレー #起業 #スタートアップ #ワンステップ
 アップ #AI #IoT #量子コンピューター #ディープラーニン
 グ #研究 #フォーラム #研究部会 #勉強会 #デジタル化 #
 ビッグデータ #クラウド #エッジ #DX
LOCATION:オンライン
URL:https://techplay.jp/event/848645?utm_medium=referral&utm_source=ics&utm
 _campaign=ics
END:VEVENT
END:VCALENDAR
