BEGIN:VCALENDAR
VERSION:2.0
PRODID:-//https://techplay.jp//JP
CALSCALE:GREGORIAN
METHOD:PUBLISH
X-WR-CALDESC:APIテストがこんなに簡単に？最先端のAPIテス
 ト手法を学ぼう
X-WR-CALNAME:APIテストがこんなに簡単に？最先端のAPIテス
 ト手法を学ぼう
X-WR-TIMEZONE:Asia/Tokyo
BEGIN:VTIMEZONE
TZID:Asia/Tokyo
BEGIN:STANDARD
DTSTART:19700101T000000
TZOFFSETFROM:+0900
TZOFFSETTO:+0900
TZNAME:JST
END:STANDARD
END:VTIMEZONE
BEGIN:VEVENT
UID:848895@techplay.jp
SUMMARY:APIテストがこんなに簡単に？最先端のAPIテスト手
 法を学ぼう
DTSTART;TZID=Asia/Tokyo:20220303T160000
DTEND;TZID=Asia/Tokyo:20220303T170000
DTSTAMP:20260420T105707Z
CREATED:20220217T054004Z
DESCRIPTION:イベント詳細はこちら\nhttps://techplay.jp/event/84889
 5?utm_medium=referral&utm_source=ics&utm_campaign=ics\n\nこのような
 方におすすめです\n・APIの開発やテストに携わってい
 る方・APIの細かい仕様がわからなくても簡単にテスト
 シナリオを作成する方法にご興味ある方・膨大な数の
 回帰テストを実行しているために、フィードバックに
 時間が掛かっていると感じる方・いままで以上にテス
 トを効率化したいとお考えの方・これからAPIの開発や
 テストに携わる方\n概要\n近年ではAPI連携を必須とした
 システム開発が主流になっており、今後もより一層、A
 PIの開発が加速すると考えられています。そのような
 状況で、日ごろからAPIのテストにも取り組まれている
 かと思いますが、このセミナーでは、今後の開発にお
 けるAPIテストをより一層効率化するために最先端のAPI
 テスト手法を２つご紹介します。\n■AI機能でテストド
 ライバーを自動生成APIテストの実施を効率化したいと
 考えているにもかかわらず、テスト資産の作成自体に
 多くの工数が掛かってしまう例も多くあります。そこ
 で、APIの細かい仕様がわからなくても簡単にテストシ
 ナリオを作成する方法として、AIの力を活用してテス
 トシナリオを自動生成させる方法をご紹介します。こ
 の方法では、ブラウザからアプリケーションを操作す
 るだけでテスト資産が生成されますので、テスト資産
 の作成に掛かる工数を大幅に削減することができます
 。\n■テスト影響分析機能で実行すべきテストのみを
 リストアップ今後APIの開発が加速する上で、APIの回帰
 テストをCI/CDパイプラインで継続的に実施し、素早く
 フィードバックを得るアジャイル型の開発が主流にな
 ると考えられます。この回帰テストでは、毎回すべて
 のテストシナリオを実行するのが一般的ですが、テス
 トシナリオが膨大に存在する場合は、テストの実行に
 時間がかかりますので、それだけフィードバックを得
 るまでに時間を要してしまいます。そこで、アプリケ
 ーションのコード変更によるAPIテストへの影響を分析
 し、実行すべき回帰テストを自動でリストアップする
 方法をご紹介します。この方法では、優先的に実施す
 べき回帰テストにフォーカスすることができますので
 、膨大なテストシナリオが存在する場合でも、素早く
 フィードバックを得ることができます。\nこれらの２
 つのテスト手法は、APIテスト自動化ツール「SOAtest」に
 備わった機能で行うことができますので、当日はこの
 テストツールのデモンストレーションも交えて詳しく
 ご紹介します。\n最先端のAPIテスト手法にご興味のあ
 る方はぜひご参加ください。\n本セミナーは、Zoomを利
 用したWEBセミナーです。お申込みいただきますと「参
 加者への情報」にURLなどが表示されます。\nアジェン
 ダ\n\n\n\n時間\n内容\n\n\n\n\n16:00〜16:05\n本セミナーの概
 要紹介\n\n\n16:05〜16:30\nAI機能でテストドライバーを自
 動生成\n\n\n16:30〜16:55\nテスト影響分析機能で実行すべ
 きテストのみをリストアップ\n\n\n16:55〜17:00\n質疑応答\
 n\n\n\nお問合せ先\nご不明な点がございましたら、次の
 メールアドレスにご連絡ください。\nparasoft-info@techmatri
 x.co.jp
LOCATION:オンライン
URL:https://techplay.jp/event/848895?utm_medium=referral&utm_source=ics&utm
 _campaign=ics
END:VEVENT
END:VCALENDAR
