BEGIN:VCALENDAR
VERSION:2.0
PRODID:-//https://techplay.jp//JP
CALSCALE:GREGORIAN
METHOD:PUBLISH
X-WR-CALDESC:自分でできる！ SEO対策入門編～自社サイトのS
 EO対策を自分でやってみたい方必見～
X-WR-CALNAME:自分でできる！ SEO対策入門編～自社サイトのS
 EO対策を自分でやってみたい方必見～
X-WR-TIMEZONE:Asia/Tokyo
BEGIN:VTIMEZONE
TZID:Asia/Tokyo
BEGIN:STANDARD
DTSTART:19700101T000000
TZOFFSETFROM:+0900
TZOFFSETTO:+0900
TZNAME:JST
END:STANDARD
END:VTIMEZONE
BEGIN:VEVENT
UID:850109@techplay.jp
SUMMARY:自分でできる！ SEO対策入門編～自社サイトのSEO対
 策を自分でやってみたい方必見～
DTSTART;TZID=Asia/Tokyo:20220311T110000
DTEND;TZID=Asia/Tokyo:20220311T120000
DTSTAMP:20260421T050216Z
CREATED:20220228T020953Z
DESCRIPTION:イベント詳細はこちら\nhttps://techplay.jp/event/85010
 9?utm_medium=referral&utm_source=ics&utm_campaign=ics\n\n自分ででき
 る！ SEO対策入門編\n～自社サイトのSEO対策を自分でや
 ってみたい方必見～\n概要\nまずは、自分でできるSEO対
 策から始めてみませんか？！\nオンラインでの情報収
 集が当たり前になった昨今、WEBサイトの重要性はます
 ます増しています。自社のWEBサイトご担当者様の中に
 は、「アクセス数を増やしたい」「検索の際に上位に
 表示させたい」などの課題やお悩みの方も多いと思い
 ます。その課題を解決するための一つとして「SEO対策
 」がありますが、なんだか難しそうと感じる方もいら
 っしゃるかもしれません。本セミナーでは、WEBサイト
 のご担当者様、マーケ/広報のご担当者向けに、自社で
 対応できるSEO対策について、ご紹介します。ぜひご参
 加ください。\nタイムスケジュール\n\n\n\n時間\n内容\n\n
 \n\n\n10:50〜\n接続開始\n\n\n11:00〜11:50\n自分でできる！ SE
 O対策入門編～自社サイトのSEO対策を自分でやってみた
 い方必見～株式会社インフォネット Marketing Strategy Secti
 on 藤江 信之\n\n\n11:50〜12:00\n質疑応答\n\n\n\n※ 当日予告
 なく時間配分・内容が変更になる可能性がございます
 。\nこんな方におすすめ\n\nSEOについて基本的なことを
 学びたい方\n自社でできるSEO対策について知りたい方\n
 SEO対策について、再度学びたい方\nサイト改善をした
 いが、何から始めればいいかわからない方\n\n参加費\n
 無料\n注意事項\n\nリクルーティング、勧誘など、採用
 目的でのイベント参加はお断りしております。\n欠席
 される場合は、お手数ですが速やかにキャンセル処理
 をお願い致します。\n無断キャンセルや欠席が続く場
 合、次回以降の参加をお断りさせていただく場合がご
 ざいます。\n
LOCATION:オンライン
URL:https://techplay.jp/event/850109?utm_medium=referral&utm_source=ics&utm
 _campaign=ics
END:VEVENT
END:VCALENDAR
