BEGIN:VCALENDAR
VERSION:2.0
PRODID:-//https://techplay.jp//JP
CALSCALE:GREGORIAN
METHOD:PUBLISH
X-WR-CALDESC:【Webセミナー】社内のコミュニケーション活
 性化!OSSのチャットシステム「Rocket.Chat」ご紹介セミナ
 ー
X-WR-CALNAME:【Webセミナー】社内のコミュニケーション活
 性化!OSSのチャットシステム「Rocket.Chat」ご紹介セミナ
 ー
X-WR-TIMEZONE:Asia/Tokyo
BEGIN:VTIMEZONE
TZID:Asia/Tokyo
BEGIN:STANDARD
DTSTART:19700101T000000
TZOFFSETFROM:+0900
TZOFFSETTO:+0900
TZNAME:JST
END:STANDARD
END:VTIMEZONE
BEGIN:VEVENT
UID:850125@techplay.jp
SUMMARY:【Webセミナー】社内のコミュニケーション活性化!
 OSSのチャットシステム「Rocket.Chat」ご紹介セミナー
DTSTART;TZID=Asia/Tokyo:20220325T150000
DTEND;TZID=Asia/Tokyo:20220325T160000
DTSTAMP:20260422T225918Z
CREATED:20220228T053929Z
DESCRIPTION:イベント詳細はこちら\nhttps://techplay.jp/event/85012
 5?utm_medium=referral&utm_source=ics&utm_campaign=ics\n\n働き方改革
 や生産性向上のため、ビジネスチャットツールを導入
 する企業が増えてきています。たくさんのビジネスチ
 ャットツールがあるなかで、どれを選択すればいいの
 かわからないという方も多いのではないでしょうか。
 インターネット上のサービスや製品では、ユーザ数に
 よって利用料金が決まることが多いため、参加人数を
 が限られてしまう…セキュリティ上、オンプレミスや
 専用クラウドでシステムを構築したい…など企業によ
 って要望も様々です。\n今回、ご紹介するRocket.Chatは、
 OSS（オープンソースソフトウェア）のビジネスチャッ
 トツールです。Rocket.Chatでは、LINEやFacebook Messangerのよ
 うに、一対一のコミュニケーションが可能です。また
 、LINEグループのように、グループでのコミュニケーシ
 ョンも実現します。また、他のソフトウェアと連携さ
 せWeb会議や会話ログも取ることができます。本セミナ
 ーでは、Rocket.Chatの機能や特徴そしてRocket.Chatの外部連
 携についてご紹介します。\nアジェンダ\n\nビジネスチ
 ャットとは\nビジネスチャットのメリット\nOSSのチャッ
 トシステムRocket.chatとは\nRocket.chat特徴\nRocket.chatの外部
 連携（Web会議・ログ）\n他のOSSチャットシステムとの
 違い\nまとめ\n質疑応答\n\n講習条件\n\n社内コミュニケ
 ーションや生産性向上に課題をお持ちの担当者/責任者
 \nビジネスチャットの導入をご検討中の担当者/責任者\
 nビジネスチャットを導入したが活用できていない企業
 の担当者/責任者\n\nセミナースケジュール\n\n14：50 ～
 　　　　 ログイン可能時間\n15：00 ～ 15：45　社内のコ
 ミュニケーション活性化!OSSのチャットシステム「Rocket
 .Chat」ご紹介セミナー\n15：45 ～ 16：00　質疑応答\n
LOCATION:オンライン
URL:https://techplay.jp/event/850125?utm_medium=referral&utm_source=ics&utm
 _campaign=ics
END:VEVENT
END:VCALENDAR
