BEGIN:VCALENDAR
VERSION:2.0
PRODID:-//https://techplay.jp//JP
CALSCALE:GREGORIAN
METHOD:PUBLISH
X-WR-CALDESC:Google検索1位にあなたのHPを表示させる自社ホ
 ームページSEO強化セミナー
X-WR-CALNAME:Google検索1位にあなたのHPを表示させる自社ホ
 ームページSEO強化セミナー
X-WR-TIMEZONE:Asia/Tokyo
BEGIN:VTIMEZONE
TZID:Asia/Tokyo
BEGIN:STANDARD
DTSTART:19700101T000000
TZOFFSETFROM:+0900
TZOFFSETTO:+0900
TZNAME:JST
END:STANDARD
END:VTIMEZONE
BEGIN:VEVENT
UID:850303@techplay.jp
SUMMARY:Google検索1位にあなたのHPを表示させる自社ホーム
 ページSEO強化セミナー
DTSTART;TZID=Asia/Tokyo:20220303T140000
DTEND;TZID=Asia/Tokyo:20220303T150000
DTSTAMP:20260425T140355Z
CREATED:20220301T042601Z
DESCRIPTION:イベント詳細はこちら\nhttps://techplay.jp/event/85030
 3?utm_medium=referral&utm_source=ics&utm_campaign=ics\n\nGoogle検索1位
 にあなたのHPを表示させる自社ホームページSEO強化セ
 ミナー\n概要\n今回のセミナーでは\n・アクセスが減り
 リード獲得(問合せ)や売上も減少している・コンテン
 ツマーケティングを任せる業者が見つからない・狙っ
 ている検索キーワードでGoogle検索順位が上がらない\n
 この３つの課題を解決できます。\n今回セミナー参加
 者限定で、弊社のSEO対策無料診断（30分）の特典付き
 です。\n無料診断ではHPへ集客できない原因を専門家が
 特定し、改善策のご提案をします。\n※無料相談の注
 意事項・1社1回限定となります。・参加申し込み時に
 ホームページURL、お名前、連絡先を入力いただいた方
 限定となります。ご了承ください。※営業は一切致し
 ませんのでご安心ください。セミナー中にも質問を受
 け付けております。お時間が許す限りお答えしますの
 で、アンケートもしくは当日ライブチャットにてご質
 問ください。アンケート内容をもとに事例をご紹介し
 ますので、アンケートには可能な限りお答えください
 。\nタイムスケジュール\n\n\n\n時間\n内容\n\n\n\n\n13：50
 ～\n受付開始\n\n\n14：00～\nセミナー開始\n\n\n\n1.問い合
 わせ獲得と成約につながった事例\n\n\n\n2.成約につなが
 る問い合わせを獲得できない３つの原因\n\n\n\n3.HPを強
 化するために明日からできるSEO対策\n\n\n\n4.質問タイム
 \n\n\n\n※ 当日予告なく時間配分・内容が変更になる可
 能性がございます。　出欠確認のため5分前には受付を
 お願いします。　ライブチャットにて、登録されたお
 名前をご入力ください。\n登壇者\n株式会社スフィアネ
 ットWEBディレクター全日本SEO検定1級取得者原志穂\n中
 学時代に祖父が経営する写真館が歴史も実績もあるに
 もかかわらず、店舗集客に問題を抱えて借金まみれに
 なった経験から集客や経営で結果をだせる専門家にな
 るために商業高校に入学。\n前職の信用組合では集客
 に苦しみ融資や経営が厳しくなっている個人商店や小
 企業の多さに驚き、改めて、集客の大切さを痛感する
 も自分では何も集客で貢献できない苦しみを味わう。\
 nそこで、小さな企業が伸びるにはwebでの集客が必要不
 可欠と気づく\n2019.7月入社\nwebディレクターとして、半
 導体、電化製品メーカー、写真館、IT会社などのホー
 ムページ集客支援を担当して、成約につながるアクセ
 スアップにこだわり続けて、現在に至ります。\n検索
 した時に自分のホームページがでてこない、もっと問
 い合わせや売上を増やしたいという問題を抱えたお客
 様にとって、最高の解決策をご提案できればと感じて
 おります。\n当日はお気軽にご質問ください。\n参加対
 象\n・アクセスが減りリード獲得(問合せ)や売上も減少
 している方・コンテンツマーケティングを任せる業者
 が見つからない方・狙っている検索キーワードでGoogle
 検索順位が上がらない方\n参加費\n無料\nハッシュタグ\
 n#techplayjp\n注意事項\n\n\nWEBのみの開催となりますので
 、ご了承ください。\n競合、同業社様（求人広告代理
 店、ウェブ広告代理店等）のご参加はお断りいたしま
 す。\nお申し込み後にやむを得ずご欠席される場合は
 、お手数ですが前日までに（hara@sphere-net.co.jp　担当:原
 ）宛にご連絡ください。\n迷惑フォルダに視聴用URLメ
 ールが届く場合がございます。参加者の方には視聴用U
 RLとセミナー当日のご案内メールの２通届きますので
 ご注意ください。\n
LOCATION:オンライン
URL:https://techplay.jp/event/850303?utm_medium=referral&utm_source=ics&utm
 _campaign=ics
END:VEVENT
END:VCALENDAR
