BEGIN:VCALENDAR
VERSION:2.0
PRODID:-//https://techplay.jp//JP
CALSCALE:GREGORIAN
METHOD:PUBLISH
X-WR-CALDESC:[会場開催]ラズパイでIoTプロトタイプを作る！
 －スマートロックPoC開発
X-WR-CALNAME:[会場開催]ラズパイでIoTプロトタイプを作る！
 －スマートロックPoC開発
X-WR-TIMEZONE:Asia/Tokyo
BEGIN:VTIMEZONE
TZID:Asia/Tokyo
BEGIN:STANDARD
DTSTART:19700101T000000
TZOFFSETFROM:+0900
TZOFFSETTO:+0900
TZNAME:JST
END:STANDARD
END:VTIMEZONE
BEGIN:VEVENT
UID:850364@techplay.jp
SUMMARY:[会場開催]ラズパイでIoTプロトタイプを作る！－
 スマートロックPoC開発
DTSTART;TZID=Asia/Tokyo:20220318T152200
DTEND;TZID=Asia/Tokyo:20220318T180000
DTSTAMP:20260420T022136Z
CREATED:20220301T062318Z
DESCRIPTION:イベント詳細はこちら\nhttps://techplay.jp/event/85036
 4?utm_medium=referral&utm_source=ics&utm_campaign=ics\n\nPoC（Proof of C
 oncept）という言葉を最近よく聞くけど、どういうこと
 ？\n本開発の前に検証やデモンストレーションを指すPo
 C（Proof of Concept）、いわゆる「概念実証」の重要性が
 高まっています。\n新しい概念やアイデアには、不確
 実性がどうしても発生してしまうため、早い段階でリ
 スクを把握できるメリットがあります。\nこの概念実
 証（PoC）を繰り返すことで、少しずつ機能強化や対応
 領域を広げていくことが適しているといわれています
 。\n今回、TEQSではPoCの概念とPoC開発の事例を学ぶセミ
 ナーを開催します。\n最近よく目にするようになった
 スマートロックの開発を学べます。\n制御装置としてRa
 spberry Pi 3を活用し、Wi-Fiに接続されたスマートフォン
 からの操作で、遠隔のモーターを動かす事例となりま
 す。\nぜひ、本セミナーでPoC開発について学んでみま
 せんか。\n※セミナーに使用するRaspberry Pi 3、キーボー
 ド、マウスはTEQSの備品を用います。※持ち帰りの機材
 はございません。\nセミナー構成（予定）\n・PoCについ
 て・スマートロックのPoC仕様と使用センサーについて
 ・Raspberry Pi 3の基本操作・PoC開発（ハンズオン）\n※セ
 ミナーに使用するRaspberry Pi 3、キーボード、マウスはTE
 QSの備品を用います。※持ち帰りの機材はございませ
 ん。\n対象者\n・IoTマイコンを触ってみたい方・PoCの概
 念を知りたい方\nこの講座の到達目標\n・PoCの概念を学
 び、開発事例を体験する。\n講師\n植田　崇靖　氏（合
 同会社UESEI）合同会社UESEI代表３Dデザイナー第2種電気
 工事士、応用情報技術者\nマイコン開発、IOT、AI、DBIOT\
 ,機械学習などの講師を担当。自動追尾台車の開発製造
 http://www.karugamochan.com\n講座形式\nPC実習型（ハンズオン
 ）\n※筆記用具をお持ちください
LOCATION:ソフト産業プラザTEQS 〒559-0034 大阪市住之江区南
 港北2-1-10 ATCビルITM棟 6階
URL:https://techplay.jp/event/850364?utm_medium=referral&utm_source=ics&utm
 _campaign=ics
END:VEVENT
END:VCALENDAR
