BEGIN:VCALENDAR
VERSION:2.0
PRODID:-//https://techplay.jp//JP
CALSCALE:GREGORIAN
METHOD:PUBLISH
X-WR-CALDESC:マーケティング×インサイドセールス　両組織
 から語るナーチャリング戦略・実践のリアル
X-WR-CALNAME:マーケティング×インサイドセールス　両組織
 から語るナーチャリング戦略・実践のリアル
X-WR-TIMEZONE:Asia/Tokyo
BEGIN:VTIMEZONE
TZID:Asia/Tokyo
BEGIN:STANDARD
DTSTART:19700101T000000
TZOFFSETFROM:+0900
TZOFFSETTO:+0900
TZNAME:JST
END:STANDARD
END:VTIMEZONE
BEGIN:VEVENT
UID:850454@techplay.jp
SUMMARY:マーケティング×インサイドセールス　両組織か
 ら語るナーチャリング戦略・実践のリアル
DTSTART;TZID=Asia/Tokyo:20220310T110000
DTEND;TZID=Asia/Tokyo:20220310T120000
DTSTAMP:20260421T125536Z
CREATED:20220302T005051Z
DESCRIPTION:イベント詳細はこちら\nhttps://techplay.jp/event/85045
 4?utm_medium=referral&utm_source=ics&utm_campaign=ics\n\nマーケティ
 ング×インサイドセールス　両組織から語るナーチャ
 リング戦略・実践のリアル\nこんな方におすすめ\n\nリ
 ード数は増えたが商談や受注につながらない\n営業の
 効率化に興味がある\n売上を上げるインサイドセール
 ス組織を作りたい\nナーチャリングをどのように行え
 ばよいかわからない\n営業効率化に適したツールを知
 りたい\n効果的なメール営業を知りたい\nマーケティン
 グオートメーションを活用したい\n\n概要\n大小に関わ
 らず多くの企業様が柔軟な働き方を模索し、実際に取
 り組んでいます。生産性の高い営業組織を実現する方
 法の1つとしてインサイドセールスが急激に注目を浴び
 ました。\nしかしながら、インサイドセールスは成果
 が出るまでに様々な課題も多く見られるというのが現
 状です。特に昨今だと、オンライン化が加速したこと
 によりウェビナー開催やイベント出展などで「リード
 数は増えたものの、商談・受注につながらない」とい
 う課題がよく挙げられます。そこで重要になるのが、
 マーケティング部門との連携や新規リード獲得のみに
 頼らないナーチャリング施策です。\n今回は、マーケ
 ティング全般の支援をされている株式会社イノーバと
 インサイドセールス支援を行うスマートキャンプで、
 実際に行っているナーチャリング体制や手法、それに
 よる成果などを余すことなく議論いたします。奮って
 ご参加くださいませ。\nタイムスケジュール\n\n\n\n時間
 \n内容\n\n\n\n\n11:00〜\nオープニング\n\n\n11:05～12:00\nパネ
 ルディスカッション「ナーチャリング戦略・実践のリ
 アル」＋質疑応答\n\n\n12:00\n終了予定\n\n\n\n※ 当日予告
 なく時間配分・内容が変更になる可能性がございます
 。\n登壇者\n\nスマートキャンプ株式会社　BALES CLOUD事
 業本部 営業統括部 部長補佐　瀧下 遥香\n\n株式会社イ
 ノーバ　マーテック部 マーケティングG マネージャー
 　山野 亮\n\n（モデレーター）スマートキャンプ株式
 会社　BALESカンパニー マーケティング本部 チームリー
 ダー　倉光 悠斗\n\n\n詳細\n詳細は申し込みページより
 ご覧いただきお申込みください！
LOCATION:オンライン
URL:https://techplay.jp/event/850454?utm_medium=referral&utm_source=ics&utm
 _campaign=ics
END:VEVENT
END:VCALENDAR
